- Раздел: Другое, разное
- Дата съёмки: неизвестно
- Дата загрузки фото: 10.04.2022 15:42
- Оригинальная фотография: 2800 x 4200 (1,8 Мб)
- Технические характеристики:
- Фотоаппарат: Sony ILCE-7M2
- Выдержка: 0,0
- Гиперфокальное расстояние: inf m
- Диафрагма: 2,8
- Светочувствительность: 50
- Фокусное расстояние: 85,0 mm (35 mm equivalent: 85,0 mm)
- Полный EXIF
- Adobe
- ColorTransform: YCbCr
- Composite
- Aperture: 2,8
- CircleOfConfusion: 0,030 mm
- FOV: 23,0 deg
- FocalLength35efl: 85,0 mm (35 mm equivalent: 85,0 mm)
- HyperfocalDistance: inf m
- Megapixels: 11,8
- ScaleFactor35efl: 1,0
- ShutterSpeed: 0,0
- ExifIFD
- ApertureValue: 2,0
- BrightnessValue: 7,603125
- ColorSpace: sRGB
- Contrast: Normal
- CreateDate: 2019:07:25 11:53:50
- CustomRendered: Normal
- DateTimeOriginal: 2019:07:25 11:53:50
- DigitalZoomRatio: 1
- ExifImageHeight: 4200
- ExifImageWidth: 2800
- ExposureCompensation: 0
- ExposureMode: Manual
- ExposureProgram: Manual
- ExposureTime: 0,0
- FNumber: 2,8
- Flash: Off, Did not fire
- FocalLength: 85,0 mm
- FocalLengthIn35mmFormat: 85 mm
- ISO: 50
- LensInfo: 85mm f/1.8
- LensModel: FE 85mm F1.8
- LightSource: Unknown
- MaxApertureValue: 1,4
- MeteringMode: Multi-segment
- RecommendedExposureIndex: 50
- Saturation: Normal
- SceneCaptureType: Standard
- SceneType: Directly photographed
- SensitivityType: Recommended Exposure Index
- Sharpness: Normal
- ShutterSpeedValue: 1/256
- WhiteBalance: Manual
- ICC-header
- ICC-meas
- ICC-view
- IFD0
- BitsPerSample: 8 8 8
- ImageHeight: 6000
- ImageWidth: 4000
- Make: SONY
- Model: ILCE-7M2
- ModifyDate: 2019:07:25 17:38:46
- Orientation: Horizontal (normal)
- PhotometricInterpretation: RGB
- SamplesPerPixel: 3
- IFD1
- IPTC
- DateCreated: 2019:07:25
- System
- XMP-aux
- LateralChromaticAberrationCorrectionAlreadyApplied: True
- Lens: FE 85mm F1.8
- LensDistortInfo: 1070405137/1073741824 12388653/1073741824 -11290820/1073741824 -620670/1073741824
- VignetteCorrectionAlreadyApplied: True
- XMP-crs
- AlreadyApplied: True
- AutoLateralCA: 0
- Blacks2012: +59
- BlueHue: -5
- BlueSaturation: +37
- CameraProfile: Camera Standard
- Clarity2012: +3
- ColorNoiseReduction: 25
- ColorNoiseReductionDetail: 50
- ColorNoiseReductionSmoothness: 50
- ColorTemperature: 5561
- Contrast2012: +2
- ConvertToGrayscale: False
- DefringeGreenAmount: 0
- DefringeGreenHueHi: 60
- DefringeGreenHueLo: 40
- DefringePurpleAmount: 0
- DefringePurpleHueHi: 70
- DefringePurpleHueLo: 30
- Dehaze: 0
- Exposure2012: -0.23
- GrainAmount: 0
- GreenHue: +11
- GreenSaturation: +17
- HasCrop: False
- HasSettings: True
- Highlights2012: -33
- HueAdjustmentAqua: -5
- HueAdjustmentBlue: +2
- HueAdjustmentGreen: +2
- HueAdjustmentMagenta: 0
- HueAdjustmentOrange: -6
- HueAdjustmentPurple: 0
- HueAdjustmentRed: +7
- HueAdjustmentYellow: -16
- LensManualDistortionAmount: 0
- LensProfileEnable: 0
- LensProfileSetup: LensDefaults
- LookName:
- LuminanceAdjustmentAqua: -4
- LuminanceAdjustmentBlue: +3
- LuminanceAdjustmentGreen: +3
- LuminanceAdjustmentMagenta: +13
- LuminanceAdjustmentOrange: +11
- LuminanceAdjustmentPurple: +12
- LuminanceAdjustmentRed: -7
- LuminanceAdjustmentYellow: +4
- LuminanceSmoothing: 0
- OverrideLookVignette: False
- ParametricDarks: +10
- ParametricHighlightSplit: 75
- ParametricHighlights: 0
- ParametricLights: +30
- ParametricMidtoneSplit: 60
- ParametricShadowSplit: 14
- ParametricShadows: 0
- PerspectiveAspect: 0
- PerspectiveHorizontal: 0
- PerspectiveRotate: 0.0
- PerspectiveScale: 100
- PerspectiveUpright: 0
- PerspectiveVertical: 0
- PerspectiveX: 0.00
- PerspectiveY: 0.00
- PostCropVignetteAmount: 0
- ProcessVersion: 11.0
- RawFileName: DSC00808.ARW
- RedHue: +6
- RedSaturation: -14
- Saturation: -5
- SaturationAdjustmentAqua: -17
- SaturationAdjustmentBlue: -42
- SaturationAdjustmentGreen: +3
- SaturationAdjustmentMagenta: -2
- SaturationAdjustmentOrange: -4
- SaturationAdjustmentPurple: -5
- SaturationAdjustmentRed: -5
- SaturationAdjustmentYellow: -52
- ShadowTint: -5
- Shadows2012: +17
- SharpenDetail: 10
- SharpenEdgeMasking: 97
- SharpenRadius: +1.0
- Sharpness: 40
- SplitToningBalance: 0
- SplitToningHighlightHue: 52
- SplitToningHighlightSaturation: 11
- SplitToningShadowHue: 241
- SplitToningShadowSaturation: 10
- Tint: +24
- ToneCurve: 0, 0, 255, 255
- ToneCurveBlue: 0, 0, 255, 255
- ToneCurveGreen: 0, 0, 255, 255
- ToneCurveName: Linear
- ToneCurveName2012: Custom
- ToneCurvePV2012: 0, 0, 48, 57, 128, 128, 195, 190, 255, 252
- ToneCurvePV2012Blue: 0, 0, 40, 26, 119, 124, 181, 200, 255, 255
- ToneCurvePV2012Green: 0, 0, 40, 25, 119, 125, 184, 197, 255, 255
- ToneCurvePV2012Red: 0, 0, 40, 26, 119, 123, 185, 195, 255, 255
- ToneCurveRed: 0, 0, 255, 255
- ToneMapStrength: 0
- Version: 11.2.1
- Vibrance: 0
- VignetteAmount: +33
- VignetteMidpoint: 38
- WhiteBalance: Custom
- Whites2012: -20
- XMP-dc
- XMP-exifEX
- XMP-xmp
- ModifyDate: 2019:07:25 17:38:46+03:00
- XMP-xmpMM
- Просмотров: 52
- Рейтинг: голосов еще нет
- Отзывов: отключены