- Раздел: Другое, разное
- Дата съёмки: 11.09.2009 00:20
- Дата загрузки фото: 11.09.2009 02:12
- Оригинальная фотография: 450 x 676 (243 Кб)
- Технические характеристики:
- Фотоаппарат: Canon EOS 450D
- Выдержка: 1/400
- Гиперфокальное расстояние: 28,09 m
- Диафрагма: 3,5
- Светочувствительность: 100
- Фокусное расстояние: 17,0 mm (35 mm equivalent: 173,8 mm)
- Полный EXIF
- Adobe
- ColorTransform: YCbCr
- Composite
- Aperture: 3,5
- CircleOfConfusion: 0,003 mm
- FOV: 11,0 deg
- FocalLength35efl: 17,0 mm (35 mm equivalent: 173,8 mm)
- HyperfocalDistance: 28,09 m
- ScaleFactor35efl: 10,2
- ShutterSpeed: 1/400
- ExifIFD
- ApertureValue: 3,5
- ColorSpace: sRGB
- CreateDate: 2009:09:06 13:25:47
- CustomRendered: Normal
- DateTimeOriginal: 2009:09:06 13:25:47
- ExifImageHeight: 676
- ExifImageWidth: 450
- ExposureCompensation: 0
- ExposureMode: Auto
- ExposureProgram: Aperture-priority AE
- ExposureTime: 1/400
- FNumber: 3,5
- Flash: Off
- FocalLength: 17,0 mm
- ISO: 100
- MaxApertureValue: 2,8
- MeteringMode: Center-weighted average
- SceneCaptureType: Standard
- ShutterSpeedValue: 1/400
- WhiteBalance: Auto
- ICC-header
- ICC-meas
- ICC-view
- IFD0
- Make: Canon
- Model: Canon EOS 450D
- ModifyDate: 2009:09:11 01:12:35
- Orientation: Horizontal (normal)
- IFD1
- IPTC
- XMP-aux
- Firmware: 1.0.9
- FlashCompensation: 0
- ImageNumber: 0
- Lens: 17-50mm
- LensInfo: 17/1 50/1 0/0 0/0
- SerialNumber: 980397874
- XMP-crs
- AlreadyApplied: True
- BlueHue: -100
- BlueSaturation: -81
- Brightness: +65
- CameraProfile: ACR 2.4
- ChromaticAberrationB: 0
- ChromaticAberrationR: 0
- Clarity: +100
- ColorNoiseReduction: 25
- Contrast: +45
- ConvertToGrayscale: True
- Defringe: 2
- Exposure: -0.57
- FillLight: 29
- GrayMixerAqua: -76
- GrayMixerBlue: -100
- GrayMixerGreen: -95
- GrayMixerMagenta: -100
- GrayMixerOrange: +48
- GrayMixerPurple: -26
- GrayMixerRed: +50
- GrayMixerYellow: -29
- GreenHue: -100
- GreenSaturation: +2
- HasCrop: False
- HasSettings: True
- HighlightRecovery: 100
- LuminanceSmoothing: 0
- ParametricDarks: +24
- ParametricHighlightSplit: 75
- ParametricHighlights: +45
- ParametricLights: 0
- ParametricMidtoneSplit: 50
- ParametricShadowSplit: 25
- ParametricShadows: -19
- PostCropVignetteAmount: 0
- RedHue: +48
- RedSaturation: +45
- ShadowTint: +17
- Shadows: 71
- SharpenDetail: 25
- SharpenEdgeMasking: 0
- SharpenRadius: +1.0
- Sharpness: 104
- SplitToningBalance: 0
- SplitToningHighlightHue: 240
- SplitToningHighlightSaturation: 1
- SplitToningShadowHue: 231
- SplitToningShadowSaturation: 5
- Temperature: 6405
- Tint: -50
- ToneCurve: 0, 0, 255, 255
- ToneCurveName: Linear
- Version: 5.3
- VignetteAmount: -80
- VignetteMidpoint: 0
- WhiteBalance: Custom
- XMP-dc
- XMP-exif
- DateTimeDigitized: 2009:09:06 13:25:47.03+03:00
- DateTimeOriginal: 2009:09:06 13:25:47.03+03:00
- FlashFired: False
- FlashFunction: False
- FlashMode: Off
- FlashRedEyeMode: False
- FlashReturn: No return detection
- XMP-tiff
- ImageHeight: 4272
- ImageWidth: 2848
- XMP-xmp
- CreateDate: 2009:09:11 00:20:44+03:00
- ModifyDate: 2009:09:11 01:12:35+03:00
- XMP-xmpMM