- Раздел: Город
- Дата съёмки: 30.09.2009 16:24
- Дата загрузки фото: 01.10.2009 01:13
- Оригинальная фотография: 2640 x 1760 (4,8 Мб)
- Технические характеристики:
- Фотоаппарат: Sigma DP1
- Выдержка: 1/40
- Гиперфокальное расстояние: 3,87 m
- Диафрагма: 4,0
- Светочувствительность: 200
- Фокусное расстояние: 16,6 mm (35 mm equivalent: 28,0 mm)
- Экспокоррекция: -0,3
- Полный EXIF
- Adobe
- ColorTransform: YCbCr
- Composite
- Aperture: 4,0
- CircleOfConfusion: 0,018 mm
- FOV: 65,0 deg
- FocalLength35efl: 16,6 mm (35 mm equivalent: 28,0 mm)
- HyperfocalDistance: 3,87 m
- ScaleFactor35efl: 1,7
- ShutterSpeed: 1/40
- ExifIFD
- ApertureValue: 4,0
- DateTimeOriginal: 2009:09:30 16:24:51
- ExposureCompensation: -0,3
- ExposureProgram: Program AE
- ExposureTime: 1/40
- FNumber: 4,0
- FocalLength: 16,6 mm
- FocalLengthIn35mmFormat: 28 mm
- ISO: 200
- MeteringMode: Multi-segment
- ShutterSpeedValue: 1/40
- ICC-header
- ICC-meas
- ICC-view
- IFD0
- Make: SIGMA
- Model: SIGMA DP1
- ModifyDate: 2009:09:30 22:29:54
- Software: 2.00
- IFD1
- XMP-aux
- Firmware: 2.00
- Lens: 16.6 mm
- LensID:
- LensInfo: 166/10 166/10 0/0 0/0
- SerialNumber: 1027043
- XMP-crs
- AlreadyApplied: True
- BlueHue: 0
- BlueSaturation: 0
- Brightness: 0
- CameraProfile: Embedded
- ChromaticAberrationB: 0
- ChromaticAberrationR: 0
- Clarity: 0
- ColorNoiseReduction: 0
- Contrast: +55
- ConvertToGrayscale: False
- Defringe: 0
- Exposure: +0.58
- FillLight: 0
- GreenHue: 0
- GreenSaturation: 0
- HasCrop: False
- HasSettings: True
- HighlightRecovery: 25
- HueAdjustmentAqua: 0
- HueAdjustmentBlue: 0
- HueAdjustmentGreen: 0
- HueAdjustmentMagenta: 0
- HueAdjustmentOrange: 0
- HueAdjustmentPurple: 0
- HueAdjustmentRed: 0
- HueAdjustmentYellow: 0
- LuminanceAdjustmentAqua: 0
- LuminanceAdjustmentBlue: 0
- LuminanceAdjustmentGreen: 0
- LuminanceAdjustmentMagenta: 0
- LuminanceAdjustmentOrange: 0
- LuminanceAdjustmentPurple: 0
- LuminanceAdjustmentRed: 0
- LuminanceAdjustmentYellow: 0
- LuminanceSmoothing: 0
- ParametricDarks: -20
- ParametricHighlightSplit: 75
- ParametricHighlights: +60
- ParametricLights: +10
- ParametricMidtoneSplit: 50
- ParametricShadowSplit: 25
- ParametricShadows: -60
- PostCropVignetteAmount: 0
- RedHue: 0
- RedSaturation: 0
- Saturation: 0
- SaturationAdjustmentAqua: +50
- SaturationAdjustmentBlue: +58
- SaturationAdjustmentGreen: +10
- SaturationAdjustmentMagenta: 0
- SaturationAdjustmentOrange: +13
- SaturationAdjustmentPurple: +23
- SaturationAdjustmentRed: 0
- SaturationAdjustmentYellow: +23
- ShadowTint: 0
- Shadows: 14
- SharpenDetail: 25
- SharpenEdgeMasking: 0
- SharpenRadius: +1.0
- Sharpness: 25
- SplitToningBalance: 0
- SplitToningHighlightHue: 0
- SplitToningHighlightSaturation: 0
- SplitToningShadowHue: 0
- SplitToningShadowSaturation: 0
- Temperature: 6750
- Tint: -23
- ToneCurve: 0, 0, 255, 255
- ToneCurveName: Linear
- Version: 5.4
- Vibrance: 0
- VignetteAmount: 0
- WhiteBalance: As Shot
- XMP-exif
- DateTimeOriginal: 2009:09:30 16:24:51+02:00
- ExifImageHeight: 1760
- ExifImageWidth: 2640
- XMP-tiff
- ImageHeight: 1760
- ImageWidth: 2640
- XMP-xmp
- CreateDate: 2009:09:30 16:24:51+02:00
- ModifyDate: 2009:09:30 22:29:54+02:00