- Раздел: Другое, разное
- Дата съёмки: 05.12.2009 12:57
- Дата загрузки фото: 08.12.2009 15:30
- Оригинальная фотография: 798 x 532 (337 Кб)
- Технические характеристики:
- Фотоаппарат: Canon EOS 450D
- Выдержка: 1/250
- Гиперфокальное расстояние: 29,71 m
- Диафрагма: 2,8
- Светочувствительность: 800
- Фокусное расстояние: 17,0 mm (35 mm equivalent: 147,0 mm)
- Полный EXIF
- Adobe
- ColorTransform: YCbCr
- Composite
- Aperture: 2,8
- CircleOfConfusion: 0,003 mm
- FOV: 13,0 deg
- FocalLength35efl: 17,0 mm (35 mm equivalent: 147,0 mm)
- HyperfocalDistance: 29,71 m
- ScaleFactor35efl: 8,6
- ShutterSpeed: 1/250
- ExifIFD
- ApertureValue: 2,8
- ColorSpace: sRGB
- CreateDate: 2009:12:05 12:57:09
- CustomRendered: Normal
- DateTimeOriginal: 2009:12:05 12:57:09
- ExifImageHeight: 532
- ExifImageWidth: 798
- ExposureCompensation: 0
- ExposureMode: Auto
- ExposureProgram: Aperture-priority AE
- ExposureTime: 1/250
- FNumber: 2,8
- Flash: Off
- FocalLength: 17,0 mm
- ISO: 800
- MaxApertureValue: 2,8
- MeteringMode: Multi-segment
- SceneCaptureType: Standard
- ShutterSpeedValue: 1/250
- WhiteBalance: Auto
- ICC-header
- ICC-meas
- ICC-view
- IFD0
- Artist: HiV
- Copyright: Ivan (HiV) Tsyrkunovich
- Make: Canon
- Model: Canon EOS 450D
- ModifyDate: 2009:12:08 14:15:58
- Orientation: Horizontal (normal)
- IFD1
- IPTC
- By-line: HiV
- City: grodno
- CopyrightNotice: Ivan (HiV) Tsyrkunovich
- Country-PrimaryLocationName: belarus
- XMP-aux
- Firmware: 1.0.9
- FlashCompensation: 0
- ImageNumber: 0
- Lens: 17-50mm
- LensID: 161
- LensInfo: 17/1 50/1 0/0 0/0
- OwnerName: Ivan HiV Tsyrkunovich
- SerialNumber: 980397874
- XMP-crs
- AlreadyApplied: True
- BlueHue: 0
- BlueSaturation: 0
- Brightness: +50
- ChromaticAberrationB: 0
- ChromaticAberrationR: 0
- Clarity: +19
- ColorNoiseReduction: 16
- ColorNoiseReductionDetail: 50
- Contrast: +25
- ConvertToGrayscale: False
- Defringe: 0
- Exposure: 0.00
- FillLight: 17
- GrainAmount: 0
- GreenHue: 0
- GreenSaturation: 0
- HasCrop: False
- HasSettings: True
- HighlightRecovery: 43
- HueAdjustmentAqua: 0
- HueAdjustmentBlue: 0
- HueAdjustmentGreen: 0
- HueAdjustmentMagenta: 0
- HueAdjustmentOrange: 0
- HueAdjustmentPurple: 0
- HueAdjustmentRed: 0
- HueAdjustmentYellow: 0
- LuminanceAdjustmentAqua: 0
- LuminanceAdjustmentBlue: -54
- LuminanceAdjustmentGreen: -6
- LuminanceAdjustmentMagenta: 0
- LuminanceAdjustmentOrange: 0
- LuminanceAdjustmentPurple: 0
- LuminanceAdjustmentRed: 0
- LuminanceAdjustmentYellow: 0
- NoiseReductionContrast: 0
- ParametricDarks: -9
- ParametricHighlightSplit: 75
- ParametricHighlights: -33
- ParametricLights: +3
- ParametricMidtoneSplit: 50
- ParametricShadowSplit: 25
- ParametricShadows: 0
- PostCropVignetteAmount: 0
- RedHue: 0
- RedSaturation: 0
- RenderVersion: 5.7
- Saturation: +5
- SaturationAdjustmentAqua: 0
- SaturationAdjustmentBlue: +17
- SaturationAdjustmentGreen: +18
- SaturationAdjustmentMagenta: 0
- SaturationAdjustmentOrange: 0
- SaturationAdjustmentPurple: 0
- SaturationAdjustmentRed: 0
- SaturationAdjustmentYellow: +10
- ShadowTint: 0
- Shadows: 5
- SharpenDetail: 23
- SharpenEdgeMasking: 21
- SharpenRadius: +0.7
- Sharpness: 79
- SplitToningBalance: -12
- SplitToningHighlightHue: 48
- SplitToningHighlightSaturation: 24
- SplitToningShadowHue: 0
- SplitToningShadowSaturation: 0
- Temperature: 4950
- Tint: -3
- ToneCurve: 0, 0, 32, 22, 64, 56, 128, 128, 192, 196, 255, 255
- ToneCurveName: Medium Contrast
- Version: 6.0
- Vibrance: +20
- VignetteAmount: -81
- VignetteMidpoint: 30
- WhiteBalance: As Shot
- XMP-dc
- Creator: HiV
- Format: image/jpeg
- Rights: Ivan (HiV) Tsyrkunovich
- XMP-exif
- DateTimeDigitized: 2009:12:05 12:57:09.03+02:00
- DateTimeOriginal: 2009:12:05 12:57:09.03+02:00
- FlashFired: False
- FlashFunction: False
- FlashMode: Off
- FlashRedEyeMode: False
- FlashReturn: No return detection
- XMP-iptcCore
- CreatorContactInfoCiAdrCity: grodno
- CreatorContactInfoCiAdrCtry: belarus
- CreatorContactInfoCiUrlWork: http://hiv-iv.livejournal.com/
- XMP-tiff
- ImageHeight: 2848
- ImageWidth: 4272
- XMP-xmp
- CreateDate: 2009:12:05 12:57:09.03+02:00
- ModifyDate: 2009:12:08 14:15:58+02:00
- XMP-xmpMM
- XMP-xmpRights
- Marked: True
- WebStatement: http://hiv-iv.livejournal.com/