- Раздел: Другое, разное
- Дата съёмки: 28.03.2010 12:45
- Дата загрузки фото: 02.04.2010 00:29
- Оригинальная фотография: 630 x 420 (276 Кб)
- Технические характеристики:
- Фотоаппарат: Canon EOS 450D
- Выдержка: 1/320
- Гиперфокальное расстояние: inf m
- Диафрагма: 8,0
- Светочувствительность: 100
- Фокусное расстояние: 17,0 mm (35 mm equivalent: 170,0 mm)
- Экспокоррекция: -1
- Полный EXIF
- Adobe
- ColorTransform: YCbCr
- Composite
- Aperture: 8,0
- CircleOfConfusion: 0,003 mm
- FOV: 12,0 deg
- FocalLength35efl: 17,0 mm (35 mm equivalent: 170,0 mm)
- HyperfocalDistance: inf m
- ScaleFactor35efl: 11,0
- ShutterSpeed: 1/320
- ExifIFD
- ApertureValue: 8,0
- ColorSpace: sRGB
- CreateDate: 2010:03:28 12:45:22
- CustomRendered: Normal
- DateTimeOriginal: 2010:03:28 12:45:22
- ExifImageHeight: 420
- ExifImageWidth: 630
- ExposureCompensation: -1
- ExposureMode: Auto
- ExposureProgram: Aperture-priority AE
- ExposureTime: 1/320
- FNumber: 8,0
- Flash: Off, Did not fire
- FocalLength: 17,0 mm
- ISO: 100
- MaxApertureValue: 2,8
- MeteringMode: Multi-segment
- SceneCaptureType: Standard
- ShutterSpeedValue: 1/320
- WhiteBalance: Manual
- ICC-header
- ICC-meas
- ICC-view
- IFD0
- Artist: http://hiv-iv.livejournal.com
- Copyright: Ivan (HiV) Tsyrkunovich
- Make: Canon
- Model: Canon EOS 450D
- ModifyDate: 2010:04:01 23:27:21
- Orientation: Horizontal (normal)
- IFD1
- IPTC
- By-line: http://hiv-iv.livejournal.com
- CopyrightNotice: Ivan (HiV) Tsyrkunovich
- System
- XMP-aux
- Firmware: 1.0.9
- FlashCompensation: 0
- ImageNumber: 0
- Lens: 17-50mm
- LensID: 161
- LensInfo: 17/1 50/1 0/0 0/0
- OwnerName: Ivan HiV Tsyrkunovich
- SerialNumber: 980397874
- XMP-crs
- AlreadyApplied: True
- BlueHue: 0
- BlueSaturation: +38
- Brightness: +66
- CameraProfile: Camera Standard dcpTool Untwist
- ChromaticAberrationB: +26
- ChromaticAberrationR: -26
- Clarity: +100
- ColorNoiseReduction: 52
- ColorNoiseReductionDetail: 50
- Contrast: +53
- ConvertToGrayscale: False
- Defringe: 0
- Exposure: -0.05
- FillLight: 29
- GradientBasedCorrActive: true
- GradientBasedCorrAmount: 1.000000
- GradientBasedCorrBrightness: 0.000000
- GradientBasedCorrClarity: 0.000000
- GradientBasedCorrContrast: 0.000000
- GradientBasedCorrExposure: -0.258000
- GradientBasedCorrHue: 240.000000
- GradientBasedCorrMaskFullX: -0.023474
- GradientBasedCorrMaskFullY: 0.049296
- GradientBasedCorrMaskValue: 1.000000
- GradientBasedCorrMaskWhat: Mask/Gradient
- GradientBasedCorrMaskZeroX: 0.361502
- GradientBasedCorrMaskZeroY: 0.172535
- GradientBasedCorrSaturation: 0.000000
- GradientBasedCorrSharpness: 0.000000
- GradientBasedCorrWhat: Correction
- GrainAmount: 0
- GreenHue: 0
- GreenSaturation: 0
- HasCrop: False
- HasSettings: True
- HighlightRecovery: 26
- HueAdjustmentAqua: +2
- HueAdjustmentBlue: +3
- HueAdjustmentGreen: +25
- HueAdjustmentMagenta: 0
- HueAdjustmentOrange: -31
- HueAdjustmentPurple: 0
- HueAdjustmentRed: +4
- HueAdjustmentYellow: -25
- LuminanceAdjustmentAqua: +100
- LuminanceAdjustmentBlue: -100
- LuminanceAdjustmentGreen: +54
- LuminanceAdjustmentMagenta: 0
- LuminanceAdjustmentOrange: 0
- LuminanceAdjustmentPurple: 0
- LuminanceAdjustmentRed: 0
- LuminanceAdjustmentYellow: 0
- LuminanceNoiseReductionContrast: 0
- LuminanceNoiseReductionDetail: 50
- LuminanceSmoothing: 20
- ParametricDarks: +49
- ParametricHighlightSplit: 75
- ParametricHighlights: +38
- ParametricLights: +13
- ParametricMidtoneSplit: 50
- ParametricShadowSplit: 25
- ParametricShadows: +13
- PostCropVignetteAmount: -2
- PostCropVignetteFeather: 50
- PostCropVignetteHighlightContrast: 0
- PostCropVignetteMidpoint: 50
- PostCropVignetteRoundness: 0
- PostCropVignetteStyle: 1
- ProcessVersion: 5.7
- RedHue: 0
- RedSaturation: 0
- Saturation: -20
- SaturationAdjustmentAqua: +100
- SaturationAdjustmentBlue: +75
- SaturationAdjustmentGreen: -13
- SaturationAdjustmentMagenta: 0
- SaturationAdjustmentOrange: +40
- SaturationAdjustmentPurple: 0
- SaturationAdjustmentRed: +10
- SaturationAdjustmentYellow: 0
- ShadowTint: 0
- Shadows: 32
- SharpenDetail: 25
- SharpenEdgeMasking: 24
- SharpenRadius: +1.0
- Sharpness: 74
- SplitToningBalance: +6
- SplitToningHighlightHue: 43
- SplitToningHighlightSaturation: 2
- SplitToningShadowHue: 0
- SplitToningShadowSaturation: 0
- Temperature: 5333
- Tint: -4
- ToneCurve: 0, 0, 255, 255
- ToneCurveName: Linear
- Version: 6.0
- Vibrance: +36
- VignetteAmount: +10
- VignetteMidpoint: 7
- WhiteBalance: Custom
- XMP-dc
- Creator: http://hiv-iv.livejournal.com
- Format: image/jpeg
- Rights: Ivan (HiV) Tsyrkunovich
- XMP-exif
- DateTimeDigitized: 2010:03:28 12:45:22.03+03:00
- DateTimeOriginal: 2010:03:28 12:45:22.03+03:00
- FlashFired: False
- FlashFunction: False
- FlashMode: Off
- FlashRedEyeMode: False
- FlashReturn: No return detection
- XMP-tiff
- ImageHeight: 2848
- ImageWidth: 4272
- XMP-xmp
- CreateDate: 2010:03:28 12:45:22.03+03:00
- ModifyDate: 2010:04:01 23:27:21+03:00
- XMP-xmpMM
- Просмотров: 282
- Рейтинг: голосов еще нет
- Отзывов: отключены