- Раздел: Другое, разное
- Дата съёмки: 28.03.2010 13:32
- Дата загрузки фото: 04.04.2010 00:57
- Оригинальная фотография: 630 x 420 (372 Кб)
- Технические характеристики:
- Фотоаппарат: Canon EOS 450D
- Выдержка: 1/250
- Гиперфокальное расстояние: inf m
- Диафрагма: 2,8
- Светочувствительность: 100
- Фокусное расстояние: 23,0 mm (35 mm equivalent: 230,0 mm)
- Полный EXIF
- Adobe
- ColorTransform: YCbCr
- Composite
- Aperture: 2,8
- CircleOfConfusion: 0,003 mm
- FOV: 8,0 deg
- FocalLength35efl: 23,0 mm (35 mm equivalent: 230,0 mm)
- HyperfocalDistance: inf m
- ScaleFactor35efl: 11,0
- ShutterSpeed: 1/250
- ExifIFD
- ApertureValue: 2,8
- ColorSpace: sRGB
- CreateDate: 2010:03:28 13:32:55
- CustomRendered: Normal
- DateTimeOriginal: 2010:03:28 13:32:55
- ExifImageHeight: 420
- ExifImageWidth: 630
- ExposureCompensation: 0
- ExposureMode: Auto
- ExposureProgram: Aperture-priority AE
- ExposureTime: 1/250
- FNumber: 2,8
- Flash: Off, Did not fire
- FocalLength: 23,0 mm
- ISO: 100
- MaxApertureValue: 2,8
- MeteringMode: Multi-segment
- SceneCaptureType: Standard
- ShutterSpeedValue: 1/250
- WhiteBalance: Auto
- ICC-header
- ICC-meas
- ICC-view
- IFD0
- Artist: http://hiv-iv.livejournal.com
- Copyright: Ivan (HiV) Tsyrkunovich
- Make: Canon
- Model: Canon EOS 450D
- ModifyDate: 2010:04:02 19:42:34
- Orientation: Horizontal (normal)
- IFD1
- IPTC
- By-line: http://hiv-iv.livejournal.com
- CopyrightNotice: Ivan (HiV) Tsyrkunovich
- System
- XMP-aux
- Firmware: 1.0.9
- FlashCompensation: 0
- ImageNumber: 0
- Lens: 17-50mm
- LensID: 161
- LensInfo: 17/1 50/1 0/0 0/0
- OwnerName: Ivan HiV Tsyrkunovich
- SerialNumber: 980397874
- XMP-crs
- AlreadyApplied: True
- BlueHue: 0
- BlueSaturation: 0
- Brightness: -12
- CameraProfile: ACR 4.4
- ChromaticAberrationB: 0
- ChromaticAberrationR: 0
- Clarity: +63
- ColorNoiseReduction: 25
- ColorNoiseReductionDetail: 50
- Contrast: +100
- ConvertToGrayscale: False
- CropAngle: 0
- CropBottom: 1
- CropHeight: 2647
- CropLeft: 0
- CropRight: 0.929577
- CropTop: 0.070423
- CropUnit: pixels
- CropWidth: 3971
- Defringe: 0
- Exposure: +0.69
- FillLight: 32
- GrainAmount: 0
- GreenHue: 0
- GreenSaturation: 0
- HasCrop: True
- HasSettings: True
- HighlightRecovery: 37
- HueAdjustmentAqua: 0
- HueAdjustmentBlue: 0
- HueAdjustmentGreen: 0
- HueAdjustmentMagenta: 0
- HueAdjustmentOrange: 0
- HueAdjustmentPurple: 0
- HueAdjustmentRed: 0
- HueAdjustmentYellow: 0
- LuminanceAdjustmentAqua: -38
- LuminanceAdjustmentBlue: -52
- LuminanceAdjustmentGreen: -66
- LuminanceAdjustmentMagenta: 0
- LuminanceAdjustmentOrange: 0
- LuminanceAdjustmentPurple: 0
- LuminanceAdjustmentRed: +52
- LuminanceAdjustmentYellow: +36
- LuminanceSmoothing: 0
- ParametricDarks: +21
- ParametricHighlightSplit: 75
- ParametricHighlights: +23
- ParametricLights: +26
- ParametricMidtoneSplit: 50
- ParametricShadowSplit: 25
- ParametricShadows: -19
- PostCropVignetteAmount: 0
- ProcessVersion: 5.7
- RedHue: 0
- RedSaturation: 0
- Saturation: +29
- SaturationAdjustmentAqua: 0
- SaturationAdjustmentBlue: 0
- SaturationAdjustmentGreen: +79
- SaturationAdjustmentMagenta: 0
- SaturationAdjustmentOrange: -3
- SaturationAdjustmentPurple: 0
- SaturationAdjustmentRed: 0
- SaturationAdjustmentYellow: 0
- ShadowTint: 0
- Shadows: 22
- SharpenDetail: 29
- SharpenEdgeMasking: 0
- SharpenRadius: +1.0
- Sharpness: 18
- SplitToningBalance: 0
- SplitToningHighlightHue: 55
- SplitToningHighlightSaturation: 22
- SplitToningShadowHue: 0
- SplitToningShadowSaturation: 0
- Temperature: 4300
- Tint: 0
- ToneCurve: 0, 0, 255, 255
- ToneCurveName: Linear
- Version: 6.0
- Vibrance: +70
- VignetteAmount: -76
- VignetteMidpoint: 19
- WhiteBalance: As Shot
- XMP-dc
- Creator: http://hiv-iv.livejournal.com
- Format: image/jpeg
- Rights: Ivan (HiV) Tsyrkunovich
- XMP-exif
- DateTimeDigitized: 2010:03:28 13:32:55.53+03:00
- DateTimeOriginal: 2010:03:28 13:32:55.53+03:00
- FlashFired: False
- FlashFunction: False
- FlashMode: Off
- FlashRedEyeMode: False
- FlashReturn: No return detection
- XMP-tiff
- ImageHeight: 2647
- ImageWidth: 3971
- XMP-xmp
- CreateDate: 2010:03:28 13:32:55.53+03:00
- ModifyDate: 2010:04:02 19:42:34+03:00
- XMP-xmpMM