- Раздел: Портрет
- Дата съёмки: 24.06.2009 10:41
- Дата загрузки фото: 05.08.2010 15:47
- Оригинальная фотография: 3008 x 1531 (1,3 Мб)
- Технические характеристики:
- Фотоаппарат: Pentax K100D Super
- Выдержка: 1/25
- Гиперфокальное расстояние: inf m
- Диафрагма: 4,5
- Светочувствительность: 400
- Фокусное расстояние: 80,0 mm (35 mm equivalent: 80,0 mm)
- Полный EXIF
- Adobe
- ColorTransform: YCbCr
- Composite
- Aperture: 4,5
- CircleOfConfusion: 0,020 mm
- FOV: 25,0 deg
- FocalLength35efl: 80,0 mm (35 mm equivalent: 80,0 mm)
- HyperfocalDistance: inf m
- ScaleFactor35efl: 1,5
- ShutterSpeed: 1/25
- ExifIFD
- ApertureValue: 4,5
- CFAPattern: [Red,Green][Green,Blue]
- Contrast: Normal
- CreateDate: 2009:06:24 10:41:41
- CustomRendered: Normal
- DateTimeOriginal: 2009:06:24 10:41:41
- ExposureCompensation: 0
- ExposureMode: Auto
- ExposureProgram: Aperture-priority AE
- ExposureTime: 1/25
- FNumber: 4,5
- Flash: Off, Did not fire
- FocalLength: 80,0 mm
- FocalLengthIn35mmFormat: 120 mm
- ISO: 400
- MeteringMode: Center-weighted average
- Saturation: Normal
- SceneCaptureType: Standard
- SceneType: Directly photographed
- SensingMethod: One-chip color area
- Sharpness: Normal
- ShutterSpeedValue: 1/25
- SubjectDistanceRange: Close
- WhiteBalance: Auto
- ICC-header
- ICC-meas
- ICC-view
- IFD0
- ImageDescription:
- Make: PENTAX Corporation
- Model: PENTAX K100D Super
- ModifyDate: 2009:06:25 14:32:27
- Orientation: Mirror horizontal
- IPTC
- Caption-Abstract:
- ObjectName:
- System
- XMP-aux
- Lens: smc PENTAX-DA 50-200mm F4-5.6 ED
- LensID: 4 250
- LensInfo: 500/10 2000/10 40/10 56/10
- XMP-crs
- AlreadyApplied: True
- BlueHue: +11
- BlueSaturation: -70
- Brightness: +57
- CameraProfile: ACR 4.4
- ChromaticAberrationB: 0
- ChromaticAberrationR: 0
- Clarity: 0
- ColorNoiseReduction: 25
- Contrast: +25
- ConvertToGrayscale: True
- CropAngle: 0
- CropBottom: 0.898901
- CropHeight: 1531
- CropLeft: 0
- CropRight: 1
- CropTop: 0.136264
- CropUnit: pixels
- CropWidth: 3008
- Defringe: 0
- Exposure: +0.10
- FillLight: 0
- GrayMixerAqua: -25
- GrayMixerBlue: -25
- GrayMixerGreen: -5
- GrayMixerMagenta: +40
- GrayMixerOrange: +40
- GrayMixerPurple: -25
- GrayMixerRed: +40
- GrayMixerYellow: +40
- GreenHue: +11
- GreenSaturation: +25
- HasCrop: True
- HasSettings: True
- HighlightRecovery: 55
- LuminanceSmoothing: 0
- ParametricDarks: -3
- ParametricHighlightSplit: 75
- ParametricHighlights: 0
- ParametricLights: +28
- ParametricMidtoneSplit: 50
- ParametricShadowSplit: 25
- ParametricShadows: -14
- PostCropVignetteAmount: -45
- PostCropVignetteFeather: 65
- PostCropVignetteMidpoint: 32
- PostCropVignetteRoundness: +81
- RedHue: +96
- RedSaturation: +3
- ShadowTint: +8
- Shadows: 17
- SharpenDetail: 25
- SharpenEdgeMasking: 0
- SharpenRadius: +1.0
- Sharpness: 25
- SplitToningBalance: 0
- SplitToningHighlightHue: 0
- SplitToningHighlightSaturation: 0
- SplitToningShadowHue: 0
- SplitToningShadowSaturation: 0
- Temperature: 12500
- Tint: +35
- ToneCurve: 0, 0, 255, 255
- ToneCurveName: Linear
- Version: 4.6
- VignetteAmount: -50
- VignetteMidpoint: 34
- WhiteBalance: Custom
- XMP-dc
- XMP-exif
- CFAPatternColumns: 2
- CFAPatternRows: 2
- CFAPatternValues: 0, 1, 1, 2
- DateTimeDigitized: 2009:06:24 10:41:41+03:00
- DateTimeOriginal: 2009:06:24 10:41:41+03:00
- ExifImageHeight: 1531
- ExifImageWidth: 3008
- FlashFired: False
- FlashFunction: False
- FlashMode: Off
- FlashRedEyeMode: False
- FlashReturn: No return detection
- XMP-microsoft
- XMP-tiff
- ImageHeight: 1531
- ImageWidth: 3008
- XMP-x
- XMP-xmp
- CreateDate: 2009:06:24 10:41:41+03:00
- ModifyDate: 2009:06:25 14:32:27+03:00
- Rating: 0
- Просмотров: 345
- Рейтинг: голосов еще нет
- Отзывов: 0