- Раздел: Другое, разное
- Дата съёмки: 15.08.2010 14:10
- Дата загрузки фото: 15.08.2010 22:14
- Оригинальная фотография: 2929 x 1966 (1,5 Мб)
- Технические характеристики:
- Фотоаппарат: Canon EOS 550D
- Выдержка: 1/400
- Гиперфокальное расстояние: inf m
- Диафрагма: 5,6
- Светочувствительность: 200
- Фокусное расстояние: 50,0 mm (35 mm equivalent: 100,0 mm)
- Полный EXIF
- Adobe
- ColorTransform: YCbCr
- Composite
- Aperture: 5,6
- CircleOfConfusion: 0,011 mm
- FOV: 20,0 deg
- FocalLength35efl: 50,0 mm (35 mm equivalent: 100,0 mm)
- HyperfocalDistance: inf m
- ScaleFactor35efl: 2,8
- ShutterSpeed: 1/400
- ExifIFD
- ApertureValue: 5,6
- CreateDate: 2010:08:15 14:10:30
- CustomRendered: Normal
- DateTimeOriginal: 2010:08:15 14:10:30
- ExposureCompensation: 0
- ExposureMode: Auto
- ExposureProgram: Not Defined
- ExposureTime: 1/400
- FNumber: 5,6
- Flash: Off, Did not fire
- FocalLength: 50,0 mm
- ISO: 200
- MaxApertureValue: 1,8
- MeteringMode: Multi-segment
- SceneCaptureType: Standard
- ShutterSpeedValue: 1/400
- WhiteBalance: Auto
- ICC-header
- ICC-meas
- ICC-view
- IFD0
- Artist: zava
- Copyright: zava(c)ins
- Make: Canon
- Model: Canon EOS 550D
- ModifyDate: 2010:08:15 22:04:43
- IFD1
- IPTC
- By-line: zava
- CopyrightNotice: zava(c)ins
- System
- XMP-aux
- Firmware: 1.0.8
- FlashCompensation: 0
- ImageNumber: 0
- Lens: EF50mm f/1.8 II
- LensID: 29
- LensInfo: 50/1 50/1 0/0 0/0
- SerialNumber: 332100137
- XMP-crs
- AlreadyApplied: True
- BlueHue: 0
- BlueSaturation: 0
- Brightness: +64
- ChromaticAberrationB: 0
- ChromaticAberrationR: 0
- Clarity: +21
- ColorNoiseReduction: 25
- ColorNoiseReductionDetail: 50
- Contrast: +46
- ConvertToGrayscale: False
- CropAngle: -1.47754
- CropBottom: 0.693801
- CropConstrainToWarp: 1
- CropLeft: 0.230763
- CropRight: 0.805295
- CropTop: 0.147206
- Defringe: 0
- Exposure: +0.40
- FillLight: 18
- GrainAmount: 0
- GreenHue: 0
- GreenSaturation: 0
- HasCrop: True
- HasSettings: True
- HighlightRecovery: 0
- HueAdjustmentAqua: 0
- HueAdjustmentBlue: 0
- HueAdjustmentGreen: 0
- HueAdjustmentMagenta: 0
- HueAdjustmentOrange: 0
- HueAdjustmentPurple: 0
- HueAdjustmentRed: 0
- HueAdjustmentYellow: 0
- LensManualDistortionAmount: 0
- LensProfileEnable: 0
- LensProfileSetup: LensDefaults
- LuminanceAdjustmentAqua: 0
- LuminanceAdjustmentBlue: -3
- LuminanceAdjustmentGreen: 0
- LuminanceAdjustmentMagenta: 0
- LuminanceAdjustmentOrange: 0
- LuminanceAdjustmentPurple: 0
- LuminanceAdjustmentRed: 0
- LuminanceAdjustmentYellow: 0
- LuminanceNoiseReductionContrast: 0
- LuminanceNoiseReductionDetail: 50
- LuminanceSmoothing: 43
- ParametricDarks: +3
- ParametricHighlightSplit: 75
- ParametricHighlights: 0
- ParametricLights: 0
- ParametricMidtoneSplit: 50
- ParametricShadowSplit: 25
- ParametricShadows: +5
- PerspectiveHorizontal: 0
- PerspectiveRotate: 0.0
- PerspectiveScale: 100
- PerspectiveVertical: 0
- PostCropVignetteAmount: 0
- ProcessVersion: 5.7
- RawFileName: IMG_2722.CR2
- RedHue: 0
- RedSaturation: 0
- Saturation: 0
- SaturationAdjustmentAqua: 0
- SaturationAdjustmentBlue: +49
- SaturationAdjustmentGreen: 0
- SaturationAdjustmentMagenta: 0
- SaturationAdjustmentOrange: +3
- SaturationAdjustmentPurple: 0
- SaturationAdjustmentRed: 0
- SaturationAdjustmentYellow: +12
- ShadowTint: 0
- Shadows: 14
- SharpenDetail: 25
- SharpenEdgeMasking: 0
- SharpenRadius: +1.0
- Sharpness: 49
- SplitToningBalance: 0
- SplitToningHighlightHue: 0
- SplitToningHighlightSaturation: 0
- SplitToningShadowHue: 0
- SplitToningShadowSaturation: 0
- Temperature: 4850
- Tint: -3
- ToneCurve: 0, 0, 32, 22, 64, 56, 128, 128, 192, 196, 255, 255
- ToneCurveName: Medium Contrast
- Version: 6.1
- Vibrance: 0
- VignetteAmount: 0
- WhiteBalance: As Shot
- XMP-dc
- Creator: zava
- Rights: zava(c)ins
- XMP-exif
- DateTimeDigitized: 2010:08:15 14:10:30.50+04:00
- DateTimeOriginal: 2010:08:15 14:10:30.50+04:00
- ExifImageHeight: 1966
- ExifImageWidth: 2929
- ExposureProgram: Unknown (0)
- FlashFired: False
- FlashFunction: False
- FlashMode: Off
- FlashRedEyeMode: False
- FlashReturn: No return detection
- XMP-tiff
- ImageHeight: 1966
- ImageWidth: 2929
- XMP-xmp
- CreateDate: 2010:08:15 14:10:30.50+04:00
- ModifyDate: 2010:08:15 22:04:43+04:00
- Rating: 0