- Раздел: Путешествия
- Дата съёмки: 29.09.2010 15:37
- Дата загрузки фото: 03.10.2010 18:57
- Оригинальная фотография: 2000 x 1333 (1,7 Мб)
- Технические характеристики:
- Фотоаппарат: Canon EOS-1D Mark III
- Выдержка: 1/125
- Гиперфокальное расстояние: inf m
- Диафрагма: 3,5
- Светочувствительность: 200
- Фокусное расстояние: 16,0 mm (35 mm equivalent: 32,0 mm)
- Полный EXIF
- Adobe
- ColorTransform: YCbCr
- Composite
- Aperture: 3,5
- CircleOfConfusion: 0,012 mm
- DOF: inf (0,00 m - inf)
- FOV: 58,0 deg
- FocalLength35efl: 16,0 mm (35 mm equivalent: 32,0 mm)
- HyperfocalDistance: inf m
- ScaleFactor35efl: 2,5
- ShutterSpeed: 1/125
- ExifIFD
- ApertureValue: 3,5
- CreateDate: 2010:09:29 15:37:17
- CustomRendered: Normal
- DateTimeOriginal: 2010:09:29 15:37:17
- ExposureCompensation: 0
- ExposureMode: Auto
- ExposureProgram: Aperture-priority AE
- ExposureTime: 1/125
- FNumber: 3,5
- Flash: No Flash
- FocalLength: 16,0 mm
- ISO: 200
- LensInfo: 16-35mm f/?
- LensModel: EF16-35mm f/2.8L II USM
- MaxApertureValue: 2,8
- MeteringMode: Multi-segment
- OwnerName: demakov.ru
- SceneCaptureType: Standard
- SensitivityType: Unknown
- SerialNumber: 543680
- ShutterSpeedValue: 1/125
- SubjectDistance: 1,63 m
- WhiteBalance: Auto
- ICC-header
- ICC-meas
- ICC-view
- IFD0
- Artist: demakov.ru
- Make: Canon
- Model: Canon EOS-1D Mark III
- ModifyDate: 2010:10:03 14:09:18
- IFD1
- IPTC
- By-line: demakov.ru
- System
- XMP-aux
- ApproximateFocusDistance: 1,63
- Firmware: 1.3.0
- FlashCompensation: 0
- ImageNumber: 0
- Lens: EF16-35mm f/2.8L II USM
- LensID: 246
- XMP-crs
- AlreadyApplied: True
- BlueHue: 0
- BlueSaturation: 0
- Brightness: +50
- CameraProfile: Camera Faithful
- ChromaticAberrationB: 0
- ChromaticAberrationR: 0
- Clarity: -29
- ColorNoiseReduction: 5
- ColorNoiseReductionDetail: 50
- Contrast: +50
- ConvertToGrayscale: False
- Defringe: 0
- Exposure: 0.00
- FillLight: 0
- GrainAmount: 0
- GreenHue: 0
- GreenSaturation: 0
- HasCrop: False
- HasSettings: True
- HighlightRecovery: 0
- HueAdjustmentAqua: 0
- HueAdjustmentBlue: 0
- HueAdjustmentGreen: 0
- HueAdjustmentMagenta: 0
- HueAdjustmentOrange: 0
- HueAdjustmentPurple: 0
- HueAdjustmentRed: 0
- HueAdjustmentYellow: 0
- LensManualDistortionAmount: 0
- LensProfileEnable: 0
- LensProfileSetup: LensDefaults
- LuminanceAdjustmentAqua: 0
- LuminanceAdjustmentBlue: 0
- LuminanceAdjustmentGreen: 0
- LuminanceAdjustmentMagenta: 0
- LuminanceAdjustmentOrange: 0
- LuminanceAdjustmentPurple: 0
- LuminanceAdjustmentRed: 0
- LuminanceAdjustmentYellow: 0
- LuminanceSmoothing: 0
- ParametricDarks: +18
- ParametricHighlightSplit: 75
- ParametricHighlights: 0
- ParametricLights: 0
- ParametricMidtoneSplit: 50
- ParametricShadowSplit: 25
- ParametricShadows: 0
- PerspectiveHorizontal: 0
- PerspectiveRotate: 0.0
- PerspectiveScale: 100
- PerspectiveVertical: 0
- PostCropVignetteAmount: -13
- PostCropVignetteFeather: 50
- PostCropVignetteHighlightContrast: 0
- PostCropVignetteMidpoint: 50
- PostCropVignetteRoundness: 0
- PostCropVignetteStyle: 1
- ProcessVersion: 5.7
- RedHue: 0
- RedSaturation: 0
- Saturation: 0
- SaturationAdjustmentAqua: 0
- SaturationAdjustmentBlue: 0
- SaturationAdjustmentGreen: 0
- SaturationAdjustmentMagenta: 0
- SaturationAdjustmentOrange: 0
- SaturationAdjustmentPurple: 0
- SaturationAdjustmentRed: 0
- SaturationAdjustmentYellow: 0
- ShadowTint: 0
- Shadows: 5
- SharpenDetail: 25
- SharpenEdgeMasking: 0
- SharpenRadius: +1.0
- Sharpness: 0
- SplitToningBalance: 0
- SplitToningHighlightHue: 0
- SplitToningHighlightSaturation: 0
- SplitToningShadowHue: 0
- SplitToningShadowSaturation: 0
- Temperature: 6138
- Tint: -3
- ToneCurve: 0, 0, 32, 22, 64, 56, 128, 128, 192, 196, 255, 255
- ToneCurveName: Medium Contrast
- Version: 6.2
- Vibrance: 0
- VignetteAmount: 0
- WhiteBalance: Custom
- XMP-dc
- XMP-exif
- DateTimeDigitized: 2010:09:29 15:37:17.00+04:00
- DateTimeOriginal: 2010:09:29 15:37:17.00+04:00
- ExifImageHeight: 1333
- ExifImageWidth: 2000
- FlashFired: False
- FlashFunction: False
- FlashMode: Unknown
- FlashRedEyeMode: False
- FlashReturn: No return detection
- XMP-tiff
- ImageHeight: 1333
- ImageWidth: 2000
- XMP-xmp
- CreateDate: 2010:09:29 15:37:17.00+04:00
- ModifyDate: 2010:10:03 14:09:18Z
- Просмотров: 180
- Рейтинг: голосов еще нет
- Отзывов: отключены