Rhagium sycophanta (Schrank, 1781)
Харьковская обл., Васищево
- Раздел: Макро
- Дата съёмки: 20.05.2009 13:13
- Дата загрузки фото: 31.12.2010 01:42
- Оригинальная фотография: 1024 x 768 (252 Кб)
- Технические характеристики:
- Фотоаппарат: Canon PowerShot A640
- Выдержка: 1/750
- Гиперфокальное расстояние: inf m
- Диафрагма: 8,0
- Светочувствительность: 100
- Фокусное расстояние: 14,0 mm (35 mm equivalent: 70,0 mm)
- Полный EXIF
- Adobe
- ColorTransform: YCbCr
- Composite
- Aperture: 8,0
- CircleOfConfusion: 0,006 mm
- FOV: 28,0 deg
- FocalLength35efl: 14,0 mm (35 mm equivalent: 70,0 mm)
- HyperfocalDistance: inf m
- ScaleFactor35efl: 5,1
- ShutterSpeed: 1/750
- ExifIFD
- ApertureValue: 8,0
- ColorSpace: sRGB
- DateTimeOriginal: 2009:05:20 13:13:56
- ExifImageHeight: 768
- ExifImageWidth: 1024
- ExposureCompensation: 0
- ExposureProgram: Not Defined
- ExposureTime: 1/750
- FNumber: 8,0
- Flash: On, Fired
- FocalLength: 14,9 mm
- FocalLengthIn35mmFormat: 71 mm
- ISO: 100
- MaxApertureValue: 3,4
- MeteringMode: Multi-segment
- ShutterSpeedValue: 1/750
- ICC-header
- ICC-meas
- ICC-view
- IFD0
- Make: Canon
- Model: Canon PowerShot A640
- ModifyDate: 2009:05:21 09:38:15
- Orientation: Horizontal (normal)
- IFD1
- IPTC
- System
- XMP-crs
- AlreadyApplied: True
- BlueHue: 0
- BlueSaturation: 0
- Brightness: +50
- CameraProfile: Canon PowerShot A640 (G9 Lighter Skin Tone)
- ChromaticAberrationB: 0
- ChromaticAberrationR: 0
- Clarity: +17
- ColorNoiseReduction: 25
- Contrast: +25
- ConvertToGrayscale: False
- Defringe: 0
- Exposure: +0.60
- FillLight: 30
- GreenHue: 0
- GreenSaturation: 0
- HasCrop: False
- HasSettings: True
- HighlightRecovery: 0
- HueAdjustmentAqua: 0
- HueAdjustmentBlue: 0
- HueAdjustmentGreen: 0
- HueAdjustmentMagenta: 0
- HueAdjustmentOrange: 0
- HueAdjustmentPurple: 0
- HueAdjustmentRed: 0
- HueAdjustmentYellow: 0
- LuminanceAdjustmentAqua: 0
- LuminanceAdjustmentBlue: 0
- LuminanceAdjustmentGreen: 0
- LuminanceAdjustmentMagenta: 0
- LuminanceAdjustmentOrange: 0
- LuminanceAdjustmentPurple: 0
- LuminanceAdjustmentRed: 0
- LuminanceAdjustmentYellow: 0
- LuminanceSmoothing: 0
- ParametricDarks: 0
- ParametricHighlightSplit: 75
- ParametricHighlights: 0
- ParametricLights: 0
- ParametricMidtoneSplit: 50
- ParametricShadowSplit: 25
- ParametricShadows: 0
- PostCropVignetteAmount: 0
- RawFileName: CRW_7438.DNG
- RedHue: 0
- RedSaturation: 0
- Saturation: 0
- SaturationAdjustmentAqua: 0
- SaturationAdjustmentBlue: 0
- SaturationAdjustmentGreen: 0
- SaturationAdjustmentMagenta: 0
- SaturationAdjustmentOrange: 0
- SaturationAdjustmentPurple: 0
- SaturationAdjustmentRed: 0
- SaturationAdjustmentYellow: 0
- ShadowTint: 0
- Shadows: 1
- SharpenDetail: 25
- SharpenEdgeMasking: 0
- SharpenRadius: +1.0
- Sharpness: 25
- SplitToningBalance: 0
- SplitToningHighlightHue: 0
- SplitToningHighlightSaturation: 0
- SplitToningShadowHue: 0
- SplitToningShadowSaturation: 0
- Temperature: 5550
- Tint: +7
- ToneCurve: 0, 0, 32, 22, 64, 56, 128, 128, 192, 196, 255, 255
- ToneCurveName: Medium Contrast
- Version: 5.3
- Vibrance: +8
- VignetteAmount: 0
- WhiteBalance: Custom
- XMP-dc
- XMP-exif
- DateTimeOriginal: 2009:05:20 13:13:56+03:00
- ExposureProgram: Unknown (0)
- FlashFired: True
- FlashFunction: False
- FlashMode: On
- FlashRedEyeMode: False
- FlashReturn: No return detection
- XMP-tiff
- XMP-xmp
- CreateDate: 2009:05:20 13:13:56+03:00
- CreatorTool: CHDK ver. 0.9.0-668
- ModifyDate: 2009:05:21 09:38:15+03:00
- Rating: 0
- XMP-xmpMM
Получить код для блога
Вставка фотографии в текущем разрешении |
Вставка миниатюры |
HTML (для вставки в блог):
BBCode (для вставки в форум):
Ссылка на фото:
Ссылка на миниатюру:
- Послать ссылку другу
Комментарии к фотографии |