- Раздел: Другое, разное
- Дата съёмки: 06.06.2014 01:33
- Дата загрузки фото: 12.06.2014 15:51
- Оригинальная фотография: 1920 x 1281 (923 Кб)
- Технические характеристики:
- Фотоаппарат: Nikon D800
- Выдержка: 1/200
- Гиперфокальное расстояние: inf m
- Диафрагма: 6,3
- Светочувствительность: 200
- Фокусное расстояние: 32,0 mm (35 mm equivalent: 32,0 mm)
- Экспокоррекция: -2/3
- Полный EXIF
- Adobe
- ColorTransform: YCbCr
- Composite
- Aperture: 6,3
- CircleOfConfusion: 0,030 mm
- FOV: 58,0 deg
- FocalLength35efl: 32,0 mm (35 mm equivalent: 32,0 mm)
- HyperfocalDistance: inf m
- LensID: AF-S Nikkor 17-35mm f/2.8D IF-ED
- ScaleFactor35efl: 1,0
- ShutterSpeed: 1/200
- ExifIFD
- ApertureValue: 6,3
- CFAPattern: [Red,Green][Green,Blue]
- Contrast: Normal
- CreateDate: 2014:06:06 01:33:23
- CustomRendered: Normal
- DateTimeOriginal: 2014:06:06 01:33:23
- DigitalZoomRatio: 1
- ExposureCompensation: -2/3
- ExposureMode: Manual
- ExposureProgram: Manual
- ExposureTime: 1/200
- FNumber: 6,3
- Flash: Off, Did not fire
- FocalLength: 32,0 mm
- FocalLengthIn35mmFormat: 32 mm
- GainControl: None
- ISO: 200
- LensInfo: 17-35mm f/2.8
- LensModel: 17.0-35.0 mm f/2.8
- LightSource: Unknown
- MaxApertureValue: 2,8
- MeteringMode: Multi-segment
- Saturation: Normal
- SceneCaptureType: Standard
- SceneType: Directly photographed
- SensingMethod: One-chip color area
- SensitivityType: Recommended Exposure Index
- SerialNumber: 8002139
- Sharpness: Normal
- ShutterSpeedValue: 1/200
- SubjectDistanceRange: Unknown
- UserComment: illya@xdevs.com (C) TSEMENKO ILYA
- WhiteBalance: Auto
- ICC-header
- ICC-meas
- ICC-view
- IFD0
- Artist: Tsemenko Illya xDevs.com
- Copyright: (C)TIN
- Make: NIKON CORPORATION
- Model: NIKON D800
- ModifyDate: 2014:06:12 19:47:28
- IFD1
- IPTC
- By-line: Tsemenko Illya xDevs.com
- CopyrightNotice: (C)TIN
- DateCreated: 2014:06:06
- System
- XMP-aux
- ApproximateFocusDistance: 1
- ImageNumber: 32576
- Lens: 17.0-35.0 mm f/2.8
- LensID: 99
- XMP-crs
- AlreadyApplied: True
- AutoLateralCA: 0
- AutoWhiteVersion: 134348800
- Blacks2012: -21
- BlueHue: 0
- BlueSaturation: 0
- Clarity2012: 0
- ColorNoiseReduction: 25
- ColorNoiseReductionDetail: 50
- ColorNoiseReductionSmoothness: 50
- ColorTemperature: 4850
- Contrast2012: +57
- ConvertToGrayscale: False
- DefringeGreenAmount: 0
- DefringeGreenHueHi: 60
- DefringeGreenHueLo: 40
- DefringePurpleAmount: 0
- DefringePurpleHueHi: 70
- DefringePurpleHueLo: 30
- Exposure2012: +0.70
- GrainAmount: 0
- GreenHue: 0
- GreenSaturation: 0
- HasCrop: False
- HasSettings: True
- Highlights2012: -61
- HueAdjustmentAqua: 0
- HueAdjustmentBlue: 0
- HueAdjustmentGreen: 0
- HueAdjustmentMagenta: 0
- HueAdjustmentOrange: 0
- HueAdjustmentPurple: 0
- HueAdjustmentRed: 0
- HueAdjustmentYellow: 0
- LensManualDistortionAmount: 0
- LensProfileChromaticAberrationScale: 100
- LensProfileDistortionScale: 100
- LensProfileEnable: 1
- LensProfileFilename: NIKON D3X (Nikon AF-S Zoom-Nikkor 17-35mm f2.8D IF-ED) - RAW.lcp
- LensProfileSetup: Custom
- LensProfileVignettingScale: 100
- LuminanceAdjustmentAqua: 0
- LuminanceAdjustmentBlue: 0
- LuminanceAdjustmentGreen: 0
- LuminanceAdjustmentMagenta: 0
- LuminanceAdjustmentOrange: 0
- LuminanceAdjustmentPurple: 0
- LuminanceAdjustmentRed: 0
- LuminanceAdjustmentYellow: 0
- LuminanceSmoothing: 0
- ParametricDarks: 0
- ParametricHighlightSplit: 75
- ParametricHighlights: 0
- ParametricLights: 0
- ParametricMidtoneSplit: 50
- ParametricShadowSplit: 25
- ParametricShadows: 0
- PerspectiveAspect: 0
- PerspectiveHorizontal: 0
- PerspectiveRotate: 0.0
- PerspectiveScale: 100
- PerspectiveUpright: 0
- PerspectiveVertical: 0
- PostCropVignetteAmount: 0
- ProcessVersion: 6.7
- RedHue: 0
- RedSaturation: 0
- Saturation: 0
- SaturationAdjustmentAqua: 0
- SaturationAdjustmentBlue: 0
- SaturationAdjustmentGreen: 0
- SaturationAdjustmentMagenta: 0
- SaturationAdjustmentOrange: 0
- SaturationAdjustmentPurple: 0
- SaturationAdjustmentRed: 0
- SaturationAdjustmentYellow: 0
- ShadowTint: 0
- Shadows2012: 0
- SharpenDetail: 25
- SharpenEdgeMasking: 0
- SharpenRadius: +1.0
- Sharpness: 25
- SplitToningBalance: 0
- SplitToningHighlightHue: 0
- SplitToningHighlightSaturation: 0
- SplitToningShadowHue: 0
- SplitToningShadowSaturation: 0
- Tint: +10
- ToneCurveName2012: Linear
- ToneCurvePV2012: 0, 0, 255, 255
- ToneCurvePV2012Blue: 0, 0, 255, 255
- ToneCurvePV2012Green: 0, 0, 255, 255
- ToneCurvePV2012Red: 0, 0, 255, 255
- Version: 8.3
- Vibrance: 0
- VignetteAmount: 0
- WhiteBalance: As Shot
- Whites2012: +9
- XMP-dc
- Creator: Tsemenko Illya xDevs.com
- Format: image/jpeg
- Rights: (C)TIN
- XMP-xmp
- CreateDate: 2014:06:06 01:33:23.70
- ModifyDate: 2014:06:12 19:47:28+08:00
- Rating: 1
- XMP-xmpMM
- Просмотров: 106
- Рейтинг: голосов еще нет
- Отзывов: отключены