- Раздел: Тесты фототехники
- Дата съёмки: неизвестно
- Дата загрузки фото: 03.11.2019 13:54
- Оригинальная фотография: 6016 x 4000 (15,0 Мб)
- Технические характеристики:
- Фотоаппарат: Ricoh PENTAX K-3 II
- Выдержка: 0,0
- Гиперфокальное расстояние: inf m
- Диафрагма: 4,0
- Светочувствительность: 100
- Фокусное расстояние: 18,0 mm (35 mm equivalent: 18,0 mm)
- Экспокоррекция: -1
- Полный EXIF
- Adobe
- ColorTransform: YCbCr
- Composite
- Aperture: 4,0
- CircleOfConfusion: 0,020 mm
- FOV: 90,0 deg
- FocalLength35efl: 18,0 mm (35 mm equivalent: 18,0 mm)
- HyperfocalDistance: inf m
- LensID: Sigma 18-35mm F1.8 DC HSM
- Megapixels: 24,1
- ScaleFactor35efl: 1,5
- ShutterSpeed: 0,0
- ExifIFD
- ApertureValue: 4,0
- ColorSpace: Uncalibrated
- Contrast: Normal
- CreateDate: 2017:10:13 14:33:39
- CustomRendered: Normal
- DateTimeOriginal: 2017:10:13 14:33:39
- ExifImageHeight: 4000
- ExifImageWidth: 6016
- ExposureCompensation: -1
- ExposureMode: Manual
- ExposureProgram: Aperture-priority AE
- ExposureTime: 0,0
- FNumber: 4,0
- Flash: Off, Did not fire
- FocalLength: 18,0 mm
- FocalLengthIn35mmFormat: 27 mm
- ISO: 100
- LensInfo: 18-35mm f/1.8
- LensModel: SIGMA 18-35mm F1.8 DC HSM A013
- MeteringMode: Center-weighted average
- Saturation: Normal
- SceneCaptureType: Standard
- SensingMethod: One-chip color area
- SensitivityType: Standard Output Sensitivity
- Sharpness: Normal
- ShutterSpeedValue: 1/512
- StandardOutputSensitivity: 100
- SubjectDistanceRange: Distant
- WhiteBalance: Manual
- ICC-header
- IFD0
- Make: RICOH IMAGING COMPANY, LTD.
- Model: PENTAX K-3 II
- ModifyDate: 2019:11:03 13:29:19
- Orientation: Horizontal (normal)
- IFD1
- IPTC
- DateCreated: 2017:10:13
- System
- XMP-aux
- ApproximateFocusDistance: 4
- DistortionCorrectionAlreadyApplied: True
- LateralChromaticAberrationCorrectionAlreadyApplied: True
- Lens: SIGMA 18-35mm F1.8 DC HSM A013
- LensID: 8 31
- VignetteCorrectionAlreadyApplied: True
- XMP-crs
- AlreadyApplied: True
- AutoLateralCA: 1
- AutoWhiteVersion: 134348800
- Blacks2012: -18
- BlueHue: 0
- BlueSaturation: 0
- Clarity2012: 0
- ColorNoiseReduction: 25
- ColorNoiseReductionDetail: 50
- ColorNoiseReductionSmoothness: 50
- ColorTemperature: 5850
- Contrast2012: +7
- ConvertToGrayscale: False
- DefringeGreenAmount: 0
- DefringeGreenHueHi: 60
- DefringeGreenHueLo: 40
- DefringePurpleAmount: 0
- DefringePurpleHueHi: 70
- DefringePurpleHueLo: 30
- Dehaze: 0
- Exposure2012: +0.05
- GrainAmount: 0
- GreenHue: 0
- GreenSaturation: 0
- HasCrop: False
- HasSettings: True
- Highlights2012: -71
- HueAdjustmentAqua: 0
- HueAdjustmentBlue: 0
- HueAdjustmentGreen: 0
- HueAdjustmentMagenta: 0
- HueAdjustmentOrange: 0
- HueAdjustmentPurple: 0
- HueAdjustmentRed: 0
- HueAdjustmentYellow: 0
- LensManualDistortionAmount: 0
- LensProfileChromaticAberrationScale: 100
- LensProfileDistortionScale: 100
- LensProfileEnable: 1
- LensProfileFilename: PENTAX (SIGMA 18-35mm F1.8 DC HSM A013) - RAW.lcp
- LensProfileSetup: LensDefaults
- LensProfileVignettingScale: 100
- LookAmount: 1.000000
- LookGroup: Profiles
- LookParametersConvertToGrayscale: False
- LookParametersLookTable: E1095149FDB39D7A057BAB208837E2E1
- LookParametersProcessVersion: 11.0
- LookParametersToneCurvePV2012: 0, 0, 22, 16, 40, 35, 127, 127, 224, 230, 240, 246, 255, 255
- LookParametersToneCurvePV2012Blue: 0, 0, 255, 255
- LookParametersToneCurvePV2012Green: 0, 0, 255, 255
- LookParametersToneCurvePV2012Red: 0, 0, 255, 255
- LookParametersVersion: 11.3
- LookSupportsAmount: false
- LookSupportsMonochrome: false
- LookSupportsOutputReferred: false
- LuminanceAdjustmentAqua: 0
- LuminanceAdjustmentBlue: 0
- LuminanceAdjustmentGreen: 0
- LuminanceAdjustmentMagenta: 0
- LuminanceAdjustmentOrange: 0
- LuminanceAdjustmentPurple: 0
- LuminanceAdjustmentRed: 0
- LuminanceAdjustmentYellow: 0
- LuminanceSmoothing: 0
- OverrideLookVignette: False
- ParametricDarks: 0
- ParametricHighlightSplit: 75
- ParametricHighlights: 0
- ParametricLights: 0
- ParametricMidtoneSplit: 50
- ParametricShadowSplit: 25
- ParametricShadows: 0
- PerspectiveAspect: 0
- PerspectiveHorizontal: 0
- PerspectiveRotate: 0.0
- PerspectiveScale: 100
- PerspectiveUpright: 0
- PerspectiveVertical: 0
- PerspectiveX: 0.00
- PerspectiveY: 0.00
- PostCropVignetteAmount: 0
- ProcessVersion: 11.0
- RawFileName: IMGP1170.PEF
- RedHue: 0
- RedSaturation: 0
- Saturation: -1
- SaturationAdjustmentAqua: 0
- SaturationAdjustmentBlue: 0
- SaturationAdjustmentGreen: 0
- SaturationAdjustmentMagenta: 0
- SaturationAdjustmentOrange: 0
- SaturationAdjustmentPurple: 0
- SaturationAdjustmentRed: 0
- SaturationAdjustmentYellow: 0
- ShadowTint: 0
- Shadows2012: +44
- SharpenDetail: 25
- SharpenEdgeMasking: 0
- SharpenRadius: +1.0
- Sharpness: 40
- SplitToningBalance: 0
- SplitToningHighlightHue: 0
- SplitToningHighlightSaturation: 0
- SplitToningShadowHue: 0
- SplitToningShadowSaturation: 0
- Texture: 0
- Tint: +7
- ToneCurve: 0, 0, 32, 22, 64, 56, 128, 128, 192, 196, 255, 255
- ToneCurveBlue: 0, 0, 255, 255
- ToneCurveGreen: 0, 0, 255, 255
- ToneCurveName: Medium Contrast
- ToneCurveName2012: Linear
- ToneCurvePV2012: 0, 0, 255, 255
- ToneCurvePV2012Blue: 0, 0, 255, 255
- ToneCurvePV2012Green: 0, 0, 255, 255
- ToneCurvePV2012Red: 0, 0, 255, 255
- ToneCurveRed: 0, 0, 255, 255
- ToneMapStrength: 0
- Version: 11.3
- Vibrance: +15
- VignetteAmount: 0
- WhiteBalance: Auto
- Whites2012: +49
- XMP-dc
- XMP-exifEX
- XMP-xmp
- CreatorTool: PENTAX K-3 II Ver. 1.00
- ModifyDate: 2019:11:03 13:29:19+03:00
- Rating: 0
- XMP-xmpMM
- Просмотров: 317
- Рейтинг: голосов еще нет
- Отзывов: 0