» Участники » трамвай » Разное » Фу, какой скелет, ужас. |
Фу, какой скелет, ужас. |
Фу, какой скелет, ужас.
- Раздел: Другое, разное
- Дата съёмки: 18.12.2011 10:02
- Дата загрузки фото: 05.06.2020 21:39
- Оригинальная фотография: 600 x 782 ( 78 Кб)
- Технические характеристики:
- Фотоаппарат: Canon EOS-1Ds Mark III
- Выдержка: 0,0
- Гиперфокальное расстояние: inf m
- Диафрагма: 2,2
- Светочувствительность: 200
- Фокусное расстояние: 85,0 mm (35 mm equivalent: 510,0 mm)
- Полный EXIF
- Adobe
- ColorTransform: YCbCr
- Composite
- Aperture: 2,2
- CircleOfConfusion: 0,004 mm
- FOV: 4,0 deg
- FocalLength35efl: 85,0 mm (35 mm equivalent: 510,0 mm)
- HyperfocalDistance: inf m
- LensID: Canon EF 85mm f/1.2L or Sigma or Tamron Lens
- Megapixels: 0,469
- ScaleFactor35efl: 6,8
- ShutterSpeed: 0,0
- ExifIFD
- ApertureValue: 2,0
- ColorSpace: Uncalibrated
- CreateDate: 2011:12:18 10:02:56
- CustomRendered: Normal
- DateTimeOriginal: 2011:12:18 10:02:56
- ExifImageHeight: 782
- ExifImageWidth: 600
- ExposureCompensation: 0
- ExposureMode: Manual
- ExposureProgram: Manual
- ExposureTime: 0,0
- FNumber: 2,2
- Flash: Off, Did not fire
- FocalLength: 85,0 mm
- ISO: 200
- MaxApertureValue: 1,0
- MeteringMode: Multi-segment
- SceneCaptureType: Standard
- ShutterSpeedValue: 1/4096
- WhiteBalance: Auto
- IFD0
- BitsPerSample: 8 8 8 8
- ImageHeight: 3300
- ImageWidth: 2530
- Make: Canon
- Model: Canon EOS-1Ds Mark III
- ModifyDate: 2012:04:03 09:42:45
- Orientation: Horizontal (normal)
- PhotometricInterpretation: CMYK
- PlanarConfiguration: Chunky
- SamplesPerPixel: 4
- IFD1
- IPTC
- DateCreated: 2011:12:18
- IPTC2
- System
- XMP-aux
- Firmware: 1.2.0
- FlashCompensation: 0
- ImageNumber: 0
- Lens: EF85mm f/1.2L USM
- LensID: 137
- LensInfo: 85mm f/?
- SerialNumber: 602145
- XMP-crs
- AlreadyApplied: True
- BlueHue: 0
- BlueSaturation: 0
- Brightness: +50
- ChromaticAberrationB: 0
- ChromaticAberrationR: 0
- Clarity: 0
- ColorNoiseReduction: 45
- ColorTemperature: 5250
- Contrast: +25
- ConvertToGrayscale: False
- Defringe: 0
- Exposure: +0.15
- FillLight: 0
- GreenHue: 0
- GreenSaturation: 0
- HasCrop: False
- HasSettings: True
- HighlightRecovery: 48
- HueAdjustmentAqua: +19
- HueAdjustmentBlue: -3
- HueAdjustmentGreen: +23
- HueAdjustmentMagenta: 0
- HueAdjustmentOrange: +17
- HueAdjustmentPurple: +19
- HueAdjustmentRed: -7
- HueAdjustmentYellow: -3
- LuminanceAdjustmentAqua: -19
- LuminanceAdjustmentBlue: -12
- LuminanceAdjustmentGreen: +7
- LuminanceAdjustmentMagenta: 0
- LuminanceAdjustmentOrange: +21
- LuminanceAdjustmentPurple: +31
- LuminanceAdjustmentRed: +30
- LuminanceAdjustmentYellow: -4
- LuminanceSmoothing: 44
- ParametricDarks: +10
- ParametricHighlightSplit: 75
- ParametricHighlights: +3
- ParametricLights: +2
- ParametricMidtoneSplit: 50
- ParametricShadowSplit: 25
- ParametricShadows: +23
- PostCropVignetteAmount: 0
- RawFileName: V337586_TR_FC_BC_I.dng
- RedHue: 0
- RedSaturation: 0
- Saturation: +7
- SaturationAdjustmentAqua: +20
- SaturationAdjustmentBlue: +71
- SaturationAdjustmentGreen: +8
- SaturationAdjustmentMagenta: 0
- SaturationAdjustmentOrange: -6
- SaturationAdjustmentPurple: +30
- SaturationAdjustmentRed: -3
- SaturationAdjustmentYellow: -24
- ShadowTint: 0
- Shadows: 14
- SharpenDetail: 0
- SharpenEdgeMasking: 0
- SharpenRadius: +0.5
- Sharpness: 0
- SplitToningBalance: 0
- SplitToningHighlightHue: 0
- SplitToningHighlightSaturation: 0
- SplitToningShadowHue: 0
- SplitToningShadowSaturation: 0
- Tint: -12
- ToneCurve: 0, 0, 32, 22, 64, 56, 128, 128, 192, 196, 255, 255
- ToneCurveName: Medium Contrast
- Version: 4.6
- Vibrance: +6
- VignetteAmount: 0
- WhiteBalance: Custom
- XMP-dc
- XMP-x
- XMP-xmp
- CreateDate: 2012:02:21 09:22:48-06:00
- ModifyDate: 2012:04:03 09:42:45+04:00
- Rating: 0
- XMP-xmpMM
- XMP-xmpRights
- Просмотров: 422
- Рейтинг: голосов еще нет
- Отзывов: 0
Получить код для блога
Вставка фотографии в текущем разрешении |
Вставка миниатюры |
HTML (для вставки в блог):
BBCode (для вставки в форум):
Ссылка на фото:
Ссылка на миниатюру:
- Послать ссылку другу
Комментарии к фотографии |