- Раздел: Другое, разное
- Дата съёмки: неизвестно
- Дата загрузки фото: 12.06.2021 09:49
- Оригинальная фотография: 2317 x 3312 (981 Кб)
- Технические характеристики:
- Фотоаппарат: Canon EOS 5D
- Выдержка: 0,0
- Гиперфокальное расстояние: inf m
- Диафрагма: 2,8
- Светочувствительность: 200
- Фокусное расстояние: 50,0 mm (35 mm equivalent: 50,0 mm)
- Полный EXIF
- Adobe
- ColorTransform: YCbCr
- Composite
- Aperture: 2,8
- CircleOfConfusion: 0,030 mm
- FOV: 39,0 deg
- FocalLength35efl: 50,0 mm (35 mm equivalent: 50,0 mm)
- HyperfocalDistance: inf m
- LensID: Canon EF 50mm f/1.8 STM
- Megapixels: 7,7
- ScaleFactor35efl: 1,0
- ShutterSpeed: 0,0
- ExifIFD
- ApertureValue: 2,0
- ColorSpace: sRGB
- CreateDate: 2021:06:12 08:00:57
- CustomRendered: Normal
- DateTimeOriginal: 2021:06:12 08:00:57
- ExifImageHeight: 3312
- ExifImageWidth: 2317
- ExposureCompensation: 0
- ExposureMode: Auto
- ExposureProgram: Aperture-priority AE
- ExposureTime: 0,0
- FNumber: 2,8
- Flash: Off, Did not fire
- FocalLength: 50,0 mm
- ISO: 200
- LensInfo: 50mm f/?
- LensModel: 50.0 mm
- MaxApertureValue: 1,4
- MeteringMode: Unknown
- SceneCaptureType: Standard
- SerialNumber: 920601645
- ShutterSpeedValue: 1/1024
- WhiteBalance: Auto
- ICC-header
- ICC-meas
- ICC-view
- IFD0
- BitsPerSample: 8 8 8
- ImageHeight: 3312
- ImageWidth: 2317
- Make: Canon
- Model: Canon EOS 5D
- ModifyDate: 2021:06:12 09:44:54
- Orientation: Horizontal (normal)
- PhotometricInterpretation: RGB
- SamplesPerPixel: 3
- IFD1
- IPTC
- DateCreated: 2021:06:12
- System
- XMP-aux
- DistortionCorrectionAlreadyApplied: True
- Firmware: 1.1.1
- FlashCompensation: 0
- ImageNumber: 6
- Lens: 50.0 mm
- LensID: 4156
- VignetteCorrectionAlreadyApplied: True
- XMP-crs
- AlreadyApplied: True
- AutoLateralCA: 0
- Blacks2012: -20
- BlueHue: 0
- BlueSaturation: 0
- CameraProfile: Camera Standard
- CircGradBasedCorrActive: true
- CircGradBasedCorrAmount: 1.000000
- CircGradBasedCorrBrightness: 0.000000
- CircGradBasedCorrClarity2012: 0.000000
- CircGradBasedCorrContrast2012: 0.000000
- CircGradBasedCorrCorrectionRangeMaskColorAmount: 0.500000
- CircGradBasedCorrCorrectionRangeMaskDepthFeather: 0.500000
- CircGradBasedCorrCorrectionRangeMaskDepthMax: 1.000000
- CircGradBasedCorrCorrectionRangeMaskDepthMin: 0.000000
- CircGradBasedCorrCorrectionRangeMaskLumFeather: 0.500000
- CircGradBasedCorrCorrectionRangeMaskLumMax: 1.000000
- CircGradBasedCorrCorrectionRangeMaskLumMin: 0.000000
- CircGradBasedCorrCorrectionRangeMaskType: 0
- CircGradBasedCorrCorrectionRangeMaskVersion: +2
- CircGradBasedCorrDefringe: 0.000000
- CircGradBasedCorrExposure2012: -0.190750
- CircGradBasedCorrHighlights2012: 0.179190
- CircGradBasedCorrHue: 0.000000
- CircGradBasedCorrLocalBlacks2012: 0.000000
- CircGradBasedCorrLocalDehaze: 0.000000
- CircGradBasedCorrLocalHue: 0.000000
- CircGradBasedCorrLocalTexture: 0.000000
- CircGradBasedCorrLocalWhites2012: 0.000000
- CircGradBasedCorrLuminanceNoise: 0.000000
- CircGradBasedCorrMaskAngle: 4.022210
- CircGradBasedCorrMaskBottom: 0.777080
- CircGradBasedCorrMaskFeather: +50
- CircGradBasedCorrMaskFlipped: false
- CircGradBasedCorrMaskLeft: 0.051084
- CircGradBasedCorrMaskMidpoint: +50
- CircGradBasedCorrMaskRight: 0.640918
- CircGradBasedCorrMaskRoundness: 0
- CircGradBasedCorrMaskTop: 0.087898
- CircGradBasedCorrMaskValue: 1.000000
- CircGradBasedCorrMaskVersion: +2
- CircGradBasedCorrMaskWhat: Mask/CircularGradient
- CircGradBasedCorrMoire: 0.000000
- CircGradBasedCorrSaturation: 0.000000
- CircGradBasedCorrShadows2012: 0.000000
- CircGradBasedCorrSharpness: 0.000000
- CircGradBasedCorrTemperature: 0.000000
- CircGradBasedCorrTint: 0.000000
- CircGradBasedCorrWhat: Correction
- Clarity2012: +15
- ColorNoiseReduction: 25
- ColorNoiseReductionDetail: 50
- ColorNoiseReductionSmoothness: 50
- ColorTemperature: 5800
- Contrast2012: +6
- ConvertToGrayscale: False
- CropAngle: 4.35418
- CropBottom: 0.879645
- CropConstrainToWarp: 0
- CropLeft: 0.074032
- CropRight: 0.78984
- CropTop: 0
- DefringeGreenAmount: 0
- DefringeGreenHueHi: 60
- DefringeGreenHueLo: 40
- DefringePurpleAmount: 0
- DefringePurpleHueHi: 70
- DefringePurpleHueLo: 30
- Dehaze: 0
- Exposure2012: -0.38
- GrainAmount: 0
- GreenHue: 0
- GreenSaturation: 0
- HasCrop: True
- HasSettings: True
- Highlights2012: -93
- HueAdjustmentAqua: 0
- HueAdjustmentBlue: 0
- HueAdjustmentGreen: 0
- HueAdjustmentMagenta: 0
- HueAdjustmentOrange: 0
- HueAdjustmentPurple: 0
- HueAdjustmentRed: 0
- HueAdjustmentYellow: 0
- LensManualDistortionAmount: 0
- LensProfileChromaticAberrationScale: 100
- LensProfileDistortionScale: 100
- LensProfileEnable: 1
- LensProfileFilename: Canon EOS-1Ds Mark III (Canon EF 50mm f1.8 STM) - RAW.lcp
- LensProfileIsEmbedded: False
- LensProfileSetup: LensDefaults
- LensProfileVignettingScale: 100
- LuminanceAdjustmentAqua: 0
- LuminanceAdjustmentBlue: 0
- LuminanceAdjustmentGreen: 0
- LuminanceAdjustmentMagenta: 0
- LuminanceAdjustmentOrange: 0
- LuminanceAdjustmentPurple: 0
- LuminanceAdjustmentRed: 0
- LuminanceAdjustmentYellow: 0
- LuminanceNoiseReductionContrast: 0
- LuminanceNoiseReductionDetail: 50
- LuminanceSmoothing: 16
- OverrideLookVignette: False
- ParametricDarks: 0
- ParametricHighlightSplit: 75
- ParametricHighlights: 0
- ParametricLights: 0
- ParametricMidtoneSplit: 50
- ParametricShadowSplit: 25
- ParametricShadows: 0
- PerspectiveAspect: 0
- PerspectiveHorizontal: 0
- PerspectiveRotate: 0.0
- PerspectiveScale: 100
- PerspectiveUpright: 0
- PerspectiveVertical: 0
- PerspectiveX: 0.00
- PerspectiveY: 0.00
- PostCropVignetteAmount: 0
- ProcessVersion: 11.0
- RawFileName: IMG_8344.CR2
- RedHue: 0
- RedSaturation: 0
- Saturation: 0
- SaturationAdjustmentAqua: 0
- SaturationAdjustmentBlue: 0
- SaturationAdjustmentGreen: 0
- SaturationAdjustmentMagenta: 0
- SaturationAdjustmentOrange: 0
- SaturationAdjustmentPurple: 0
- SaturationAdjustmentRed: 0
- SaturationAdjustmentYellow: 0
- ShadowTint: 0
- Shadows2012: +94
- SharpenDetail: 25
- SharpenEdgeMasking: 0
- SharpenRadius: +1.0
- Sharpness: 35
- SplitToningBalance: 0
- SplitToningHighlightHue: 0
- SplitToningHighlightSaturation: 0
- SplitToningShadowHue: 0
- SplitToningShadowSaturation: 0
- Texture: 0
- Tint: +8
- ToneCurve: 0, 0, 255, 255
- ToneCurveBlue: 0, 0, 255, 255
- ToneCurveGreen: 0, 0, 255, 255
- ToneCurveName: Linear
- ToneCurveName2012: Linear
- ToneCurvePV2012: 0, 0, 255, 255
- ToneCurvePV2012Blue: 0, 0, 255, 255
- ToneCurvePV2012Green: 0, 0, 255, 255
- ToneCurvePV2012Red: 0, 0, 255, 255
- ToneCurveRed: 0, 0, 255, 255
- ToneMapStrength: 0
- Version: 12.4
- Vibrance: +13
- VignetteAmount: 0
- WhiteBalance: As Shot
- Whites2012: +26
- XMP-dc
- XMP-xmp
- ModifyDate: 2021:06:12 09:44:54+03:00
- XMP-xmpMM
- PreservedFileName: IMG_8344.CR2