- Раздел: Другое, разное
- Дата съёмки: 10.05.2008 10:59
- Дата загрузки фото: 11.10.2021 06:35
- Оригинальная фотография: 627 x 940 (310 Кб)
- Технические характеристики:
- Фотоаппарат: Canon EOS 10D
- Выдержка: 0,0
- Диафрагма: 7,1
- Светочувствительность: 100
- Фокусное расстояние: 17,0 mm
- Полный EXIF
- Adobe
- ColorTransform: YCbCr
- Composite
- Aperture: 7,1
- FocalLength35efl: 17,0 mm
- GPSLatitude: 51 deg 30' 35,00" N
- GPSLongitude: 31 deg 51' 48,00" E
- GPSPosition: 51 deg 30' 35,00" N, 31 deg 51' 48,00" E
- Megapixels: 0,589
- ShutterSpeed: 0,0
- ExifIFD
- ApertureValue: 5,7
- ColorSpace: sRGB
- CreateDate: 2008:05:10 10:59:44
- DateTimeOriginal: 2008:05:10 10:59:44
- ExifImageHeight: 940
- ExifImageWidth: 627
- ExposureCompensation: 0
- ExposureProgram: Program AE
- ExposureTime: 0,0
- FNumber: 7,1
- Flash: No Flash
- FocalLength: 17,0 mm
- ISO: 100
- LensInfo: 17-40mm f/?
- LensModel: 17.0-40.0 mm
- MaxApertureValue: 4,0
- MeteringMode: Center-weighted average
- OwnerName: Constantin Voutsen +79262214821
- SerialNumber: 1120404480
- ShutterSpeedValue: 1/64
- GPS
- GPSLatitude: 51 deg 30' 35,00"
- GPSLatitudeRef: North
- GPSLongitude: 31 deg 51' 48,00"
- GPSLongitudeRef: East
- GPSVersionID: 2.2.0.0
- ICC-header
- ICC-meas
- ICC-view
- IFD0
- Artist: Constantin Voutsen
- BitsPerSample: 8 8 8
- Copyright: phone +79262214821 | voutsen@gmail.com
- ImageHeight: 940
- ImageWidth: 627
- Make: Canon
- Model: Canon EOS 10D
- ModifyDate: 2014:03:13 06:30:09
- Orientation: Horizontal (normal)
- PhotometricInterpretation: RGB
- SamplesPerPixel: 3
- IFD1
- IPTC
- By-line: Constantin Voutsen
- City: Kiev
- CopyrightNotice: phone +79262214821 | voutsen@gmail.com
- Country-PrimaryLocationName: Ukraine
- DateCreated: 2008:05:10
- Keywords: 2008, Kiev, Museum, Ukraine, Zhulyany, aviation, Жуляны, Киев, Украина, авиация, музей
- Province-State: Kyiv city
- Sub-location: Solom'yans'kyi district
- System
- XMP-aux
- Firmware: 2.0.1
- Lens: 17.0-40.0 mm
- XMP-crs
- AlreadyApplied: True
- AutoLateralCA: 1
- AutoWhiteVersion: 134348800
- Blacks2012: +100
- BlueHue: 0
- BlueSaturation: 0
- CameraProfile: Camera Standard
- Clarity2012: +52
- ColorNoiseReduction: 50
- ColorNoiseReductionDetail: 10
- ColorNoiseReductionSmoothness: 80
- ColorTemperature: 6050
- Contrast2012: -20
- ConvertToGrayscale: False
- CropAngle: 1.06169
- CropBottom: 0.939285
- CropConstrainToWarp: 1
- CropLeft: 0.011257
- CropRight: 0.911124
- CropTop: 0.002833
- DefringeGreenAmount: 0
- DefringeGreenHueHi: 60
- DefringeGreenHueLo: 40
- DefringePurpleAmount: 0
- DefringePurpleHueHi: 70
- DefringePurpleHueLo: 30
- Exposure2012: +0.70
- GrainAmount: 0
- GreenHue: 0
- GreenSaturation: 0
- HasCrop: True
- HasSettings: True
- Highlights2012: -100
- HueAdjustmentAqua: 0
- HueAdjustmentBlue: -5
- HueAdjustmentGreen: 0
- HueAdjustmentMagenta: -50
- HueAdjustmentOrange: 0
- HueAdjustmentPurple: -50
- HueAdjustmentRed: 0
- HueAdjustmentYellow: 0
- LensManualDistortionAmount: 0
- LensProfileEnable: 1
- LensProfileSetup: Auto
- LuminanceAdjustmentAqua: 0
- LuminanceAdjustmentBlue: -45
- LuminanceAdjustmentGreen: +30
- LuminanceAdjustmentMagenta: 0
- LuminanceAdjustmentOrange: 0
- LuminanceAdjustmentPurple: 0
- LuminanceAdjustmentRed: 0
- LuminanceAdjustmentYellow: +43
- LuminanceNoiseReductionContrast: 0
- LuminanceNoiseReductionDetail: 0
- LuminanceSmoothing: 5
- ParametricDarks: 0
- ParametricHighlightSplit: 75
- ParametricHighlights: 0
- ParametricLights: 0
- ParametricMidtoneSplit: 50
- ParametricShadowSplit: 25
- ParametricShadows: 0
- PerspectiveAspect: 0
- PerspectiveHorizontal: 0
- PerspectiveRotate: 0.0
- PerspectiveScale: 100
- PerspectiveUpright: 0
- PerspectiveVertical: 0
- PostCropVignetteAmount: 0
- ProcessVersion: 6.7
- RedHue: 0
- RedSaturation: 0
- Saturation: -18
- SaturationAdjustmentAqua: 0
- SaturationAdjustmentBlue: +43
- SaturationAdjustmentGreen: -23
- SaturationAdjustmentMagenta: 0
- SaturationAdjustmentOrange: +5
- SaturationAdjustmentPurple: 0
- SaturationAdjustmentRed: 0
- SaturationAdjustmentYellow: +40
- ShadowTint: 0
- Shadows2012: +39
- SharpenDetail: 25
- SharpenEdgeMasking: 0
- SharpenRadius: +1.0
- Sharpness: 25
- SplitToningBalance: 0
- SplitToningHighlightHue: 0
- SplitToningHighlightSaturation: 0
- SplitToningShadowHue: 0
- SplitToningShadowSaturation: 0
- Tint: +9
- ToneCurveName2012: Linear
- ToneCurvePV2012: 0, 0, 255, 255
- ToneCurvePV2012Blue: 0, 0, 255, 255
- ToneCurvePV2012Green: 0, 0, 255, 255
- ToneCurvePV2012Red: 0, 0, 255, 255
- Version: 8.3
- Vibrance: +36
- VignetteAmount: 0
- WhiteBalance: As Shot
- Whites2012: -62
- XMP-dc
- Creator: Constantin Voutsen
- Format: image/jpeg
- Rights: phone +79262214821 | voutsen@gmail.com
- Subject: 2008, Kiev, Museum, Ukraine, Zhulyany, aviation, Жуляны, Киев, Украина, авиация, музей
- XMP-iptcCore
- CreatorCity: Moscow
- CreatorCountry: Russia
- CreatorWorkEmail: voutsen@gmail.com
- CreatorWorkTelephone: +79262214821
- CreatorWorkURL: voutsen-cv.livejournal.com
- Location: Solom'yans'kyi district
- XMP-xmp
- ModifyDate: 2014:03:13 06:30:09+04:00
- XMP-xmpMM
- XMP-xmpRights
- Просмотров: 111
- Рейтинг: голосов еще нет
- Отзывов: 2