- Раздел: Другое, разное
- Дата съёмки: 10.05.2008 11:06
- Дата загрузки фото: 12.10.2021 07:17
- Оригинальная фотография: 627 x 940 (255 Кб)
- Технические характеристики:
- Фотоаппарат: Canon EOS 10D
- Выдержка: 0,0
- Диафрагма: 10,0
- Светочувствительность: 100
- Фокусное расстояние: 21,0 mm
- Полный EXIF
- Adobe
- ColorTransform: YCbCr
- Composite
- Aperture: 10,0
- FocalLength35efl: 21,0 mm
- GPSLatitude: 51 deg 26' 33,00" N
- GPSLongitude: 31 deg 56' 53,00" E
- GPSPosition: 51 deg 26' 33,00" N, 31 deg 56' 53,00" E
- Megapixels: 0,589
- ShutterSpeed: 0,0
- ExifIFD
- ApertureValue: 8,0
- ColorSpace: sRGB
- CreateDate: 2008:05:10 11:06:16
- DateTimeOriginal: 2008:05:10 11:06:16
- ExifImageHeight: 940
- ExifImageWidth: 627
- ExposureCompensation: 0
- ExposureProgram: Program AE
- ExposureTime: 0,0
- FNumber: 10,0
- Flash: No Flash
- FocalLength: 21,0 mm
- ISO: 100
- LensInfo: 17-40mm f/?
- LensModel: 17.0-40.0 mm
- MaxApertureValue: 4,0
- MeteringMode: Center-weighted average
- OwnerName: Constantin Voutsen +79262214821
- SerialNumber: 1120404480
- ShutterSpeedValue: 1/128
- GPS
- GPSLatitude: 51 deg 26' 33,00"
- GPSLatitudeRef: North
- GPSLongitude: 31 deg 56' 53,00"
- GPSLongitudeRef: East
- GPSVersionID: 2.2.0.0
- ICC-header
- ICC-meas
- ICC-view
- IFD0
- Artist: Constantin Voutsen
- BitsPerSample: 8 8 8
- Copyright: phone +79262214821 | voutsen@gmail.com
- ImageHeight: 940
- ImageWidth: 627
- Make: Canon
- Model: Canon EOS 10D
- ModifyDate: 2014:03:13 06:30:24
- Orientation: Horizontal (normal)
- PhotometricInterpretation: RGB
- SamplesPerPixel: 3
- IFD1
- IPTC
- By-line: Constantin Voutsen
- City: Kiev
- CopyrightNotice: phone +79262214821 | voutsen@gmail.com
- Country-PrimaryLocationName: Ukraine
- DateCreated: 2008:05:10
- Keywords: 2008, Kiev, Museum, Ukraine, Zhulyany, aviation, Жуляны, Киев, Украина, авиация, музей
- Province-State: Kyiv city
- Sub-location: Solom'yans'kyi district
- System
- XMP-aux
- Firmware: 2.0.1
- Lens: 17.0-40.0 mm
- XMP-crs
- AlreadyApplied: True
- AutoLateralCA: 1
- AutoWhiteVersion: 134348800
- Blacks2012: +43
- BlueHue: 0
- BlueSaturation: 0
- CameraProfile: Camera Standard
- Clarity2012: +52
- ColorNoiseReduction: 50
- ColorNoiseReductionDetail: 10
- ColorNoiseReductionSmoothness: 80
- ColorTemperature: 6200
- Contrast2012: -23
- ConvertToGrayscale: False
- CropAngle: 0.153721
- CropBottom: 0.900685
- CropConstrainToWarp: 1
- CropLeft: 0.02003
- CropRight: 0.846257
- CropTop: 0.069648
- DefringeGreenAmount: 0
- DefringeGreenHueHi: 60
- DefringeGreenHueLo: 40
- DefringePurpleAmount: 0
- DefringePurpleHueHi: 70
- DefringePurpleHueLo: 30
- Exposure2012: +0.80
- GrainAmount: 0
- GreenHue: 0
- GreenSaturation: 0
- HasCrop: True
- HasSettings: True
- Highlights2012: -45
- HueAdjustmentAqua: 0
- HueAdjustmentBlue: -5
- HueAdjustmentGreen: 0
- HueAdjustmentMagenta: -50
- HueAdjustmentOrange: 0
- HueAdjustmentPurple: -50
- HueAdjustmentRed: 0
- HueAdjustmentYellow: 0
- LensManualDistortionAmount: 0
- LensProfileChromaticAberrationScale: 100
- LensProfileDistortionScale: 100
- LensProfileEnable: 1
- LensProfileFilename: 21b19fb4507940238e0dfc1857c462b9.lcp
- LensProfileName: Canon EOS 40D - EF17-40mm f/4L USM
- LensProfileSetup: Custom
- LensProfileVignettingScale: 100
- LuminanceAdjustmentAqua: 0
- LuminanceAdjustmentBlue: -10
- LuminanceAdjustmentGreen: +98
- LuminanceAdjustmentMagenta: 0
- LuminanceAdjustmentOrange: 0
- LuminanceAdjustmentPurple: 0
- LuminanceAdjustmentRed: 0
- LuminanceAdjustmentYellow: +93
- LuminanceNoiseReductionContrast: 0
- LuminanceNoiseReductionDetail: 0
- LuminanceSmoothing: 5
- ParametricDarks: 0
- ParametricHighlightSplit: 75
- ParametricHighlights: 0
- ParametricLights: 0
- ParametricMidtoneSplit: 50
- ParametricShadowSplit: 25
- ParametricShadows: 0
- PerspectiveAspect: 0
- PerspectiveHorizontal: 0
- PerspectiveRotate: 0.0
- PerspectiveScale: 100
- PerspectiveUpright: 1
- PerspectiveVertical: 0
- PostCropVignetteAmount: 0
- ProcessVersion: 6.7
- RedHue: 0
- RedSaturation: 0
- Saturation: 0
- SaturationAdjustmentAqua: 0
- SaturationAdjustmentBlue: +10
- SaturationAdjustmentGreen: -8
- SaturationAdjustmentMagenta: 0
- SaturationAdjustmentOrange: +5
- SaturationAdjustmentPurple: 0
- SaturationAdjustmentRed: 0
- SaturationAdjustmentYellow: +1
- ShadowTint: 0
- Shadows2012: +75
- SharpenDetail: 25
- SharpenEdgeMasking: 0
- SharpenRadius: +1.0
- Sharpness: 25
- SplitToningBalance: 0
- SplitToningHighlightHue: 0
- SplitToningHighlightSaturation: 0
- SplitToningShadowHue: 0
- SplitToningShadowSaturation: 0
- Tint: +5
- ToneCurveName2012: Linear
- ToneCurvePV2012: 0, 0, 255, 255
- ToneCurvePV2012Blue: 0, 0, 255, 255
- ToneCurvePV2012Green: 0, 0, 255, 255
- ToneCurvePV2012Red: 0, 0, 255, 255
- Version: 8.3
- Vibrance: +10
- VignetteAmount: 0
- WhiteBalance: As Shot
- Whites2012: +29
- XMP-dc
- Creator: Constantin Voutsen
- Format: image/jpeg
- Rights: phone +79262214821 | voutsen@gmail.com
- Subject: 2008, Kiev, Museum, Ukraine, Zhulyany, aviation, Жуляны, Киев, Украина, авиация, музей
- XMP-iptcCore
- CreatorCity: Moscow
- CreatorCountry: Russia
- CreatorWorkEmail: voutsen@gmail.com
- CreatorWorkTelephone: +79262214821
- CreatorWorkURL: voutsen-cv.livejournal.com
- Location: Solom'yans'kyi district
- XMP-xmp
- ModifyDate: 2014:03:13 06:30:24+04:00
- XMP-xmpMM
- XMP-xmpRights
- Просмотров: 55
- Рейтинг: голосов еще нет
- Отзывов: 0