- Раздел: Другое, разное
- Дата съёмки: 10.05.2008 11:36
- Дата загрузки фото: 12.10.2021 07:17
- Оригинальная фотография: 1300 x 867 (308 Кб)
- Технические характеристики:
- Фотоаппарат: Canon EOS 10D
- Выдержка: 0,0
- Диафрагма: 4,0
- Светочувствительность: 100
- Фокусное расстояние: 17,0 mm
- Полный EXIF
- Adobe
- ColorTransform: YCbCr
- Composite
- Aperture: 4,0
- FocalLength35efl: 17,0 mm
- GPSLatitude: 51 deg 23' 37,00" N
- GPSLongitude: 32 deg 28' 12,00" E
- GPSPosition: 51 deg 23' 37,00" N, 32 deg 28' 12,00" E
- Megapixels: 1,1
- ShutterSpeed: 0,0
- ExifIFD
- ApertureValue: 4,0
- ColorSpace: sRGB
- CreateDate: 2008:05:10 11:36:36
- DateTimeOriginal: 2008:05:10 11:36:36
- ExifImageHeight: 867
- ExifImageWidth: 1300
- ExposureCompensation: 0
- ExposureProgram: Aperture-priority AE
- ExposureTime: 0,0
- FNumber: 4,0
- Flash: No Flash
- FocalLength: 17,0 mm
- ISO: 100
- LensInfo: 17-40mm f/?
- LensModel: 17.0-40.0 mm
- MaxApertureValue: 4,0
- MeteringMode: Center-weighted average
- OwnerName: Constantin Voutsen +79262214821
- SerialNumber: 1120404480
- ShutterSpeedValue: 1/1024
- GPS
- GPSLatitude: 51 deg 23' 37,00"
- GPSLatitudeRef: North
- GPSLongitude: 32 deg 28' 12,00"
- GPSLongitudeRef: East
- GPSVersionID: 2.2.0.0
- ICC-header
- ICC-meas
- ICC-view
- IFD0
- Artist: Constantin Voutsen
- BitsPerSample: 8 8 8
- Copyright: phone +79262214821 | voutsen@gmail.com
- ImageHeight: 867
- ImageWidth: 1300
- Make: Canon
- Model: Canon EOS 10D
- ModifyDate: 2014:03:13 06:31:57
- Orientation: Horizontal (normal)
- PhotometricInterpretation: RGB
- SamplesPerPixel: 3
- IFD1
- IPTC
- By-line: Constantin Voutsen
- City: Kiev
- CopyrightNotice: phone +79262214821 | voutsen@gmail.com
- Country-PrimaryLocationName: Ukraine
- DateCreated: 2008:05:10
- Keywords: 2008, Kiev, Museum, Ukraine, Zhulyany, aviation, Жуляны, Киев, Украина, авиация, музей
- Province-State: Kyiv city
- Sub-location: Solom'yans'kyi district
- System
- XMP-aux
- Firmware: 2.0.1
- Lens: 17.0-40.0 mm
- XMP-crs
- AlreadyApplied: True
- AutoLateralCA: 1
- AutoWhiteVersion: 134348800
- Blacks2012: +100
- BlueHue: 0
- BlueSaturation: 0
- CameraProfile: Camera Standard
- Clarity2012: +89
- ColorNoiseReduction: 100
- ColorNoiseReductionDetail: 17
- ColorNoiseReductionSmoothness: 80
- ColorTemperature: 6200
- Contrast2012: -5
- ConvertToGrayscale: False
- CropAngle: 0
- CropBottom: 0.875602
- CropConstrainToWarp: 1
- CropLeft: 0
- CropRight: 0.852233
- CropTop: 0.023369
- DefringeGreenAmount: 0
- DefringeGreenHueHi: 60
- DefringeGreenHueLo: 40
- DefringePurpleAmount: 0
- DefringePurpleHueHi: 70
- DefringePurpleHueLo: 30
- Exposure2012: +0.66
- GrainAmount: 0
- GreenHue: 0
- GreenSaturation: 0
- HasCrop: True
- HasSettings: True
- Highlights2012: -86
- HueAdjustmentAqua: 0
- HueAdjustmentBlue: -5
- HueAdjustmentGreen: 0
- HueAdjustmentMagenta: -50
- HueAdjustmentOrange: 0
- HueAdjustmentPurple: -50
- HueAdjustmentRed: 0
- HueAdjustmentYellow: 0
- LensManualDistortionAmount: 0
- LensProfileEnable: 1
- LensProfileSetup: Auto
- LuminanceAdjustmentAqua: 0
- LuminanceAdjustmentBlue: -28
- LuminanceAdjustmentGreen: +62
- LuminanceAdjustmentMagenta: 0
- LuminanceAdjustmentOrange: 0
- LuminanceAdjustmentPurple: 0
- LuminanceAdjustmentRed: 0
- LuminanceAdjustmentYellow: +53
- LuminanceNoiseReductionContrast: 0
- LuminanceNoiseReductionDetail: 0
- LuminanceSmoothing: 5
- ParametricDarks: 0
- ParametricHighlightSplit: 75
- ParametricHighlights: 0
- ParametricLights: 0
- ParametricMidtoneSplit: 50
- ParametricShadowSplit: 25
- ParametricShadows: 0
- PerspectiveAspect: 0
- PerspectiveHorizontal: 0
- PerspectiveRotate: 0.0
- PerspectiveScale: 100
- PerspectiveUpright: 0
- PerspectiveVertical: 0
- PostCropVignetteAmount: 0
- ProcessVersion: 6.7
- RedHue: 0
- RedSaturation: 0
- Saturation: 0
- SaturationAdjustmentAqua: 0
- SaturationAdjustmentBlue: +43
- SaturationAdjustmentGreen: +5
- SaturationAdjustmentMagenta: 0
- SaturationAdjustmentOrange: +5
- SaturationAdjustmentPurple: 0
- SaturationAdjustmentRed: 0
- SaturationAdjustmentYellow: +10
- ShadowTint: 0
- Shadows2012: +73
- SharpenDetail: 25
- SharpenEdgeMasking: 0
- SharpenRadius: +1.0
- Sharpness: 25
- SplitToningBalance: 0
- SplitToningHighlightHue: 0
- SplitToningHighlightSaturation: 0
- SplitToningShadowHue: 0
- SplitToningShadowSaturation: 0
- Tint: +5
- ToneCurveName2012: Linear
- ToneCurvePV2012: 0, 0, 255, 255
- ToneCurvePV2012Blue: 0, 0, 255, 255
- ToneCurvePV2012Green: 0, 0, 255, 255
- ToneCurvePV2012Red: 0, 0, 255, 255
- Version: 8.3
- Vibrance: +41
- VignetteAmount: 0
- WhiteBalance: As Shot
- Whites2012: -100
- XMP-dc
- Creator: Constantin Voutsen
- Format: image/jpeg
- Rights: phone +79262214821 | voutsen@gmail.com
- Subject: 2008, Kiev, Museum, Ukraine, Zhulyany, aviation, Жуляны, Киев, Украина, авиация, музей
- XMP-iptcCore
- CreatorCity: Moscow
- CreatorCountry: Russia
- CreatorWorkEmail: voutsen@gmail.com
- CreatorWorkTelephone: +79262214821
- CreatorWorkURL: voutsen-cv.livejournal.com
- Location: Solom'yans'kyi district
- XMP-xmp
- ModifyDate: 2014:03:13 06:31:57+04:00
- XMP-xmpMM
- XMP-xmpRights
- Просмотров: 58
- Рейтинг: голосов еще нет
- Отзывов: 0