- Раздел: Автомобили
- Дата съёмки: неизвестно
- Дата загрузки фото: 22.08.2022 03:15
- Оригинальная фотография: 1502 x 998 (691 Кб)
- Технические характеристики:
- Фотоаппарат: Sony NEX-5T
- Выдержка: 1,0
- Гиперфокальное расстояние: inf m
- Диафрагма: 5,6
- Светочувствительность: 200
- Фокусное расстояние: 21,0 mm (35 mm equivalent: 21,0 mm)
- Экспокоррекция: +1
- Полный EXIF
- Composite
- Aperture: 5,6
- CircleOfConfusion: 0,020 mm
- FOV: 81,0 deg
- FocalLength35efl: 21,0 mm (35 mm equivalent: 21,0 mm)
- HyperfocalDistance: inf m
- LightValue: 3,6
- Megapixels: 1,5
- ScaleFactor35efl: 1,5
- ShutterSpeed: 1,0
- ExifIFD
- ApertureValue: 4,0
- BrightnessValue: -1,70546875
- ColorSpace: sRGB
- Contrast: Normal
- CreateDate: 2022:08:21 21:53:17
- CustomRendered: Normal
- DateTimeOriginal: 2022:08:21 21:53:17
- DigitalZoomRatio: 1
- ExifImageHeight: 998
- ExifImageWidth: 1502
- ExposureCompensation: +1
- ExposureMode: Auto
- ExposureProgram: Aperture-priority AE
- ExposureTime: 1,0
- FNumber: 5,6
- Flash: Off, Did not fire
- FocalLength: 21,0 mm
- FocalLengthIn35mmFormat: 31 mm
- ISO: 200
- LensInfo: 18-135mm f/3.5-5.6
- LensModel: E 18-135mm F3.5-5.6 OSS
- LightSource: Unknown
- MaxApertureValue: 4,0
- MeteringMode: Multi-segment
- RecommendedExposureIndex: 200
- Saturation: Normal
- SceneCaptureType: Standard
- SceneType: Directly photographed
- SensitivityType: Recommended Exposure Index
- Sharpness: Normal
- ShutterSpeedValue: 1,0
- WhiteBalance: Auto
- ICC-chrm
- ChromaticityChannel1: 0,64 0,33002
- ChromaticityChannel2: 0,3 0,60001
- ChromaticityChannel3: 0,15001 0,06
- ChromaticityChannels: 3
- ChromaticityColorant: Unknown (0)
- ICC-header
- IFD0
- Artist: Victor Lavrov
- Copyright: Victor Lavrov
- Make: SONY
- Model: NEX-5T
- ModifyDate: 2022:08:21 23:52:22
- Orientation: Horizontal (normal)
- Software: GIMP 2.10.30
- IFD1
- BitsPerSample: 8 8 8
- ImageHeight: 170
- ImageWidth: 256
- PhotometricInterpretation: YCbCr
- SamplesPerPixel: 3
- SubfileType: Reduced-resolution image
- IPTC
- By-line: Victor Lavrov
- CopyrightNotice: Victor Lavrov
- DateCreated: 2022-8-21
- IPTC2
- DateCreated: 2022:08:21
- System
- XMP-GIMP
- Api: 2.0
- Platform: Windows
- TimeStamp: 1661115151498502
- Version: 2.10.30
- XMP-aux
- DistortionCorrectionAlreadyApplied: True
- LateralChromaticAberrationCorrectionAlreadyApplied: True
- Lens: E 18-135mm F3.5-5.6 OSS
- LensDistortInfo: 34089/32768 -154617296/1073741824 43957353/1073741824 -3005411/1073741824
- VignetteCorrectionAlreadyApplied: True
- XMP-crs
- AlreadyApplied: True
- AutoLateralCA: 0
- Blacks2012: 0
- BlueHue: 0
- BlueSaturation: 0
- Clarity2012: 0
- ColorGradeBlending: 50
- ColorGradeGlobalHue: 0
- ColorGradeGlobalLum: 0
- ColorGradeGlobalSat: 0
- ColorGradeHighlightLum: 0
- ColorGradeMidtoneHue: 0
- ColorGradeMidtoneLum: 0
- ColorGradeMidtoneSat: 0
- ColorGradeShadowLum: 0
- ColorNoiseReduction: 25
- ColorNoiseReductionDetail: 50
- ColorNoiseReductionSmoothness: 50
- ColorTemperature: 2350
- Contrast2012: 0
- DefringeGreenAmount: 0
- DefringeGreenHueHi: 60
- DefringeGreenHueLo: 40
- DefringePurpleAmount: 0
- DefringePurpleHueHi: 70
- DefringePurpleHueLo: 30
- Dehaze: 0
- Exposure2012: 0.00
- GrainAmount: 0
- GreenHue: 0
- GreenSaturation: 0
- HasCrop: False
- HasSettings: True
- Highlights2012: 0
- HueAdjustmentAqua: 0
- HueAdjustmentBlue: 0
- HueAdjustmentGreen: 0
- HueAdjustmentMagenta: 0
- HueAdjustmentOrange: 0
- HueAdjustmentPurple: 0
- HueAdjustmentRed: 0
- HueAdjustmentYellow: 0
- LensManualDistortionAmount: 0
- LensProfileDistortionScale: 100
- LensProfileEnable: 1
- LensProfileFilename: SONY (Sony E 18-135mm F3.5-5.6 OSS) - RAW.lcp
- LensProfileIsEmbedded: False
- LensProfileSetup: LensDefaults
- LensProfileVignettingScale: 100
- LookAmount: 1.000000
- LookGroup: lang="x-default" Profiles
- LookParametersClarity2012: +10
- LookParametersConvertToGrayscale: False
- LookParametersLookTable: 2FE663AB0D3CE5DA7B9F657BBCD66DFE
- LookParametersProcessVersion: 11.0
- LookParametersToneCurvePV2012: 0, 0, 32, 22, 64, 56, 128, 128, 224, 232, 240, 246, 255, 255
- LookParametersVersion: 13.0
- LookSupportsAmount: false
- LookSupportsMonochrome: false
- LookSupportsOutputReferred: false
- LuminanceAdjustmentAqua: 0
- LuminanceAdjustmentBlue: 0
- LuminanceAdjustmentGreen: 0
- LuminanceAdjustmentMagenta: 0
- LuminanceAdjustmentOrange: 0
- LuminanceAdjustmentPurple: 0
- LuminanceAdjustmentRed: 0
- LuminanceAdjustmentYellow: 0
- LuminanceSmoothing: 0
- OverrideLookVignette: False
- ParametricDarks: 0
- ParametricHighlightSplit: 75
- ParametricHighlights: 0
- ParametricLights: 0
- ParametricMidtoneSplit: 50
- ParametricShadowSplit: 25
- ParametricShadows: 0
- PerspectiveAspect: 0
- PerspectiveHorizontal: 0
- PerspectiveRotate: 0.0
- PerspectiveScale: 95
- PerspectiveUpright: 1
- PerspectiveVertical: 0
- PerspectiveX: 0.00
- PerspectiveY: 0.00
- PostCropVignetteAmount: 0
- ProcessVersion: 11.0
- RedHue: 0
- RedSaturation: 0
- Saturation: +10
- SaturationAdjustmentAqua: 0
- SaturationAdjustmentBlue: 0
- SaturationAdjustmentGreen: 0
- SaturationAdjustmentMagenta: 0
- SaturationAdjustmentOrange: 0
- SaturationAdjustmentPurple: 0
- SaturationAdjustmentRed: 0
- SaturationAdjustmentYellow: 0
- ShadowTint: 0
- Shadows2012: 0
- SharpenDetail: 25
- SharpenEdgeMasking: 0
- SharpenRadius: +1.0
- Sharpness: 40
- SplitToningBalance: 0
- SplitToningHighlightHue: 0
- SplitToningHighlightSaturation: 0
- SplitToningShadowHue: 0
- SplitToningShadowSaturation: 0
- Texture: 0
- Tint: +2
- ToneCurveName2012: Linear
- ToneCurvePV2012: 0, 0, 255, 255
- ToneCurvePV2012Blue: 0, 0, 255, 255
- ToneCurvePV2012Green: 0, 0, 255, 255
- ToneCurvePV2012Red: 0, 0, 255, 255
- Version: 13.0
- Vibrance: 0
- VignetteAmount: 0
- WhiteBalance: Custom
- Whites2012: 0
- XMP-dc
- Creator: Victor Lavrov
- Format: image/jpeg
- Rights: Victor Lavrov
- XMP-exifEX
- XMP-x
- XMP-xmp
- CreatorTool: GIMP 2.10.30
- XMP-xmpMM
- Просмотров: 594
- Рейтинг: голосов еще нет
- Отзывов: 8