- Раздел: Другое, разное
- Дата съёмки: 03.09.2008 13:29
- Дата загрузки фото: 23.10.2008 20:04
- Оригинальная фотография: 4096 x 2731 (1,6 Мб)
- Технические характеристики:
- Фотоаппарат: Canon EOS-1D Mark II
- Выдержка: 1/2500
- Гиперфокальное расстояние: 509,73 m
- Диафрагма: 2,8
- Светочувствительность: 250
- Фокусное расстояние: 200,0 mm (35 mm equivalent: 214,4 mm)
- Полный EXIF
- Adobe
- ColorTransform: YCbCr
- Composite
- Aperture: 2,8
- CircleOfConfusion: 0,028 mm
- FOV: 9,0 deg
- FocalLength35efl: 200,0 mm (35 mm equivalent: 214,4 mm)
- HyperfocalDistance: 509,73 m
- ScaleFactor35efl: 1,1
- ShutterSpeed: 1/2500
- ExifIFD
- ApertureValue: 2,8
- CreateDate: 2008:09:03 13:29:28
- CustomRendered: Normal
- DateTimeOriginal: 2008:09:03 13:29:28
- ExposureCompensation: 0
- ExposureMode: Auto
- ExposureProgram: Aperture-priority AE
- ExposureTime: 1/2500
- FNumber: 2,8
- Flash: Off
- FocalLength: 200,0 mm
- ISO: 250
- MaxApertureValue: 2,8
- MeteringMode: Multi-segment
- SceneCaptureType: Standard
- ShutterSpeedValue: 1/2500
- WhiteBalance: Auto
- ICC-header
- ICC-meas
- ICC-view
- IFD0
- Artist: Romas
- Make: Canon
- Model: Canon EOS-1D Mark II
- ModifyDate: 2008:08:08 16:02:29
- IPTC
- By-line: Romas
- XMP-aux
- Firmware: 1.2.6
- FlashCompensation: 0
- ImageNumber: 45127
- Lens: 80.0-200.0 mm
- LensInfo: 80/1 200/1 0/0 0/0
- OwnerName: Romas
- SerialNumber: 227438
- XMP-crs
- AlreadyApplied: True
- BlueHue: 0
- BlueSaturation: 0
- Brightness: +50
- CameraProfile: ACR 4.4
- ChromaticAberrationB: 0
- ChromaticAberrationR: 0
- Clarity: +3
- ColorNoiseReduction: 3
- Contrast: +25
- ConvertToGrayscale: False
- Defringe: 0
- Exposure: +0.15
- FillLight: 7
- GreenHue: 0
- GreenSaturation: 0
- HasCrop: False
- HasSettings: True
- HighlightRecovery: 13
- HueAdjustmentAqua: 0
- HueAdjustmentBlue: 0
- HueAdjustmentGreen: 0
- HueAdjustmentMagenta: 0
- HueAdjustmentOrange: 0
- HueAdjustmentPurple: 0
- HueAdjustmentRed: 0
- HueAdjustmentYellow: 0
- LuminanceAdjustmentAqua: 0
- LuminanceAdjustmentBlue: 0
- LuminanceAdjustmentGreen: 0
- LuminanceAdjustmentMagenta: 0
- LuminanceAdjustmentOrange: 0
- LuminanceAdjustmentPurple: 0
- LuminanceAdjustmentRed: 0
- LuminanceAdjustmentYellow: 0
- LuminanceSmoothing: 0
- ParametricDarks: 0
- ParametricHighlightSplit: 75
- ParametricHighlights: 0
- ParametricLights: 0
- ParametricMidtoneSplit: 50
- ParametricShadowSplit: 25
- ParametricShadows: 0
- PostCropVignetteAmount: 0
- RawFileName: 141.CR2
- RedHue: 0
- RedSaturation: 0
- Saturation: 0
- SaturationAdjustmentAqua: 0
- SaturationAdjustmentBlue: 0
- SaturationAdjustmentGreen: 0
- SaturationAdjustmentMagenta: 0
- SaturationAdjustmentOrange: 0
- SaturationAdjustmentPurple: 0
- SaturationAdjustmentRed: 0
- SaturationAdjustmentYellow: 0
- ShadowTint: 0
- Shadows: 3
- SharpenDetail: 80
- SharpenEdgeMasking: 0
- SharpenRadius: +0.8
- Sharpness: 25
- SplitToningBalance: 0
- SplitToningHighlightHue: 0
- SplitToningHighlightSaturation: 0
- SplitToningShadowHue: 0
- SplitToningShadowSaturation: 0
- Temperature: 4700
- Tint: -6
- ToneCurve: 0, 0, 32, 22, 64, 56, 128, 128, 192, 196, 255, 255
- ToneCurveName: Medium Contrast
- Version: 4.5
- Vibrance: 0
- VignetteAmount: 0
- WhiteBalance: As Shot
- XMP-dc
- XMP-exif
- DateTimeDigitized: 2008:09:03 13:29:28+03:00
- DateTimeOriginal: 2008:09:03 13:29:28+03:00
- ExifImageHeight: 2731
- ExifImageWidth: 4096
- FlashFired: False
- FlashFunction: False
- FlashMode: Off
- FlashRedEyeMode: False
- FlashReturn: No return detection
- XMP-tiff
- ImageHeight: 2731
- ImageWidth: 4096
- XMP-xmp
- CreateDate: 2008:09:03 13:29:28+03:00
- ModifyDate: 2008:08:08 16:02:29+03:00
- Просмотров: 4154
- Рейтинг: голосов еще нет
- Отзывов: 0