- Раздел: Природа
- Дата съёмки: 02.01.2009 10:57
- Дата загрузки фото: 04.01.2009 23:20
- Оригинальная фотография: 1067 x 1600 (417 Кб)
- Технические характеристики:
- Фотоаппарат: Canon EOS 450D
- Выдержка: 1/200
- Гиперфокальное расстояние: 310,41 m
- Диафрагма: 1,4
- Светочувствительность: 100
- Фокусное расстояние: 55,0 mm (35 mm equivalent: 237,4 mm)
- Полный EXIF
- Adobe
- ColorTransform: YCbCr
- Composite
- Aperture: 1,4
- CircleOfConfusion: 0,007 mm
- FOV: 8,0 deg
- FocalLength35efl: 55,0 mm (35 mm equivalent: 237,4 mm)
- HyperfocalDistance: 310,41 m
- ScaleFactor35efl: 4,3
- ShutterSpeed: 1/200
- ExifIFD
- ApertureValue: 1,4
- CreateDate: 2009:01:02 10:57:15
- CustomRendered: Normal
- DateTimeOriginal: 2009:01:02 10:57:15
- ExposureCompensation: 0
- ExposureMode: Auto
- ExposureProgram: Aperture-priority AE
- ExposureTime: 1/200
- FNumber: 1,4
- Flash: Off
- FocalLength: 55,0 mm
- ISO: 100
- MaxApertureValue: 1,4
- MeteringMode: Spot
- SceneCaptureType: Standard
- ShutterSpeedValue: 1/200
- WhiteBalance: Auto
- ICC-header
- ICC-meas
- ICC-view
- IFD0
- Make: Canon
- Model: Canon EOS 450D
- ModifyDate: 2009:01:04 23:11:47
- XMP-aux
- Firmware: 1.0.4
- FlashCompensation: 0
- ImageNumber: 0
- Lens: 55-55mm
- LensInfo: 55/1 55/1 0/0 0/0
- SerialNumber: 330138231
- XMP-crs
- AlreadyApplied: True
- BlueHue: 0
- BlueSaturation: 0
- Brightness: +50
- CameraProfile: ACR 4.4
- ChromaticAberrationB: 0
- ChromaticAberrationR: 0
- Clarity: +100
- ColorNoiseReduction: 25
- Contrast: +100
- ConvertToGrayscale: False
- Defringe: 0
- Exposure: 0.00
- FillLight: 0
- GreenHue: 0
- GreenSaturation: 0
- HasCrop: False
- HasSettings: True
- HighlightRecovery: 0
- HueAdjustmentAqua: 0
- HueAdjustmentBlue: 0
- HueAdjustmentGreen: 0
- HueAdjustmentMagenta: 0
- HueAdjustmentOrange: 0
- HueAdjustmentPurple: 0
- HueAdjustmentRed: 0
- HueAdjustmentYellow: 0
- LuminanceAdjustmentAqua: 0
- LuminanceAdjustmentBlue: 0
- LuminanceAdjustmentGreen: 0
- LuminanceAdjustmentMagenta: 0
- LuminanceAdjustmentOrange: 0
- LuminanceAdjustmentPurple: 0
- LuminanceAdjustmentRed: +100
- LuminanceAdjustmentYellow: 0
- LuminanceSmoothing: 0
- ParametricDarks: 0
- ParametricHighlightSplit: 75
- ParametricHighlights: 0
- ParametricLights: 0
- ParametricMidtoneSplit: 50
- ParametricShadowSplit: 25
- ParametricShadows: 0
- PostCropVignetteAmount: 0
- RedHue: 0
- RedSaturation: 0
- Saturation: -36
- SaturationAdjustmentAqua: -100
- SaturationAdjustmentBlue: -100
- SaturationAdjustmentGreen: -100
- SaturationAdjustmentMagenta: -100
- SaturationAdjustmentOrange: 0
- SaturationAdjustmentPurple: -100
- SaturationAdjustmentRed: 0
- SaturationAdjustmentYellow: -100
- ShadowTint: 0
- Shadows: 11
- SharpenDetail: 25
- SharpenEdgeMasking: 0
- SharpenRadius: +1.0
- Sharpness: 25
- SplitToningBalance: 0
- SplitToningHighlightHue: 0
- SplitToningHighlightSaturation: 0
- SplitToningShadowHue: 0
- SplitToningShadowSaturation: 0
- Temperature: 5400
- Tint: +8
- ToneCurve: 0, 0, 32, 22, 64, 56, 128, 128, 192, 196, 255, 255
- ToneCurveName: Medium Contrast
- Version: 4.6
- Vibrance: +34
- VignetteAmount: -34
- VignetteMidpoint: 34
- WhiteBalance: As Shot
- XMP-exif
- DateTimeDigitized: 2009:01:02 10:57:15.02+03:00
- DateTimeOriginal: 2009:01:02 10:57:15.02+03:00
- ExifImageHeight: 1600
- ExifImageWidth: 1067
- FlashFired: False
- FlashFunction: False
- FlashMode: Off
- FlashRedEyeMode: False
- FlashReturn: No return detection
- XMP-tiff
- ImageHeight: 1600
- ImageWidth: 1067
- XMP-xmp
- CreateDate: 2009:01:02 10:57:15.02+03:00
- ModifyDate: 2009:01:04 23:11:47+03:00
- Просмотров: 1525
- Рейтинг: голосов еще нет
- Отзывов: 1