- Раздел: Город
- Дата съёмки: 21.12.2007 02:04
- Дата загрузки фото: 06.04.2009 14:10
- Оригинальная фотография: 1200 x 800 (252 Кб)
- Технические характеристики:
- Фотоаппарат: Pentax K100D
- Выдержка: 1/30
- Гиперфокальное расстояние: 13,45 m
- Диафрагма: 4,0
- Светочувствительность: 800
- Фокусное расстояние: 33,0 mm (35 mm equivalent: 49,0 mm)
- Полный EXIF
- Adobe
- ColorTransform: YCbCr
- Composite
- Aperture: 4,0
- CircleOfConfusion: 0,020 mm
- FOV: 40,0 deg
- FocalLength35efl: 33,0 mm (35 mm equivalent: 49,0 mm)
- HyperfocalDistance: 13,45 m
- ScaleFactor35efl: 1,5
- ShutterSpeed: 1/30
- ExifIFD
- ApertureValue: 4,0
- CFAPattern: [Red,Green][Green,Blue]
- ColorSpace: Uncalibrated
- Contrast: Normal
- CreateDate: 2007:12:20 16:53:02
- CustomRendered: Normal
- DateTimeOriginal: 2007:12:20 16:53:02
- ExifImageHeight: 800
- ExifImageWidth: 1200
- ExposureCompensation: 0
- ExposureMode: Auto
- ExposureProgram: Program AE
- ExposureTime: 1/30
- FNumber: 4,0
- Flash: Off
- FocalLength: 33,0 mm
- FocalLengthIn35mmFormat: 49 mm
- ISO: 800
- MeteringMode: Multi-segment
- Saturation: Normal
- SceneCaptureType: Standard
- SceneType: Directly photographed
- SensingMethod: One-chip color area
- Sharpness: Normal
- ShutterSpeedValue: 1/30
- SubjectDistanceRange: Close
- WhiteBalance: Auto
- ICC-header
- IFD0
- Artist: Wadim A. aka Wadiscan
- Make: PENTAX Corporation
- Model: PENTAX K100D
- ModifyDate: 2007:12:21 02:04:38
- Orientation: Horizontal (normal)
- TimeZoneOffset: 3 3
- IFD1
- IPTC
- By-line: Wadim A. aka Wadiscan
- By-lineTitle: Always!
- City: Rostov-on-Don
- Country-PrimaryLocationName: Russia
- Keywords: Russia, Rostov-on-Don, Wadiscan
- Province-State: Rostov's region
- Source: Digital camera Pentax K100D
- XMP-aux
- Lens: smc PENTAX-DA 18-55mm F3.5-5.6 AL
- LensID: 4 252
- LensInfo: 180/10 550/10 35/10 56/10
- XMP-crs
- AlreadyApplied: True
- BlueHue: 0
- BlueSaturation: 0
- Brightness: +66
- CameraProfile: ACR 3.6
- ChromaticAberrationB: 0
- ChromaticAberrationR: 0
- ColorNoiseReduction: 25
- Contrast: +24
- ConvertToGrayscale: False
- Exposure: +0.25
- FillLight: 4
- GreenHue: 0
- GreenSaturation: 0
- HasCrop: False
- HasSettings: True
- HighlightRecovery: 21
- HueAdjustmentAqua: 0
- HueAdjustmentBlue: 0
- HueAdjustmentGreen: 0
- HueAdjustmentMagenta: 0
- HueAdjustmentOrange: 0
- HueAdjustmentPurple: 0
- HueAdjustmentRed: 0
- HueAdjustmentYellow: 0
- LuminanceAdjustmentAqua: 0
- LuminanceAdjustmentBlue: 0
- LuminanceAdjustmentGreen: 0
- LuminanceAdjustmentMagenta: 0
- LuminanceAdjustmentOrange: 0
- LuminanceAdjustmentPurple: 0
- LuminanceAdjustmentRed: 0
- LuminanceAdjustmentYellow: 0
- LuminanceSmoothing: 0
- ParametricDarks: 0
- ParametricHighlightSplit: 75
- ParametricHighlights: 0
- ParametricLights: 0
- ParametricMidtoneSplit: 50
- ParametricShadowSplit: 25
- ParametricShadows: 0
- RawFileName: IMGP1872.PEF
- RedHue: 0
- RedSaturation: 0
- Saturation: +11
- SaturationAdjustmentAqua: 0
- SaturationAdjustmentBlue: 0
- SaturationAdjustmentGreen: 0
- SaturationAdjustmentMagenta: 0
- SaturationAdjustmentOrange: 0
- SaturationAdjustmentPurple: 0
- SaturationAdjustmentRed: 0
- SaturationAdjustmentYellow: 0
- ShadowTint: 0
- Shadows: 1
- Sharpness: 25
- SplitToningBalance: 0
- SplitToningHighlightHue: 0
- SplitToningHighlightSaturation: 0
- SplitToningShadowHue: 0
- SplitToningShadowSaturation: 0
- Temperature: 4850
- Tint: +18
- ToneCurve: 0, 0, 32, 22, 64, 56, 128, 128, 192, 196, 255, 255
- ToneCurveName: Medium Contrast
- Version: 4.0
- Vibrance: 0
- VignetteAmount: 0
- WhiteBalance: Custom
- XMP-dc
- Creator: Wadim A. aka Wadiscan
- Format: image/jpeg
- Subject: Russia, Rostov-on-Don, Wadiscan
- XMP-exif
- ColorSpace: Unknown (-1)
- DateTimeDigitized: 2007:12:20 16:53:02+03:00
- DateTimeOriginal: 2007:12:20 16:53:02+03:00
- FlashFired: False
- FlashFunction: False
- FlashMode: Off
- FlashRedEyeMode: False
- FlashReturn: No return detection
- XMP-tiff
- XMP-xmp
- CreateDate: 2007:12:21 02:04:38+03:00
- ModifyDate: 2007:12:21 02:04:38+03:00
- Rating: 0
- XMP-xmpMM
- DerivedFrom:
- XMP-xmpRights
- Marked: True
- UsageTerms:
- WebStatement: http://awadim.photofile.ru
- Просмотров: 912
- Рейтинг: голосов еще нет
- Отзывов: 0