- Раздел: Другое, разное
- Дата съёмки: 23.04.2009 18:24
- Дата загрузки фото: 28.04.2009 11:53
- Оригинальная фотография: 800 x 533 (253 Кб)
- Технические характеристики:
- Фотоаппарат: Canon EOS 5D
- Выдержка: 1/800
- Гиперфокальное расстояние: 206,97 m
- Диафрагма: 2,2
- Светочувствительность: 100
- Фокусное расстояние: 50,0 mm (35 mm equivalent: 273,6 mm)
- Полный EXIF
- Adobe
- ColorTransform: YCbCr
- Composite
- Aperture: 2,2
- CircleOfConfusion: 0,005 mm
- FOV: 7,0 deg
- FocalLength35efl: 50,0 mm (35 mm equivalent: 273,6 mm)
- HyperfocalDistance: 206,97 m
- ScaleFactor35efl: 5,5
- ShutterSpeed: 1/800
- ExifIFD
- ApertureValue: 2,2
- CreateDate: 2009:04:23 18:24:40
- CustomRendered: Normal
- DateTimeOriginal: 2009:04:23 18:24:40
- ExposureCompensation: 0
- ExposureMode: Auto
- ExposureProgram: Aperture-priority AE
- ExposureTime: 1/800
- FNumber: 2,2
- Flash: Off
- FocalLength: 50,0 mm
- ISO: 100
- MaxApertureValue: 1,4
- MeteringMode: Partial
- SceneCaptureType: Standard
- ShutterSpeedValue: 1/800
- WhiteBalance: Auto
- ICC-header
- ICC-meas
- ICC-view
- IFD0
- Make: Canon
- Model: Canon EOS 5D
- ModifyDate: 2009:04:28 11:48:38
- IFD1
- XMP-aux
- Firmware: 1.1.0
- FlashCompensation: 0
- ImageNumber: 27
- Lens: EF50mm f/1.4 USM
- LensInfo: 50/1 50/1 0/0 0/0
- SerialNumber: 2921204720
- XMP-crs
- AlreadyApplied: True
- BlueHue: 0
- BlueSaturation: 0
- Brightness: +50
- ChromaticAberrationB: 0
- ChromaticAberrationR: 0
- Clarity: 0
- ColorNoiseReduction: 25
- Contrast: +25
- ConvertToGrayscale: False
- CropAngle: -0.583806
- CropBottom: 0.911637
- CropHeight: 533
- CropLeft: 0
- CropRight: 0.917828
- CropTop: 0.013934
- CropUnit: 0
- CropWidth: 800
- Defringe: 0
- Exposure: +1.06
- FillLight: 0
- GreenHue: 0
- GreenSaturation: 0
- HasCrop: True
- HasSettings: True
- HighlightRecovery: 35
- HueAdjustmentAqua: 0
- HueAdjustmentBlue: 0
- HueAdjustmentGreen: 0
- HueAdjustmentMagenta: +7
- HueAdjustmentOrange: +7
- HueAdjustmentPurple: 0
- HueAdjustmentRed: +13
- HueAdjustmentYellow: +1
- LuminanceAdjustmentAqua: 0
- LuminanceAdjustmentBlue: -42
- LuminanceAdjustmentGreen: 0
- LuminanceAdjustmentMagenta: +2
- LuminanceAdjustmentOrange: +2
- LuminanceAdjustmentPurple: -21
- LuminanceAdjustmentRed: +4
- LuminanceAdjustmentYellow: 0
- LuminanceSmoothing: 0
- PaintBasedCorrectionsCorrectionActive: true
- PaintBasedCorrectionsCorrectionAmount: 1.000000
- PaintBasedCorrectionsCorrectionMasksCenterWeight: 0.000000
- PaintBasedCorrectionsCorrectionMasksFlow: 0.567000
- PaintBasedCorrectionsCorrectionMasksMaskValue: 0.900000
- PaintBasedCorrectionsCorrectionMasksRadius: 0.009976
- PaintBasedCorrectionsCorrectionMasksWhat: Mask/Paint
- PaintBasedCorrectionsLocalBrightness: 0.000000
- PaintBasedCorrectionsLocalClarity: 0.000000
- PaintBasedCorrectionsLocalContrast: 0.000000
- PaintBasedCorrectionsLocalExposure: -1.000000
- PaintBasedCorrectionsLocalSaturation: 0.000000
- PaintBasedCorrectionsLocalSharpness: 0.000000
- PaintBasedCorrectionsLocalToningHue: 240.000000
- PaintBasedCorrectionsLocalToningSaturation: 0.000000
- PaintBasedCorrectionsWhat: Correction
- ParametricDarks: -8
- ParametricHighlightSplit: 75
- ParametricHighlights: +48
- ParametricLights: +13
- ParametricMidtoneSplit: 50
- ParametricShadowSplit: 25
- ParametricShadows: -26
- PostCropVignetteAmount: 0
- RedHue: 0
- RedSaturation: 0
- Saturation: 0
- SaturationAdjustmentAqua: +100
- SaturationAdjustmentBlue: +83
- SaturationAdjustmentGreen: +100
- SaturationAdjustmentMagenta: +100
- SaturationAdjustmentOrange: +5
- SaturationAdjustmentPurple: -5
- SaturationAdjustmentRed: +10
- SaturationAdjustmentYellow: +1
- ShadowTint: 0
- Shadows: 5
- SharpenDetail: 25
- SharpenEdgeMasking: 0
- SharpenRadius: +1.0
- Sharpness: 25
- SplitToningBalance: 0
- SplitToningHighlightHue: 46
- SplitToningHighlightSaturation: 3
- SplitToningShadowHue: 161
- SplitToningShadowSaturation: 37
- Temperature: 4619
- Tint: +4
- ToneCurve: 0, 0, 32, 16, 64, 50, 128, 128, 192, 202, 255, 255
- ToneCurveName: Strong Contrast
- Version: 5.3
- Vibrance: 0
- VignetteAmount: 0
- WhiteBalance: Custom
- XMP-exif
- DateTimeDigitized: 2009:04:23 18:24:40+04:00
- DateTimeOriginal: 2009:04:23 18:24:40+04:00
- ExifImageHeight: 533
- ExifImageWidth: 800
- FlashFired: False
- FlashFunction: False
- FlashMode: Off
- FlashRedEyeMode: False
- FlashReturn: No return detection
- XMP-tiff
- ImageHeight: 533
- ImageWidth: 800
- XMP-xmp
- CreateDate: 2009:04:23 18:24:40+04:00
- ModifyDate: 2009:04:28 11:48:38+04:00