Комплект ножей Rondell Langsax (сталь X50, покупался поштучно) и мусат Arcos
Далее - длинная цитата, взятая вот отсюда: http://www.cookingknife.ru/western/Europe_knifes.shtml
Естественно, сталь стали покупать на мировом рынке по минимально возможным ценам (производства Пакистана, Индии, Кореи и т.д.) в предположении, что все стали одного класса (марки) идентичны. Во многих случаях так и было, но не всегда. Часть стали производилась путем переплавки автомобилей и она могла попасть в состав ножевой стали. Для очистки переработанных сталей (исключения вредных примесей – пластиков, органики и т.д) стали применяться более высокие температуры и все равно полностью очистить не удавалось. В результате получаем сталь более худшего качества, но значительно дешевле.
Многие мелкие (и крупные) ножевые производители в Золингене, Тьере и Шеффилде, кто не успел включиться в эту систему, практически прекратили свою деятельность.
Конечно, немаловажную роль сыграло то, что большинство потребителей не знает, не понимает и не хочет понимать , что делает нож действительно НОЖОМ…
Другой «жертвой» этой «гонки на выживание» стало катострофическое падение МАСТЕРСТВА мастера – ножедела. Как известно, капитализм очень любит прибыль и ничто не ненавидит так сильно, как затраты на производство. Так что при каждой возможности происходила автоматизация всех процессов. Результат такой автоматизации легко почувствовать подержав в руках одновременно сегодняшние ножи и такие же (серии же практически не менялись) производства начала – середины прошлого века.
Требуется определенное мастерство и труд, чтобы сделать лезвия жесткими и тонкими, придать правильную геометрию, сделать конический хвостовик (taper tang) для правильного баланса, создать правильную, удобную рукоять, сделать тонкие подводы и хорошую заточку. При полностью автоматизированном производстве всего этого добиться довольно трудно.»
Смысл цитирования вкратце таков: я не стану платить в несколько раз дороже за название (бренд) ножей, сработанных из той же стали и по той же технологии, что и показанные здесь Лангсаксы от российского бренда Rondell. Потребительские качества ножей на кухне - для ножей из хорошей стали (X50) с правильной заточкой - сопоставимы, если не сказать одинаковы. А прикладная фаллометрия (мне пожалуйста то же самое, только с перламутровыми запонками...) мне уже давно стала не интересна.
- Раздел: Другое, разное
- Дата съёмки: 18.07.2011 17:16
- Дата загрузки фото: 22.09.2011 17:31
- Оригинальная фотография: 1200 x 877 (236 Кб)
- Технические характеристики:
- Фотоаппарат: FujiFilm FinePix F550EXR
- Выдержка: 1/125
- Гиперфокальное расстояние: inf m
- Диафрагма: 3,5
- Светочувствительность: 320
- Фокусное расстояние: 4,0 mm (35 mm equivalent: 36,0 mm)
- Полный EXIF
- Adobe
- ColorTransform: YCbCr
- Composite
- Aperture: 3,5
- CircleOfConfusion: 0,003 mm
- FOV: 53,0 deg
- FocalLength35efl: 4,0 mm (35 mm equivalent: 36,0 mm)
- HyperfocalDistance: inf m
- ScaleFactor35efl: 9,3
- ShutterSpeed: 1/125
- ExifIFD
- ApertureValue: 3,5
- BrightnessValue: 4,13
- ColorSpace: sRGB
- CreateDate: 2011:07:18 17:16:06
- CustomRendered: Normal
- DateTimeOriginal: 2011:07:18 17:16:06
- ExifImageHeight: 877
- ExifImageWidth: 1200
- ExposureCompensation: 0
- ExposureMode: Auto
- ExposureProgram: Program AE
- ExposureTime: 1/125
- FNumber: 3,5
- Flash: Off, Did not fire
- FocalLength: 4,4 mm
- ISO: 320
- LightSource: Unknown
- MaxApertureValue: 3,5
- MeteringMode: Multi-segment
- SceneCaptureType: Standard
- SceneType: Directly photographed
- SensingMethod: One-chip color area
- SensitivityType: Standard Output Sensitivity
- Sharpness: Normal
- ShutterSpeedValue: 1/125
- SubjectDistanceRange: Unknown
- WhiteBalance: Auto
- ICC-header
- ICC-meas
- ICC-view
- IFD0
- Make: FUJIFILM
- Model: FinePix F550EXR
- ModifyDate: 2011:09:02 11:03:08
- Orientation: Horizontal (normal)
- IFD1
- IPTC
- DateCreated: 2011:07:18
- System
- XMP-crs
- AlreadyApplied: True
- BlueHue: 0
- BlueSaturation: 0
- Brightness: +50
- ChromaticAberrationB: 0
- ChromaticAberrationR: 0
- Clarity: +16
- ColorNoiseReduction: 25
- ColorNoiseReductionDetail: 50
- Contrast: +56
- ConvertToGrayscale: False
- CropAngle: 0
- CropBottom: 0.974724
- CropConstrainToWarp: 1
- CropLeft: 0.015403
- CropRight: 1
- CropTop: 0.015798
- Defringe: 2
- Exposure: -0.10
- FillLight: 23
- GrainAmount: 0
- GreenHue: 0
- GreenSaturation: 0
- HasCrop: True
- HasSettings: True
- HighlightRecovery: 100
- HueAdjustmentAqua: 0
- HueAdjustmentBlue: 0
- HueAdjustmentGreen: 0
- HueAdjustmentMagenta: 0
- HueAdjustmentOrange: 0
- HueAdjustmentPurple: 0
- HueAdjustmentRed: 0
- HueAdjustmentYellow: 0
- LensManualDistortionAmount: +30
- LensProfileEnable: 0
- LensProfileSetup: LensDefaults
- LuminanceAdjustmentAqua: 0
- LuminanceAdjustmentBlue: 0
- LuminanceAdjustmentGreen: 0
- LuminanceAdjustmentMagenta: 0
- LuminanceAdjustmentOrange: 0
- LuminanceAdjustmentPurple: 0
- LuminanceAdjustmentRed: 0
- LuminanceAdjustmentYellow: 0
- LuminanceSmoothing: 0
- ParametricDarks: 0
- ParametricHighlightSplit: 75
- ParametricHighlights: 0
- ParametricLights: 0
- ParametricMidtoneSplit: 50
- ParametricShadowSplit: 25
- ParametricShadows: 0
- PerspectiveHorizontal: -5
- PerspectiveRotate: 0.0
- PerspectiveScale: 122
- PerspectiveVertical: -2
- PostCropVignetteAmount: 0
- ProcessVersion: 5.7
- RawFileName: DSCF0296.RAF
- RedHue: 0
- RedSaturation: 0
- Saturation: +5
- SaturationAdjustmentAqua: 0
- SaturationAdjustmentBlue: 0
- SaturationAdjustmentGreen: 0
- SaturationAdjustmentMagenta: 0
- SaturationAdjustmentOrange: 0
- SaturationAdjustmentPurple: 0
- SaturationAdjustmentRed: 0
- SaturationAdjustmentYellow: 0
- ShadowTint: 0
- Shadows: 7
- SharpenDetail: 25
- SharpenEdgeMasking: 0
- SharpenRadius: +1.0
- Sharpness: 25
- SplitToningBalance: 0
- SplitToningHighlightHue: 0
- SplitToningHighlightSaturation: 0
- SplitToningShadowHue: 0
- SplitToningShadowSaturation: 0
- Temperature: 3950
- Tint: +16
- ToneCurve: 0, 0, 39, 22, 74, 67, 128, 128, 192, 196, 255, 255
- ToneCurveName: Custom
- Version: 6.4.1
- Vibrance: +36
- VignetteAmount: 0
- WhiteBalance: As Shot
- XMP-dc
- XMP-xmp
- CreatorTool: Digital Camera FinePix F550EXR Ver1.13
- ModifyDate: 2011:09:02 11:03:08Z
- Rating: 0
- XMP-xmpMM
- Просмотров: 1604
- Рейтинг: голосов еще нет
- Отзывов: отключены
Получить код для блога
Вставка фотографии в текущем разрешении |
Вставка миниатюры |
HTML (для вставки в блог):
BBCode (для вставки в форум):
Ссылка на фото:
Ссылка на миниатюру:
- Послать ссылку другу
Комментарии к фотографии |