- Раздел: Портрет
- Дата съёмки: 21.04.2012 12:05
- Дата загрузки фото: 22.04.2012 13:34
- Оригинальная фотография: 3072 x 2048 (3,0 Мб)
- Технические характеристики:
- Фотоаппарат: Canon EOS 10D
- Выдержка: 1/2000
- Диафрагма: 3,2
- Светочувствительность: 100
- Фокусное расстояние: 85,0 mm
- Полный EXIF
- Adobe
- ColorTransform: YCbCr
- Composite
- Aperture: 3,2
- FocalLength35efl: 85,0 mm
- ShutterSpeed: 1/2000
- ExifIFD
- ApertureValue: 3,2
- CreateDate: 2012:04:21 12:05:06
- DateTimeOriginal: 2012:04:21 12:05:06
- ExposureCompensation: 0
- ExposureProgram: Aperture-priority AE
- ExposureTime: 1/2000
- FNumber: 3,2
- Flash: No Flash
- FocalLength: 85,0 mm
- ISO: 100
- MaxApertureValue: 1,8
- MeteringMode: Partial
- ShutterSpeedValue: 1/2000
- ICC-header
- ICC-meas
- ICC-view
- IFD0
- Make: Canon
- Model: Canon EOS 10D
- ModifyDate: 2012:04:22 13:33:36
- IFD1
- System
- XMP-aux
- Firmware: 2.0.1
- Lens: 85.0 mm
- LensInfo: 85mm f/?
- SerialNumber: 1720511286
- XMP-crs
- AlreadyApplied: True
- BlueHue: 0
- BlueSaturation: 0
- Brightness: +150
- ChromaticAberrationB: 0
- ChromaticAberrationR: 0
- Clarity: 0
- ColorNoiseReduction: 25
- ColorNoiseReductionDetail: 50
- Contrast: -48
- ConvertToGrayscale: True
- Defringe: 0
- Exposure: +0.51
- FillLight: 15
- GradientBasedCorrActive: true
- GradientBasedCorrAmount: 1.000000
- GradientBasedCorrBrightness: 0.000000
- GradientBasedCorrClarity: 0.000000
- GradientBasedCorrContrast: 0.000000
- GradientBasedCorrExposure: -0.268000
- GradientBasedCorrHue: 240.000000
- GradientBasedCorrMaskFullX: -0.071021
- GradientBasedCorrMaskFullY: 0.727090
- GradientBasedCorrMaskValue: 1.000000
- GradientBasedCorrMaskWhat: Mask/Gradient
- GradientBasedCorrMaskZeroX: 0.862055
- GradientBasedCorrMaskZeroY: 0.325809
- GradientBasedCorrSaturation: 0.000000
- GradientBasedCorrSharpness: 0.000000
- GradientBasedCorrWhat: Correction
- GrainAmount: 0
- GrayMixerAqua: -21
- GrayMixerBlue: +3
- GrayMixerGreen: -27
- GrayMixerMagenta: +7
- GrayMixerOrange: -10
- GrayMixerPurple: +12
- GrayMixerRed: -1
- GrayMixerYellow: -14
- GreenHue: 0
- GreenSaturation: 0
- HasCrop: False
- HasSettings: True
- HighlightRecovery: 0
- LensManualDistortionAmount: 0
- LensProfileChromaticAberrationScale: 100
- LensProfileDistortionScale: 100
- LensProfileEnable: 1
- LensProfileFilename: Canon EOS-1Ds Mark III (Canon EF 85mm f1.8 USM) - RAW.lcp
- LensProfileSetup: Custom
- LensProfileVignettingScale: 0
- LuminanceSmoothing: 0
- ParametricDarks: 0
- ParametricHighlightSplit: 75
- ParametricHighlights: +59
- ParametricLights: 0
- ParametricMidtoneSplit: 50
- ParametricShadowSplit: 25
- ParametricShadows: -33
- PerspectiveHorizontal: 0
- PerspectiveRotate: 0.0
- PerspectiveScale: 100
- PerspectiveVertical: 0
- PostCropVignetteAmount: -38
- PostCropVignetteFeather: 100
- PostCropVignetteHighlightContrast: 0
- PostCropVignetteMidpoint: 46
- PostCropVignetteRoundness: +47
- PostCropVignetteStyle: 1
- ProcessVersion: 5.7
- RedHue: 0
- RedSaturation: 0
- ShadowTint: 0
- Shadows: 16
- SharpenDetail: 25
- SharpenEdgeMasking: 0
- SharpenRadius: +1.0
- Sharpness: 0
- SplitToningBalance: 0
- SplitToningHighlightHue: 52
- SplitToningHighlightSaturation: 30
- SplitToningShadowHue: 193
- SplitToningShadowSaturation: 0
- Temperature: 7517
- Tint: +6
- ToneCurve: 0, 0, 32, 22, 64, 56, 128, 128, 192, 196, 255, 255
- ToneCurveName: Medium Contrast
- Version: 6.1
- VignetteAmount: 0
- WhiteBalance: Custom
- XMP-exif
- DateTimeDigitized: 2012:04:21 12:05:06+04:00
- DateTimeOriginal: 2012:04:21 12:05:06+04:00
- ExifImageHeight: 2048
- ExifImageWidth: 3072
- FlashFired: False
- XMP-tiff
- ImageHeight: 2048
- ImageWidth: 3072
- XMP-xmp
- CreateDate: 2012:04:21 12:05:06+04:00
- ModifyDate: 2012:04:22 13:33:36+04:00
- Просмотров: 1508
- Рейтинг: голосов еще нет
- Отзывов: 0