- Раздел: Животные
- Дата съёмки: 12.06.2014 15:42
- Дата загрузки фото: 18.06.2014 20:39
- Оригинальная фотография: 3522 x 2853 (5,7 Мб)
- Технические характеристики:
- Фотоаппарат: Olympus E-PL2
- Выдержка: 1/160
- Гиперфокальное расстояние: inf m
- Диафрагма: 11,0
- Светочувствительность: 320
- Фокусное расстояние: 200,0 mm (35 mm equivalent: 400,0 mm)
- Полный EXIF
- Adobe
- ColorTransform: YCbCr
- Composite
- Aperture: 11,0
- CircleOfConfusion: 0,015 mm
- FOV: 5,0 deg
- FocalLength35efl: 200,0 mm (35 mm equivalent: 400,0 mm)
- HyperfocalDistance: inf m
- ScaleFactor35efl: 2,0
- ShutterSpeed: 1/160
- ExifIFD
- ApertureValue: 11,0
- CFAPattern: [Red,Green][Green,Blue]
- ColorSpace: sRGB
- Contrast: Normal
- CreateDate: 2014:06:12 15:42:47
- CustomRendered: Normal
- DateTimeOriginal: 2014:06:12 15:42:47
- DigitalZoomRatio: 1
- ExposureCompensation: 0
- ExposureMode: Auto
- ExposureProgram: Shutter speed priority AE
- ExposureTime: 1/160
- FNumber: 11,0
- Flash: On, Did not fire
- FocalLength: 200,0 mm
- FocalLengthIn35mmFormat: 401 mm
- GainControl: Low gain up
- ISO: 320
- LensInfo: 45-200mm f/4-5.6
- LensModel: LUMIX G VARIO 45-200/F4.0-5.6
- LensSerialNumber: 10070408811
- LightSource: Unknown
- MaxApertureValue: 4,0
- MeteringMode: Multi-segment
- Saturation: Normal
- SceneCaptureType: Standard
- SerialNumber: B4T502627
- Sharpness: Normal
- ShutterSpeedValue: 1/160
- WhiteBalance: Auto
- ICC-header
- ICC-meas
- ICC-view
- IFD0
- ImageDescription: OLYMPUS DIGITAL CAMERA
- Make: OLYMPUS IMAGING CORP.
- Model: E-PL2
- ModifyDate: 2014:06:15 12:17:37
- IFD1
- IPTC
- Caption-Abstract: OLYMPUS DIGITAL CAMERA
- DateCreated: 2014:06:12
- System
- XMP-aux
- ApproximateFocusDistance: 2,69
- FlashCompensation: -2
- Lens: LUMIX G VARIO 45-200/F4.0-5.6
- XMP-crs
- AlreadyApplied: True
- AutoLateralCA: 0
- AutoWhiteVersion: 134348800
- Blacks2012: 0
- BlueHue: 0
- BlueSaturation: 0
- Clarity2012: 0
- ColorNoiseReduction: 74
- ColorNoiseReductionDetail: 50
- ColorNoiseReductionSmoothness: 50
- ColorTemperature: 5350
- Contrast2012: +25
- ConvertToGrayscale: False
- CropAngle: 0
- CropBottom: 0.991501
- CropConstrainToWarp: 0
- CropLeft: 0.126461
- CropRight: 1
- CropTop: 0.048159
- DefringeGreenAmount: 0
- DefringeGreenHueHi: 60
- DefringeGreenHueLo: 40
- DefringePurpleAmount: 0
- DefringePurpleHueHi: 70
- DefringePurpleHueLo: 30
- Exposure2012: +0.80
- GradientBasedCorrActive: true
- GradientBasedCorrAmount: 1.000000
- GradientBasedCorrBrightness: 0.000000
- GradientBasedCorrHue: 0.000000
- GradientBasedCorrMaskFullX: 0.751563
- GradientBasedCorrMaskFullY: 0.454357
- GradientBasedCorrMaskValue: 1.000000
- GradientBasedCorrMaskWhat: Mask/Gradient
- GradientBasedCorrMaskZeroX: 0.334829
- GradientBasedCorrMaskZeroY: 0.454357
- GradientBasedCorrSaturation: 0.000000
- GradientBasedCorrSharpness: 0.000000
- GradientBasedCorrWhat: Correction
- GradientBasedCorrectionsLocalClarity2012: 0.000000
- GradientBasedCorrectionsLocalContrast2012: 0.000000
- GradientBasedCorrectionsLocalDefringe: 0.000000
- GradientBasedCorrectionsLocalExposure2012: -0.362750
- GradientBasedCorrectionsLocalHighlights2012: 0.000000
- GradientBasedCorrectionsLocalLuminanceNoise: 0.000000
- GradientBasedCorrectionsLocalMoire: 0.000000
- GradientBasedCorrectionsLocalShadows2012: 0.274730
- GradientBasedCorrectionsLocalTemperature: 0.000000
- GradientBasedCorrectionsLocalTint: 0.000000
- GrainAmount: 0
- GreenHue: 0
- GreenSaturation: 0
- HasCrop: True
- HasSettings: True
- Highlights2012: -100
- HueAdjustmentAqua: 0
- HueAdjustmentBlue: 0
- HueAdjustmentGreen: 0
- HueAdjustmentMagenta: 0
- HueAdjustmentOrange: 0
- HueAdjustmentPurple: 0
- HueAdjustmentRed: 0
- HueAdjustmentYellow: 0
- LensManualDistortionAmount: 0
- LensProfileEnable: 0
- LensProfileSetup: LensDefaults
- LuminanceAdjustmentAqua: 0
- LuminanceAdjustmentBlue: 0
- LuminanceAdjustmentGreen: 0
- LuminanceAdjustmentMagenta: 0
- LuminanceAdjustmentOrange: 0
- LuminanceAdjustmentPurple: 0
- LuminanceAdjustmentRed: 0
- LuminanceAdjustmentYellow: 0
- LuminanceNoiseReductionContrast: 0
- LuminanceNoiseReductionDetail: 89
- LuminanceSmoothing: 30
- ParametricDarks: 0
- ParametricHighlightSplit: 75
- ParametricHighlights: 0
- ParametricLights: 0
- ParametricMidtoneSplit: 50
- ParametricShadowSplit: 25
- ParametricShadows: 0
- PerspectiveAspect: 0
- PerspectiveHorizontal: 0
- PerspectiveRotate: 0.0
- PerspectiveScale: 100
- PerspectiveUpright: 0
- PerspectiveVertical: 0
- PostCropVignetteAmount: 0
- ProcessVersion: 6.7
- RedHue: 0
- RedSaturation: 0
- Saturation: 0
- SaturationAdjustmentAqua: 0
- SaturationAdjustmentBlue: 0
- SaturationAdjustmentGreen: 0
- SaturationAdjustmentMagenta: 0
- SaturationAdjustmentOrange: 0
- SaturationAdjustmentPurple: 0
- SaturationAdjustmentRed: 0
- SaturationAdjustmentYellow: 0
- ShadowTint: 0
- Shadows2012: 0
- SharpenDetail: 25
- SharpenEdgeMasking: 0
- SharpenRadius: +1.0
- Sharpness: 32
- SplitToningBalance: 0
- SplitToningHighlightHue: 0
- SplitToningHighlightSaturation: 0
- SplitToningShadowHue: 0
- SplitToningShadowSaturation: 0
- Tint: +4
- ToneCurve: 0, 0, 255, 255
- ToneCurveBlue: 0, 0, 255, 255
- ToneCurveGreen: 0, 0, 255, 255
- ToneCurveName: Linear
- ToneCurveName2012: Linear
- ToneCurvePV2012: 0, 0, 255, 255
- ToneCurvePV2012Blue: 0, 0, 255, 255
- ToneCurvePV2012Green: 0, 0, 255, 255
- ToneCurvePV2012Red: 0, 0, 255, 255
- ToneCurveRed: 0, 0, 255, 255
- Version: 8.4
- Vibrance: 0
- VignetteAmount: 0
- WhiteBalance: Custom
- Whites2012: 0
- XMP-dc
- Description: OLYMPUS DIGITAL CAMERA
- Format: image/jpeg
- XMP-xmp
- ModifyDate: 2014:06:15 12:17:37+04:00
- XMP-xmpMM