- Раздел: Другое, разное
- Дата съёмки: 10.08.2012 17:17
- Дата загрузки фото: 23.06.2014 01:01
- Оригинальная фотография: 1024 x 683 (570 Кб)
- Технические характеристики:
- Фотоаппарат: Canon EOS 20D
- Выдержка: 1/2000
- Гиперфокальное расстояние: inf m
- Диафрагма: 4,0
- Светочувствительность: 100
- Фокусное расстояние: 22,0 mm (35 mm equivalent: 110,0 mm)
- Экспокоррекция: -4/3
- Полный EXIF
- Adobe
- ColorTransform: YCbCr
- Composite
- Aperture: 4,0
- CircleOfConfusion: 0,005 mm
- FOV: 18,0 deg
- FocalLength35efl: 22,0 mm (35 mm equivalent: 110,0 mm)
- HyperfocalDistance: inf m
- ScaleFactor35efl: 5,5
- ShutterSpeed: 1/2000
- ExifIFD
- ApertureValue: 4,0
- CreateDate: 2012:08:10 17:17:27
- CustomRendered: Normal
- DateTimeOriginal: 2012:08:10 17:17:27
- ExposureCompensation: -4/3
- ExposureMode: Auto
- ExposureProgram: Aperture-priority AE
- ExposureTime: 1/2000
- FNumber: 4,0
- Flash: Off, Did not fire
- FocalLength: 22,0 mm
- ISO: 100
- LensInfo: 18-200mm f/?
- LensModel: 18.0-200.0 mm
- MeteringMode: Multi-segment
- OwnerName: unknown
- SceneCaptureType: Standard
- SerialNumber: 1130601906
- ShutterSpeedValue: 1/2000
- WhiteBalance: Auto
- ICC-header
- ICC-meas
- ICC-view
- IFD0
- Artist: Fiodar Sabadash-Radzko
- Make: Canon
- Model: Canon EOS 20D
- ModifyDate: 2014:06:23 00:14:35
- IFD1
- IPTC
- By-line: Fiodar Sabadash-Radzko
- DateCreated: 2012:08:10
- System
- XMP-aux
- Firmware: 2.0.3
- FlashCompensation: 0
- ImageNumber: 140
- Lens: 18.0-200.0 mm
- XMP-crs
- AlreadyApplied: True
- AutoLateralCA: 0
- Blacks2012: -15
- BlueHue: 0
- BlueSaturation: 0
- Clarity2012: +15
- ColorNoiseReduction: 25
- ColorNoiseReductionDetail: 50
- ColorTemperature: 5000
- Contrast2012: +25
- ConvertToGrayscale: False
- DefringeGreenAmount: 0
- DefringeGreenHueHi: 60
- DefringeGreenHueLo: 40
- DefringePurpleAmount: 0
- DefringePurpleHueHi: 70
- DefringePurpleHueLo: 30
- Exposure2012: +0.50
- GrainAmount: 0
- GreenHue: 0
- GreenSaturation: 0
- HasCrop: False
- HasSettings: True
- Highlights2012: -100
- HueAdjustmentAqua: 0
- HueAdjustmentBlue: 0
- HueAdjustmentGreen: 0
- HueAdjustmentMagenta: 0
- HueAdjustmentOrange: 0
- HueAdjustmentPurple: 0
- HueAdjustmentRed: 0
- HueAdjustmentYellow: 0
- LensManualDistortionAmount: 0
- LensProfileEnable: 0
- LensProfileSetup: LensDefaults
- LuminanceAdjustmentAqua: 0
- LuminanceAdjustmentBlue: 0
- LuminanceAdjustmentGreen: 0
- LuminanceAdjustmentMagenta: 0
- LuminanceAdjustmentOrange: 0
- LuminanceAdjustmentPurple: 0
- LuminanceAdjustmentRed: 0
- LuminanceAdjustmentYellow: 0
- LuminanceSmoothing: 0
- ParametricDarks: 0
- ParametricHighlightSplit: 75
- ParametricHighlights: 0
- ParametricLights: 0
- ParametricMidtoneSplit: 50
- ParametricShadowSplit: 25
- ParametricShadows: 0
- PerspectiveHorizontal: 0
- PerspectiveRotate: 0.0
- PerspectiveScale: 100
- PerspectiveVertical: 0
- PostCropVignetteAmount: 0
- ProcessVersion: 6.7
- RedHue: 0
- RedSaturation: 0
- Saturation: +5
- SaturationAdjustmentAqua: 0
- SaturationAdjustmentBlue: 0
- SaturationAdjustmentGreen: 0
- SaturationAdjustmentMagenta: 0
- SaturationAdjustmentOrange: 0
- SaturationAdjustmentPurple: 0
- SaturationAdjustmentRed: 0
- SaturationAdjustmentYellow: 0
- ShadowTint: 0
- Shadows2012: +15
- SharpenDetail: 25
- SharpenEdgeMasking: 0
- SharpenRadius: +1.5
- Sharpness: 70
- SplitToningBalance: 0
- SplitToningHighlightHue: 0
- SplitToningHighlightSaturation: 0
- SplitToningShadowHue: 0
- SplitToningShadowSaturation: 0
- Tint: +3
- ToneCurveName2012: Linear
- ToneCurvePV2012: 0, 0, 255, 255
- ToneCurvePV2012Blue: 0, 0, 255, 255
- ToneCurvePV2012Green: 0, 0, 255, 255
- ToneCurvePV2012Red: 0, 0, 255, 255
- Version: 7.3
- Vibrance: +15
- VignetteAmount: 0
- WhiteBalance: As Shot
- Whites2012: +45
- XMP-dc
- Creator: Fiodar Sabadash-Radzko
- Format: image/jpeg
- XMP-xmp
- ModifyDate: 2014:06:23 00:14:35+04:00
- XMP-xmpMM