- Раздел: Автомобили
- Дата съёмки: 19.04.2014 15:06
- Дата загрузки фото: 23.06.2014 22:44
- Оригинальная фотография: 1920 x 1256 (1,0 Мб)
- Технические характеристики:
- Фотоаппарат: Canon EOS 5D Mark II
- Выдержка: 1/8000
- Гиперфокальное расстояние: inf m
- Диафрагма: 1,4
- Светочувствительность: 100
- Фокусное расстояние: 35,0 mm (35 mm equivalent: 70,0 mm)
- Полный EXIF
- Adobe
- ColorTransform: YCbCr
- Composite
- Aperture: 1,4
- CircleOfConfusion: 0,010 mm
- FOV: 28,0 deg
- FocalLength35efl: 35,0 mm (35 mm equivalent: 70,0 mm)
- HyperfocalDistance: inf m
- LensID: Canon EF 17-35mm f/2.8L or Sigma Lens
- ScaleFactor35efl: 2,9
- ShutterSpeed: 1/8000
- ExifIFD
- ApertureValue: 1,4
- ColorSpace: sRGB
- CreateDate: 2014:04:19 15:06:21
- CustomRendered: Normal
- DateTimeOriginal: 2014:04:19 15:06:21
- ExifImageHeight: 1256
- ExifImageWidth: 1920
- ExposureCompensation: 0
- ExposureMode: Auto
- ExposureProgram: Aperture-priority AE
- ExposureTime: 1/8000
- FNumber: 1,4
- Flash: Off, Did not fire
- FocalLength: 35,0 mm
- ISO: 100
- LensInfo: 35mm f/?
- LensModel: 35mm
- MaxApertureValue: 1,4
- MeteringMode: Multi-segment
- SceneCaptureType: Standard
- SerialNumber: 2151307365
- ShutterSpeedValue: 1/8000
- WhiteBalance: Auto
- ICC-header
- ICC-meas
- ICC-view
- IFD0
- BitsPerSample: 8 8 8
- ImageHeight: 3579
- ImageWidth: 5471
- Make: Canon
- Model: Canon EOS 5D Mark II
- ModifyDate: 2014:04:30 21:49:17
- Orientation: Horizontal (normal)
- PhotometricInterpretation: RGB
- SamplesPerPixel: 3
- IFD1
- IPTC
- DateCreated: 2014:04:19
- System
- XMP-aux
- ApproximateFocusDistance: 2,22
- Firmware: 2.0.7
- FlashCompensation: 0
- ImageNumber: 0
- Lens: 35mm
- LensID: 169
- XMP-crs
- AlreadyApplied: True
- AutoLateralCA: 0
- Blacks2012: 0
- BlueHue: 0
- BlueSaturation: 0
- CameraProfile: Camera Landscape
- Clarity2012: +70
- ColorNoiseReduction: 68
- ColorNoiseReductionDetail: 50
- ColorTemperature: 5523
- Contrast2012: 0
- ConvertToGrayscale: False
- CropAngle: 1.43195
- CropBottom: 0.992057
- CropConstrainToWarp: 0
- CropHeight: 3579
- CropLeft: 0.026101
- CropRight: 0.984076
- CropTop: 0
- CropUnit: pixels
- CropWidth: 5471
- DefringeGreenAmount: 5
- DefringeGreenHueHi: 70
- DefringeGreenHueLo: 28
- DefringePurpleAmount: 3
- DefringePurpleHueHi: 70
- DefringePurpleHueLo: 30
- Exposure2012: +0.11
- GrainAmount: 0
- GreenHue: 0
- GreenSaturation: 0
- HasCrop: True
- HasSettings: True
- Highlights2012: -36
- HueAdjustmentAqua: 0
- HueAdjustmentBlue: 0
- HueAdjustmentGreen: 0
- HueAdjustmentMagenta: 0
- HueAdjustmentOrange: 0
- HueAdjustmentPurple: 0
- HueAdjustmentRed: -17
- HueAdjustmentYellow: 0
- LensManualDistortionAmount: 0
- LensProfileEnable: 0
- LensProfileSetup: LensDefaults
- LuminanceAdjustmentAqua: 0
- LuminanceAdjustmentBlue: 0
- LuminanceAdjustmentGreen: 0
- LuminanceAdjustmentMagenta: 0
- LuminanceAdjustmentOrange: 0
- LuminanceAdjustmentPurple: 0
- LuminanceAdjustmentRed: -13
- LuminanceAdjustmentYellow: 0
- LuminanceSmoothing: 0
- PaintBasedCorrectionsLocalClarity2012: -0.406590
- PaintBasedCorrectionsLocalContrast2012: 0.000000
- PaintBasedCorrectionsLocalDefringe: 0.000000
- PaintBasedCorrectionsLocalExposure2012: 0.000000
- PaintBasedCorrectionsLocalHighlights2012: 0.000000
- PaintBasedCorrectionsLocalLuminanceNoise: 0.000000
- PaintBasedCorrectionsLocalMoire: 0.000000
- PaintBasedCorrectionsLocalShadows2012: 0.000000
- PaintBasedCorrectionsLocalTemperature: 0.000000
- PaintBasedCorrectionsLocalTint: 0.000000
- PaintCorrectionActive: true
- PaintCorrectionAmount: 1.000000
- PaintCorrectionBrightness: 0.000000
- PaintCorrectionHue: 0.000000
- PaintCorrectionMaskCenterWeight: 0.196625
- PaintCorrectionMaskFlow: 1.000000
- PaintCorrectionMaskRadius: 0.148942
- PaintCorrectionMaskValue: 1.000000
- PaintCorrectionMaskWhat: Mask/Paint
- PaintCorrectionSaturation: 0.000000
- PaintCorrectionSharpness: 0.000000
- PaintCorrectionWhat: Correction
- ParametricDarks: 0
- ParametricHighlightSplit: 75
- ParametricHighlights: 0
- ParametricLights: 0
- ParametricMidtoneSplit: 50
- ParametricShadowSplit: 25
- ParametricShadows: 0
- PerspectiveHorizontal: 0
- PerspectiveRotate: 0.0
- PerspectiveScale: 100
- PerspectiveVertical: 0
- PostCropVignetteAmount: 0
- ProcessVersion: 6.7
- RedHue: 0
- RedSaturation: 0
- Saturation: 0
- SaturationAdjustmentAqua: 0
- SaturationAdjustmentBlue: -15
- SaturationAdjustmentGreen: 0
- SaturationAdjustmentMagenta: 0
- SaturationAdjustmentOrange: 0
- SaturationAdjustmentPurple: 0
- SaturationAdjustmentRed: -2
- SaturationAdjustmentYellow: 0
- ShadowTint: 0
- Shadows2012: +77
- SharpenDetail: 25
- SharpenEdgeMasking: 0
- SharpenRadius: +1.0
- Sharpness: 25
- SplitToningBalance: 0
- SplitToningHighlightHue: 0
- SplitToningHighlightSaturation: 0
- SplitToningShadowHue: 0
- SplitToningShadowSaturation: 0
- Tint: +1
- ToneCurveName2012: Linear
- ToneCurvePV2012: 0, 0, 255, 255
- ToneCurvePV2012Blue: 0, 0, 255, 255
- ToneCurvePV2012Green: 0, 0, 255, 255
- ToneCurvePV2012Red: 0, 0, 255, 255
- Version: 7.3
- Vibrance: +50
- VignetteAmount: 0
- WhiteBalance: Custom
- Whites2012: +18
- XMP-dc
- XMP-xmp
- ModifyDate: 2014:04:30 21:49:17+04:00
- Rating: 2
- XMP-xmpMM
- Просмотров: 180
- Рейтинг: голосов еще нет
- Отзывов: 0