- Раздел: Путешествия
- Дата съёмки: 10.08.2014 10:41
- Дата загрузки фото: 15.08.2014 13:33
- Оригинальная фотография: 800 x 450 (535 Кб)
- Технические характеристики:
- Фотоаппарат: BlackBerry Z10
- Выдержка: 1/50
- Гиперфокальное расстояние: inf m
- Диафрагма: 2,2
- Светочувствительность: 90
- Фокусное расстояние: 4,0 mm (35 mm equivalent: 28,0 mm)
- Полный EXIF
- Adobe
- ColorTransform: YCbCr
- Composite
- Aperture: 2,2
- CircleOfConfusion: 0,004 mm
- DOF: inf (0,00 m - inf)
- FOV: 65,0 deg
- FocalLength35efl: 4,0 mm (35 mm equivalent: 28,0 mm)
- HyperfocalDistance: inf m
- ScaleFactor35efl: 7,8
- ShutterSpeed: 1/50
- ExifIFD
- ApertureValue: 2,2
- CreateDate: 2014:08:10 10:41:21
- DateTimeOriginal: 2014:08:10 10:41:21
- DigitalZoomRatio: 1,000015259
- ExposureCompensation: 0
- ExposureTime: 1/50
- FNumber: 2,2
- Flash: Off, Did not fire
- FocalLength: 4,1 mm
- FocalLengthIn35mmFormat: 31 mm
- ISO: 90
- LightSource: Fluorescent
- MeteringMode: Center-weighted average
- SceneCaptureType: Standard
- SceneType: Directly photographed
- ShutterSpeedValue: 1/50
- SubjectDistance: 10 m
- UserComment: DCCver0077
- WhiteBalance: Auto
- ICC-header
- ICC-meas
- ICC-view
- IFD0
- Make: BlackBerry
- Model: BlackBerry Z10
- ModifyDate: 2014:08:15 13:26:12
- IFD1
- IPTC
- DateCreated: 2014:08:10
- System
- XMP-aux
- ApproximateFocusDistance: 10
- XMP-crs
- AlreadyApplied: True
- AutoLateralCA: 0
- Blacks2012: +1
- BlueHue: 0
- BlueSaturation: 0
- CameraProfile: Embedded
- Clarity2012: +30
- ColorNoiseReduction: 0
- Contrast2012: +25
- ConvertToGrayscale: False
- DefringeGreenAmount: 0
- DefringeGreenHueHi: 60
- DefringeGreenHueLo: 40
- DefringePurpleAmount: 0
- DefringePurpleHueHi: 70
- DefringePurpleHueLo: 30
- Exposure2012: -0.15
- GrainAmount: 0
- GreenHue: 0
- GreenSaturation: 0
- HasCrop: False
- HasSettings: True
- Highlights2012: 0
- HueAdjustmentAqua: 0
- HueAdjustmentBlue: 0
- HueAdjustmentGreen: 0
- HueAdjustmentMagenta: 0
- HueAdjustmentOrange: 0
- HueAdjustmentPurple: 0
- HueAdjustmentRed: 0
- HueAdjustmentYellow: 0
- IncrementalTemperature: 0
- IncrementalTint: 0
- LensManualDistortionAmount: 0
- LensProfileEnable: 0
- LensProfileSetup: LensDefaults
- LuminanceAdjustmentAqua: 0
- LuminanceAdjustmentBlue: 0
- LuminanceAdjustmentGreen: 0
- LuminanceAdjustmentMagenta: 0
- LuminanceAdjustmentOrange: 0
- LuminanceAdjustmentPurple: 0
- LuminanceAdjustmentRed: 0
- LuminanceAdjustmentYellow: 0
- LuminanceSmoothing: 0
- ParametricDarks: 0
- ParametricHighlightSplit: 75
- ParametricHighlights: 0
- ParametricLights: 0
- ParametricMidtoneSplit: 50
- ParametricShadowSplit: 25
- ParametricShadows: 0
- PerspectiveAspect: 0
- PerspectiveHorizontal: 0
- PerspectiveRotate: 0.0
- PerspectiveScale: 100
- PerspectiveUpright: 0
- PerspectiveVertical: 0
- PostCropVignetteAmount: 0
- ProcessVersion: 6.7
- RedHue: 0
- RedSaturation: 0
- Saturation: 0
- SaturationAdjustmentAqua: 0
- SaturationAdjustmentBlue: 0
- SaturationAdjustmentGreen: 0
- SaturationAdjustmentMagenta: 0
- SaturationAdjustmentOrange: 0
- SaturationAdjustmentPurple: 0
- SaturationAdjustmentRed: 0
- SaturationAdjustmentYellow: 0
- ShadowTint: 0
- Shadows2012: 0
- SharpenDetail: 25
- SharpenEdgeMasking: 0
- SharpenRadius: +1.0
- Sharpness: 0
- SplitToningBalance: 0
- SplitToningHighlightHue: 0
- SplitToningHighlightSaturation: 0
- SplitToningShadowHue: 0
- SplitToningShadowSaturation: 0
- ToneCurveName2012: Linear
- ToneCurvePV2012: 0, 0, 255, 255
- ToneCurvePV2012Blue: 0, 0, 255, 255
- ToneCurvePV2012Green: 0, 0, 255, 255
- ToneCurvePV2012Red: 0, 0, 255, 255
- Version: 8.1
- Vibrance: +25
- VignetteAmount: 0
- WhiteBalance: As Shot
- Whites2012: 0
- XMP-dc
- XMP-xmp
- ModifyDate: 2014:08:15 13:26:12+04:00
- XMP-xmpMM
- Просмотров: 206
- Рейтинг: голосов еще нет
- Отзывов: 0