- Раздел: Другое, разное
- Дата съёмки: 29.07.2014 11:42
- Дата загрузки фото: 18.08.2014 15:11
- Оригинальная фотография: 1024 x 683 (456 Кб)
- Технические характеристики:
- Фотоаппарат: Canon EOS REBEL T4i
- Выдержка: 1/400
- Гиперфокальное расстояние: inf m
- Диафрагма: 8,0
- Светочувствительность: 100
- Фокусное расстояние: 18,0 mm (35 mm equivalent: 144,0 mm)
- Экспокоррекция: -2/3
- Полный EXIF
- Adobe
- ColorTransform: YCbCr
- Composite
- Aperture: 8,0
- CircleOfConfusion: 0,004 mm
- FOV: 14,0 deg
- FocalLength35efl: 18,0 mm (35 mm equivalent: 144,0 mm)
- HyperfocalDistance: inf m
- LensID: Canon EF-S 18-135mm f/3.5-5.6 IS STM
- ScaleFactor35efl: 8,0
- ShutterSpeed: 1/400
- ExifIFD
- ApertureValue: 8,0
- ColorSpace: sRGB
- CreateDate: 2014:07:29 11:42:05
- CustomRendered: Normal
- DateTimeOriginal: 2014:07:29 11:42:05
- ExifImageHeight: 683
- ExifImageWidth: 1024
- ExposureCompensation: -2/3
- ExposureMode: Auto
- ExposureProgram: Aperture-priority AE
- ExposureTime: 1/400
- FNumber: 8,0
- Flash: Off, Did not fire
- FocalLength: 18,0 mm
- ISO: 100
- LensInfo: 18-135mm f/?
- LensModel: EF-S18-135mm f/3.5-5.6 IS STM
- LensSerialNumber: 0000415104
- MaxApertureValue: 3,5
- MeteringMode: Multi-segment
- RecommendedExposureIndex: 100
- SceneCaptureType: Standard
- SensitivityType: Recommended Exposure Index
- SerialNumber: 072053013101
- ShutterSpeedValue: 1/400
- WhiteBalance: Auto
- ICC-header
- ICC-meas
- ICC-view
- IFD0
- Artist: Fedor Sabodash-Radzko
- BitsPerSample: 8 8 8
- Copyright: Fedor Sabodash-Radzko
- ImageHeight: 2561
- ImageWidth: 3841
- Make: Canon
- Model: Canon EOS REBEL T4i
- ModifyDate: 2014:08:18 14:06:07
- Orientation: Horizontal (normal)
- PhotometricInterpretation: RGB
- PlanarConfiguration: Chunky
- SamplesPerPixel: 3
- IFD1
- IPTC
- By-line: Fedor Sabodash-Radzko
- CopyrightNotice: Fedor Sabodash-Radzko
- DateCreated: 2014:07:29
- System
- XMP-aux
- ApproximateFocusDistance: 3,97
- Firmware: 1.0.4
- FlashCompensation: 0
- ImageNumber: 0
- Lens: EF-S18-135mm f/3.5-5.6 IS STM
- LensID: 4142
- XMP-crs
- AlreadyApplied: True
- AutoLateralCA: 0
- Blacks2012: +23
- BlueHue: 0
- BlueSaturation: 0
- Clarity2012: +15
- ColorNoiseReduction: 25
- ColorNoiseReductionDetail: 50
- ColorTemperature: 5750
- Contrast2012: +25
- ConvertToGrayscale: False
- CropAngle: 0.1
- CropBottom: 0.752797
- CropConstrainToWarp: 0
- CropLeft: 0.120136
- CropRight: 0.860493
- CropTop: 0.009634
- DefringeGreenAmount: 0
- DefringeGreenHueHi: 60
- DefringeGreenHueLo: 40
- DefringePurpleAmount: 0
- DefringePurpleHueHi: 70
- DefringePurpleHueLo: 30
- Exposure2012: 0.00
- GrainAmount: 0
- GreenHue: 0
- GreenSaturation: 0
- HasCrop: True
- HasSettings: True
- Highlights2012: -100
- HueAdjustmentAqua: 0
- HueAdjustmentBlue: 0
- HueAdjustmentGreen: 0
- HueAdjustmentMagenta: 0
- HueAdjustmentOrange: 0
- HueAdjustmentPurple: 0
- HueAdjustmentRed: 0
- HueAdjustmentYellow: 0
- LensManualDistortionAmount: 0
- LensProfileEnable: 0
- LensProfileSetup: LensDefaults
- LuminanceAdjustmentAqua: -1
- LuminanceAdjustmentBlue: -100
- LuminanceAdjustmentGreen: +13
- LuminanceAdjustmentMagenta: 0
- LuminanceAdjustmentOrange: +100
- LuminanceAdjustmentPurple: 0
- LuminanceAdjustmentRed: +12
- LuminanceAdjustmentYellow: +47
- LuminanceSmoothing: 0
- ParametricDarks: 0
- ParametricHighlightSplit: 75
- ParametricHighlights: 0
- ParametricLights: 0
- ParametricMidtoneSplit: 50
- ParametricShadowSplit: 25
- ParametricShadows: 0
- PerspectiveAspect: 0
- PerspectiveHorizontal: 0
- PerspectiveRotate: 0.0
- PerspectiveScale: 100
- PerspectiveUpright: 0
- PerspectiveVertical: 0
- PostCropVignetteAmount: 0
- ProcessVersion: 6.7
- RedHue: 0
- RedSaturation: 0
- Saturation: +5
- SaturationAdjustmentAqua: 0
- SaturationAdjustmentBlue: 0
- SaturationAdjustmentGreen: 0
- SaturationAdjustmentMagenta: 0
- SaturationAdjustmentOrange: +37
- SaturationAdjustmentPurple: 0
- SaturationAdjustmentRed: 0
- SaturationAdjustmentYellow: +58
- ShadowTint: 0
- Shadows2012: +60
- SharpenDetail: 25
- SharpenEdgeMasking: 0
- SharpenRadius: +1.5
- Sharpness: 70
- SplitToningBalance: 0
- SplitToningHighlightHue: 0
- SplitToningHighlightSaturation: 0
- SplitToningShadowHue: 0
- SplitToningShadowSaturation: 0
- Tint: +13
- ToneCurveName2012: Linear
- ToneCurvePV2012: 0, 0, 255, 255
- ToneCurvePV2012Blue: 0, 0, 255, 255
- ToneCurvePV2012Green: 0, 0, 255, 255
- ToneCurvePV2012Red: 0, 0, 255, 255
- Version: 8.1
- Vibrance: +15
- VignetteAmount: 0
- WhiteBalance: As Shot
- Whites2012: +5
- XMP-dc
- Creator: Fedor Sabodash-Radzko
- Format: image/jpeg
- Rights: Fedor Sabodash-Radzko
- XMP-xmp
- ModifyDate: 2014:08:18 14:06:07+03:00
- Rating: 5
- XMP-xmpMM