- Раздел: Другое, разное
- Дата съёмки: 09.08.2014 21:08
- Дата загрузки фото: 18.08.2014 21:12
- Оригинальная фотография: 6790 x 4531 (4,7 Мб)
- Технические характеристики:
- Фотоаппарат: Nikon D810
- Выдержка: 1/400
- Гиперфокальное расстояние: inf m
- Диафрагма: 5,0
- Светочувствительность: 64
- Фокусное расстояние: 14,0 mm (35 mm equivalent: 14,0 mm)
- Полный EXIF
- Composite
- Aperture: 5,0
- CircleOfConfusion: 0,030 mm
- FOV: 104,0 deg
- FocalLength35efl: 14,0 mm (35 mm equivalent: 14,0 mm)
- GPSAltitude: 145 m Above Sea Level
- GPSDateTime: 2014:08:18 13:46:55Z
- GPSLatitude: 59 deg 26' 25,00" N
- GPSLongitude: 61 deg 50' 42,00" E
- GPSPosition: 59 deg 26' 25,00" N, 61 deg 50' 42,00" E
- HyperfocalDistance: inf m
- LensID: AF-S Zoom-Nikkor 14-24mm f/2.8G ED
- ScaleFactor35efl: 1,0
- ShutterSpeed: 1/400
- ExifIFD
- ApertureValue: 5,0
- CFAPattern: [Red,Green][Green,Blue]
- ColorSpace: sRGB
- Contrast: Normal
- CreateDate: 2014:08:09 21:08:26
- CustomRendered: Normal
- DateTimeOriginal: 2014:08:09 21:08:26
- DigitalZoomRatio: 1
- ExifImageHeight: 4531
- ExifImageWidth: 6790
- ExposureCompensation: 0
- ExposureMode: Auto
- ExposureProgram: Aperture-priority AE
- ExposureTime: 1/400
- FNumber: 5,0
- Flash: Off, Did not fire
- FocalLength: 14,0 mm
- FocalLengthIn35mmFormat: 14 mm
- GainControl: None
- ISO: 64
- LensInfo: 14-24mm f/2.8
- LensModel: 14.0-24.0 mm f/2.8
- LightSource: Unknown
- MaxApertureValue: 2,8
- MeteringMode: Multi-segment
- Saturation: Normal
- SceneCaptureType: Standard
- SceneType: Directly photographed
- SensingMethod: One-chip color area
- SensitivityType: Recommended Exposure Index
- SerialNumber: 6002167
- Sharpness: Normal
- ShutterSpeedValue: 1/400
- SubjectDistanceRange: Unknown
- WhiteBalance: Auto
- GPS
- GPSAltitude: 145 m
- GPSAltitudeRef: Above Sea Level
- GPSDateStamp: 2014:08:18
- GPSLatitude: 59 deg 26' 25,00"
- GPSLatitudeRef: North
- GPSLongitude: 61 deg 50' 42,00"
- GPSLongitudeRef: East
- GPSSatellites: 05
- GPSTimeStamp: 13:46:55
- GPSVersionID: 2.3.0.0
- IFD0
- Make: NIKON CORPORATION
- Model: NIKON D810
- ModifyDate: 2014:08:18 22:13:55
- Orientation: Unknown (0)
- Software: DxO ViewPoint 2
- IFD1
- IPTC
- City: Екатеринбург
- Country-PrimaryLocationName: Р РѕСЃСЃРёСЏ
- DateCreated: 2014:08:09
- Province-State: Свердловская обл
- Sub-location: Октябрьский райо
- System
- XMP-aux
- ApproximateFocusDistance: 4294967295
- ImageNumber: 154
- Lens: 14.0-24.0 mm f/2.8
- LensID: 146
- XMP-crs
- AlreadyApplied: True
- AutoLateralCA: 0
- AutoWhiteVersion: 134348800
- Blacks2012: +15
- BlueHue: 0
- BlueSaturation: 0
- CameraProfile: Camera Standard
- Clarity2012: 0
- ColorNoiseReduction: 25
- ColorNoiseReductionDetail: 50
- ColorNoiseReductionSmoothness: 50
- ColorTemperature: 5450
- Contrast2012: -4
- ConvertToGrayscale: False
- CropAngle: -0.41821
- CropBottom: 0.989181
- CropConstrainToWarp: 0
- CropLeft: 0.003
- CropRight: 0.997
- CropTop: 0.010819
- DefringeGreenAmount: 0
- DefringeGreenHueHi: 60
- DefringeGreenHueLo: 40
- DefringePurpleAmount: 0
- DefringePurpleHueHi: 70
- DefringePurpleHueLo: 30
- Exposure2012: +0.43
- GrainAmount: 0
- GreenHue: 0
- GreenSaturation: 0
- HasCrop: True
- HasSettings: True
- Highlights2012: +21
- HueAdjustmentAqua: 0
- HueAdjustmentBlue: 0
- HueAdjustmentGreen: 0
- HueAdjustmentMagenta: 0
- HueAdjustmentOrange: 0
- HueAdjustmentPurple: 0
- HueAdjustmentRed: 0
- HueAdjustmentYellow: 0
- LensManualDistortionAmount: 0
- LensProfileChromaticAberrationScale: 100
- LensProfileDistortionScale: 100
- LensProfileEnable: 1
- LensProfileFilename: 17aba3b47b7c4ad69aeb04a10ec7bbb9.lcp
- LensProfileName: NIKON D3X - Nikon FX 14-24mm f/2.8 G ED
- LensProfileSetup: Auto
- LensProfileVignettingScale: 100
- LuminanceAdjustmentAqua: 0
- LuminanceAdjustmentBlue: 0
- LuminanceAdjustmentGreen: 0
- LuminanceAdjustmentMagenta: 0
- LuminanceAdjustmentOrange: 0
- LuminanceAdjustmentPurple: 0
- LuminanceAdjustmentRed: 0
- LuminanceAdjustmentYellow: 0
- LuminanceSmoothing: 0
- ParametricDarks: 0
- ParametricHighlightSplit: 75
- ParametricHighlights: 0
- ParametricLights: 0
- ParametricMidtoneSplit: 50
- ParametricShadowSplit: 25
- ParametricShadows: 0
- PerspectiveAspect: 0
- PerspectiveHorizontal: 0
- PerspectiveRotate: 0.0
- PerspectiveScale: 100
- PerspectiveUpright: 0
- PerspectiveVertical: 0
- PostCropVignetteAmount: 0
- ProcessVersion: 6.7
- RedHue: 0
- RedSaturation: 0
- Saturation: 0
- SaturationAdjustmentAqua: 0
- SaturationAdjustmentBlue: 0
- SaturationAdjustmentGreen: 0
- SaturationAdjustmentMagenta: 0
- SaturationAdjustmentOrange: 0
- SaturationAdjustmentPurple: 0
- SaturationAdjustmentRed: 0
- SaturationAdjustmentYellow: 0
- ShadowTint: 0
- Shadows2012: +62
- SharpenDetail: 25
- SharpenEdgeMasking: 0
- SharpenRadius: +1.0
- Sharpness: 25
- SplitToningBalance: 0
- SplitToningHighlightHue: 0
- SplitToningHighlightSaturation: 0
- SplitToningShadowHue: 0
- SplitToningShadowSaturation: 0
- Tint: +2
- ToneCurve: 0, 0, 255, 255
- ToneCurveBlue: 0, 0, 255, 255
- ToneCurveGreen: 0, 0, 255, 255
- ToneCurveName: Linear
- ToneCurveName2012: Linear
- ToneCurvePV2012: 0, 0, 255, 255
- ToneCurvePV2012Blue: 0, 0, 255, 255
- ToneCurvePV2012Green: 0, 0, 255, 255
- ToneCurvePV2012Red: 0, 0, 255, 255
- ToneCurveRed: 0, 0, 255, 255
- Version: 8.6
- Vibrance: 0
- VignetteAmount: 0
- WhiteBalance: As Shot
- Whites2012: -51
- XMP-dc
- XMP-iptcCore
- Location: Октябрьский район
- XMP-x
- XMP-xmp
- CreateDate: 2014:08:09 21:08:26.68
- ModifyDate: 2014:08:18 22:13:55+06:00
- XMP-xmpMM
- Просмотров: 172
- Рейтинг: голосов еще нет
- Отзывов: 0