- Раздел: Отдых, развлечения
- Дата съёмки: 28.08.2014 09:26
- Дата загрузки фото: 01.09.2014 13:36
- Оригинальная фотография: 4248 x 2790 (8,7 Мб)
- Технические характеристики:
- Фотоаппарат: Pentax K-r
- Выдержка: 1/2000
- Светочувствительность: 250
- Фокусное расстояние: 300,0 mm (35 mm equivalent: 300,0 mm)
- Полный EXIF
- Adobe
- ColorTransform: YCbCr
- Composite
- CircleOfConfusion: 0,020 mm
- FOV: 6,0 deg
- FocalLength35efl: 300,0 mm (35 mm equivalent: 300,0 mm)
- LensID: M-42 or No Lens
- ScaleFactor35efl: 1,5
- ShutterSpeed: 1/2000
- ExifIFD
- CFAPattern: [Blue,Green][Green,Red]
- Contrast: Normal
- CreateDate: 2014:08:28 09:26:20
- CustomRendered: Normal
- DateTimeOriginal: 2014:08:28 09:26:20
- ExposureCompensation: 0
- ExposureMode: Manual
- ExposureProgram: Manual
- ExposureTime: 1/2000
- Flash: Off, Did not fire
- FocalLength: 300,0 mm
- FocalLengthIn35mmFormat: 450 mm
- ISO: 250
- MeteringMode: Center-weighted average
- Saturation: Normal
- SceneCaptureType: Standard
- SensingMethod: One-chip color area
- Sharpness: Hard
- ShutterSpeedValue: 1/2000
- SubjectDistanceRange: Unknown
- WhiteBalance: Auto
- ICC-header
- ICC-meas
- ICC-view
- IFD0
- Artist: BIKOV_VALERY
- Make: PENTAX
- Model: PENTAX K-r
- ModifyDate: 2014:09:01 11:35:11
- IFD1
- IPTC
- By-line: BIKOV_VALERY
- DateCreated: 2014:08:28
- System
- XMP-aux
- XMP-crs
- AlreadyApplied: True
- AutoLateralCA: 1
- AutoWhiteVersion: 134348800
- Blacks2012: -5
- BlueHue: 0
- BlueSaturation: 0
- Clarity2012: +33
- ColorNoiseReduction: 25
- ColorNoiseReductionDetail: 50
- ColorNoiseReductionSmoothness: 50
- ColorTemperature: 5850
- Contrast2012: +29
- ConvertToGrayscale: False
- CropAngle: 0
- CropBottom: 0.989784
- CropConstrainToWarp: 1
- CropLeft: 0.006033
- CropRight: 0.996666
- CropTop: 0.010216
- DefringeGreenAmount: 0
- DefringeGreenHueHi: 60
- DefringeGreenHueLo: 40
- DefringePurpleAmount: 0
- DefringePurpleHueHi: 70
- DefringePurpleHueLo: 30
- Exposure2012: 0.00
- GrainAmount: 0
- GreenHue: 0
- GreenSaturation: 0
- HasCrop: True
- HasSettings: True
- Highlights2012: 0
- HueAdjustmentAqua: 0
- HueAdjustmentBlue: 0
- HueAdjustmentGreen: 0
- HueAdjustmentMagenta: 0
- HueAdjustmentOrange: 0
- HueAdjustmentPurple: 0
- HueAdjustmentRed: 0
- HueAdjustmentYellow: 0
- LensManualDistortionAmount: 0
- LensProfileChromaticAberrationScale: 100
- LensProfileDistortionScale: 100
- LensProfileEnable: 1
- LensProfileFilename: PENTAX (smc PENTAX-DA 300mm F4 ED [IF] SDM).lcp
- LensProfileSetup: Custom
- LensProfileVignettingScale: 100
- LuminanceAdjustmentAqua: 0
- LuminanceAdjustmentBlue: 0
- LuminanceAdjustmentGreen: 0
- LuminanceAdjustmentMagenta: 0
- LuminanceAdjustmentOrange: 0
- LuminanceAdjustmentPurple: 0
- LuminanceAdjustmentRed: 0
- LuminanceAdjustmentYellow: 0
- LuminanceSmoothing: 0
- ParametricDarks: 0
- ParametricHighlightSplit: 75
- ParametricHighlights: 0
- ParametricLights: 0
- ParametricMidtoneSplit: 50
- ParametricShadowSplit: 25
- ParametricShadows: 0
- PerspectiveAspect: 0
- PerspectiveHorizontal: 0
- PerspectiveRotate: 0.0
- PerspectiveScale: 100
- PerspectiveUpright: 0
- PerspectiveVertical: 0
- PostCropVignetteAmount: 0
- ProcessVersion: 6.7
- RawFileName: IMGP9903.PEF
- RedHue: 0
- RedSaturation: 0
- Saturation: +10
- SaturationAdjustmentAqua: 0
- SaturationAdjustmentBlue: 0
- SaturationAdjustmentGreen: 0
- SaturationAdjustmentMagenta: 0
- SaturationAdjustmentOrange: 0
- SaturationAdjustmentPurple: 0
- SaturationAdjustmentRed: 0
- SaturationAdjustmentYellow: 0
- ShadowTint: 0
- Shadows2012: +28
- SharpenDetail: 25
- SharpenEdgeMasking: 22
- SharpenRadius: +1.3
- Sharpness: 114
- SplitToningBalance: 0
- SplitToningHighlightHue: 0
- SplitToningHighlightSaturation: 0
- SplitToningShadowHue: 0
- SplitToningShadowSaturation: 0
- Tint: +19
- ToneCurve: 0, 0, 32, 22, 64, 56, 128, 128, 192, 196, 255, 255
- ToneCurveBlue: 0, 0, 255, 255
- ToneCurveGreen: 0, 0, 255, 255
- ToneCurveName: Medium Contrast
- ToneCurveName2012: Linear
- ToneCurvePV2012: 0, 0, 255, 255
- ToneCurvePV2012Blue: 0, 0, 255, 255
- ToneCurvePV2012Green: 0, 0, 255, 255
- ToneCurvePV2012Red: 0, 0, 255, 255
- ToneCurveRed: 0, 0, 255, 255
- Version: 8.5
- Vibrance: +3
- VignetteAmount: 0
- WhiteBalance: As Shot
- Whites2012: +30
- XMP-dc
- Creator: BIKOV_VALERY
- Format: image/jpeg
- XMP-xmp
- ModifyDate: 2014:09:01 11:35:11+03:00
- XMP-xmpMM
- Просмотров: 578
- Рейтинг: голосов еще нет
- Отзывов: 0