- Раздел: Другое, разное
- Дата съёмки: 21.08.2014 19:21
- Дата загрузки фото: 08.09.2014 21:08
- Оригинальная фотография: 1060 x 707 (225 Кб)
- Технические характеристики:
- Фотоаппарат: Canon EOS 6D
- Выдержка: 1/250
- Гиперфокальное расстояние: inf m
- Диафрагма: 4,0
- Светочувствительность: 400
- Фокусное расстояние: 70,0 mm (35 mm equivalent: 210,0 mm)
- Экспокоррекция: +1/3
- Полный EXIF
- Adobe
- ColorTransform: YCbCr
- Composite
- Aperture: 4,0
- CircleOfConfusion: 0,009 mm
- FOV: 9,0 deg
- FocalLength35efl: 70,0 mm (35 mm equivalent: 210,0 mm)
- HyperfocalDistance: inf m
- LensID: Canon EF 70-200mm f/4L
- ScaleFactor35efl: 3,4
- ShutterSpeed: 1/250
- ExifIFD
- ApertureValue: 4,0
- ColorSpace: sRGB
- CreateDate: 2014:08:21 19:21:58
- CustomRendered: Normal
- DateTimeOriginal: 2014:08:21 19:21:58
- ExifImageHeight: 707
- ExifImageWidth: 1060
- ExposureCompensation: +1/3
- ExposureMode: Auto
- ExposureProgram: Aperture-priority AE
- ExposureTime: 1/250
- FNumber: 4,0
- Flash: Off, Did not fire
- FocalLength: 70,0 mm
- ISO: 400
- LensInfo: 70-200mm f/?
- LensModel: EF70-200mm f/4L USM
- LensSerialNumber: 0000000000
- MaxApertureValue: 4,0
- MeteringMode: Multi-segment
- RecommendedExposureIndex: 400
- SceneCaptureType: Standard
- SensitivityType: Recommended Exposure Index
- SerialNumber: 088025000139
- ShutterSpeedValue: 1/250
- WhiteBalance: Auto
- ICC-header
- ICC-meas
- ICC-view
- IFD0
- Artist: jury-tver.livejournal.com
- Make: Canon
- Model: Canon EOS 6D
- ModifyDate: 2014:08:24 00:14:49
- Orientation: Horizontal (normal)
- IFD1
- IPTC
- By-line: jury-tver.livejournal.com
- DateCreated: 2014:08:21
- System
- XMP-aux
- ApproximateFocusDistance: 7,05
- Firmware: 1.1.3
- FlashCompensation: 0
- ImageNumber: 0
- Lens: EF70-200mm f/4L USM
- LensID: 186
- XMP-crs
- AlreadyApplied: True
- AutoLateralCA: 0
- Blacks2012: 0
- BlueHue: 0
- BlueSaturation: 0
- CameraProfile: Embedded
- Clarity2012: 0
- ColorNoiseReduction: 0
- Contrast2012: 0
- ConvertToGrayscale: False
- CropAngle: 0
- CropBottom: 0.617174
- CropConstrainToWarp: 0
- CropHeight: 707
- CropLeft: 0.255308
- CropRight: 0.847437
- CropTop: 0.025045
- CropUnit: pixels
- CropWidth: 1060
- DefringeGreenAmount: 0
- DefringeGreenHueHi: 60
- DefringeGreenHueLo: 40
- DefringePurpleAmount: 0
- DefringePurpleHueHi: 70
- DefringePurpleHueLo: 30
- Exposure2012: +0.36
- GrainAmount: 0
- GreenHue: 0
- GreenSaturation: 0
- HasCrop: True
- HasSettings: True
- Highlights2012: 0
- HueAdjustmentAqua: 0
- HueAdjustmentBlue: 0
- HueAdjustmentGreen: 0
- HueAdjustmentMagenta: 0
- HueAdjustmentOrange: 0
- HueAdjustmentPurple: 0
- HueAdjustmentRed: 0
- HueAdjustmentYellow: 0
- IncrementalTemperature: 0
- IncrementalTint: 0
- LensManualDistortionAmount: 0
- LensProfileEnable: 0
- LensProfileSetup: LensDefaults
- LuminanceAdjustmentAqua: 0
- LuminanceAdjustmentBlue: 0
- LuminanceAdjustmentGreen: 0
- LuminanceAdjustmentMagenta: 0
- LuminanceAdjustmentOrange: 0
- LuminanceAdjustmentPurple: 0
- LuminanceAdjustmentRed: 0
- LuminanceAdjustmentYellow: 0
- LuminanceSmoothing: 0
- ParametricDarks: 0
- ParametricHighlightSplit: 75
- ParametricHighlights: 0
- ParametricLights: 0
- ParametricMidtoneSplit: 50
- ParametricShadowSplit: 25
- ParametricShadows: 0
- PerspectiveHorizontal: 0
- PerspectiveRotate: 0.0
- PerspectiveScale: 100
- PerspectiveVertical: 0
- PostCropVignetteAmount: 0
- ProcessVersion: 6.7
- RedHue: 0
- RedSaturation: 0
- Saturation: 0
- SaturationAdjustmentAqua: 0
- SaturationAdjustmentBlue: 0
- SaturationAdjustmentGreen: 0
- SaturationAdjustmentMagenta: 0
- SaturationAdjustmentOrange: 0
- SaturationAdjustmentPurple: 0
- SaturationAdjustmentRed: 0
- SaturationAdjustmentYellow: 0
- ShadowTint: 0
- Shadows2012: +11
- SharpenDetail: 25
- SharpenEdgeMasking: 0
- SharpenRadius: +1.0
- Sharpness: 0
- SplitToningBalance: 0
- SplitToningHighlightHue: 0
- SplitToningHighlightSaturation: 0
- SplitToningShadowHue: 0
- SplitToningShadowSaturation: 0
- ToneCurveName2012: Linear
- ToneCurvePV2012: 0, 0, 255, 255
- ToneCurvePV2012Blue: 0, 0, 255, 255
- ToneCurvePV2012Green: 0, 0, 255, 255
- ToneCurvePV2012Red: 0, 0, 255, 255
- Version: 7.4
- Vibrance: +29
- VignetteAmount: 0
- WhiteBalance: As Shot
- Whites2012: 0
- XMP-dc
- Creator: jury-tver.livejournal.com
- Format: image/jpeg
- XMP-xmp
- CreateDate: 2014:08:21 19:21:58.94
- ModifyDate: 2014:08:24 00:14:49+04:00
- XMP-xmpMM
- Просмотров: 169
- Рейтинг: голосов еще нет
- Отзывов: 0