- Раздел: Другое, разное
- Дата съёмки: 29.06.2014 09:41
- Дата загрузки фото: 23.09.2014 19:07
- Оригинальная фотография: 6000 x 4000 (19,7 Мб)
- Технические характеристики:
- Фотоаппарат: Nikon D5300
- Выдержка: 1/800
- Гиперфокальное расстояние: inf m
- Диафрагма: 6,3
- Светочувствительность: 100
- Фокусное расстояние: 35,0 mm (35 mm equivalent: 35,0 mm)
- Экспокоррекция: -1
- Полный EXIF
- Composite
- Aperture: 6,3
- CircleOfConfusion: 0,020 mm
- FOV: 54,0 deg
- FocalLength35efl: 35,0 mm (35 mm equivalent: 35,0 mm)
- HyperfocalDistance: inf m
- LensID: AF-S DX Nikkor 35mm f/1.8G
- ScaleFactor35efl: 1,5
- ShutterSpeed: 1/800
- ExifIFD
- ApertureValue: 6,3
- CFAPattern: [Red,Green][Green,Blue]
- Contrast: Normal
- CreateDate: 2014:06:29 09:41:51
- CustomRendered: Custom
- DateTimeOriginal: 2014:06:29 09:41:51
- DigitalZoomRatio: 1
- ExposureCompensation: -1
- ExposureMode: Auto
- ExposureProgram: Aperture-priority AE
- ExposureTime: 1/800
- FNumber: 6,3
- Flash: No Flash
- FocalLength: 35,0 mm
- FocalLengthIn35mmFormat: 52 mm
- GainControl: None
- ISO: 100
- LensInfo: 35mm f/1.8
- LensModel: 35.0 mm f/1.8
- LightSource: Unknown
- MaxApertureValue: 1,7
- MeteringMode: Center-weighted average
- Saturation: High
- SceneCaptureType: Portrait
- SceneType: Directly photographed
- SensingMethod: One-chip color area
- SensitivityType: Recommended Exposure Index
- SerialNumber: 4301151
- Sharpness: Normal
- ShutterSpeedValue: 1/800
- SubjectDistanceRange: Unknown
- WhiteBalance: Auto
- ICC-header
- ICC-header2
- ICC-meas
- ICC-meas2
- ICC-view
- ICC-view2
- IFD0
- BitsPerSample: 16 16 16
- ImageHeight: 4000
- ImageWidth: 6000
- Make: NIKON CORPORATION
- Model: NIKON D5300
- ModifyDate: 2014:09:23 18:30:53
- PlanarConfiguration: Chunky
- SamplesPerPixel: 3
- SubfileType: Full-resolution Image
- IPTC
- DateCreated: 2014:06:29
- System
- XMP-aux
- ApproximateFocusDistance: 4294967295
- ImageNumber: 1407
- Lens: 35.0 mm f/1.8
- LensID: 159
- XMP-crs
- AlreadyApplied: True
- AutoLateralCA: 1
- AutoWhiteVersion: 134348800
- Blacks2012: +20
- BlueHue: 0
- BlueSaturation: 0
- Clarity2012: +11
- ColorNoiseReduction: 25
- ColorNoiseReductionDetail: 50
- ColorNoiseReductionSmoothness: 50
- ColorTemperature: 5409
- Contrast2012: +18
- ConvertToGrayscale: False
- DefringeGreenAmount: 0
- DefringeGreenHueHi: 60
- DefringeGreenHueLo: 40
- DefringePurpleAmount: 3
- DefringePurpleHueHi: 44
- DefringePurpleHueLo: 14
- Exposure2012: +1.14
- GrainAmount: 0
- GreenHue: 0
- GreenSaturation: 0
- HasCrop: False
- HasSettings: True
- Highlights2012: -34
- HueAdjustmentAqua: 0
- HueAdjustmentBlue: 0
- HueAdjustmentGreen: -6
- HueAdjustmentMagenta: 0
- HueAdjustmentOrange: -11
- HueAdjustmentPurple: 0
- HueAdjustmentRed: 0
- HueAdjustmentYellow: 0
- LensManualDistortionAmount: 0
- LensProfileEnable: 0
- LensProfileSetup: LensDefaults
- LuminanceAdjustmentAqua: 0
- LuminanceAdjustmentBlue: -9
- LuminanceAdjustmentGreen: 0
- LuminanceAdjustmentMagenta: 0
- LuminanceAdjustmentOrange: 0
- LuminanceAdjustmentPurple: 0
- LuminanceAdjustmentRed: 0
- LuminanceAdjustmentYellow: 0
- LuminanceSmoothing: 0
- ParametricDarks: 0
- ParametricHighlightSplit: 75
- ParametricHighlights: 0
- ParametricLights: 0
- ParametricMidtoneSplit: 50
- ParametricShadowSplit: 25
- ParametricShadows: 0
- PerspectiveAspect: 0
- PerspectiveHorizontal: 0
- PerspectiveRotate: 0.0
- PerspectiveScale: 100
- PerspectiveUpright: 0
- PerspectiveVertical: 0
- PostCropVignetteAmount: 0
- ProcessVersion: 6.7
- RedHue: 0
- RedSaturation: 0
- Saturation: +7
- SaturationAdjustmentAqua: 0
- SaturationAdjustmentBlue: 0
- SaturationAdjustmentGreen: -32
- SaturationAdjustmentMagenta: 0
- SaturationAdjustmentOrange: 0
- SaturationAdjustmentPurple: 0
- SaturationAdjustmentRed: 0
- SaturationAdjustmentYellow: 0
- ShadowTint: 0
- Shadows2012: 0
- SharpenDetail: 0
- SharpenEdgeMasking: 0
- SharpenRadius: +0.6
- Sharpness: 0
- SplitToningBalance: 0
- SplitToningHighlightHue: 0
- SplitToningHighlightSaturation: 0
- SplitToningShadowHue: 0
- SplitToningShadowSaturation: 0
- Tint: +8
- ToneCurve: 0, 0, 255, 255
- ToneCurveBlue: 0, 0, 255, 255
- ToneCurveGreen: 0, 0, 255, 255
- ToneCurveName: Linear
- ToneCurveName2012: Linear
- ToneCurvePV2012: 0, 0, 255, 255
- ToneCurvePV2012Blue: 0, 0, 255, 255
- ToneCurvePV2012Green: 0, 0, 255, 255
- ToneCurvePV2012Red: 0, 0, 255, 255
- ToneCurveRed: 0, 0, 255, 255
- Version: 8.4
- Vibrance: +7
- VignetteAmount: 0
- WhiteBalance: Custom
- Whites2012: +2
- XMP-dc
- XMP-x
- XMP-xmp
- CreateDate: 2014:06:29 09:41:51.90
- ModifyDate: 2014:09:23 18:30:53+04:00
- XMP-xmpMM
- Просмотров: 131
- Рейтинг: голосов еще нет
- Отзывов: 0