- Раздел: Юмор
- Дата съёмки: 10.08.2014 19:15
- Дата загрузки фото: 27.09.2014 09:49
- Оригинальная фотография: 1068 x 1608 (512 Кб)
- Технические характеристики:
- Фотоаппарат: Nikon D90
- Выдержка: 1/200
- Гиперфокальное расстояние: inf m
- Диафрагма: 3,5
- Светочувствительность: 200
- Фокусное расстояние: 50,0 mm (35 mm equivalent: 50,0 mm)
- Экспокоррекция: -4/3
- Полный EXIF
- Composite
- Aperture: 3,5
- CircleOfConfusion: 0,020 mm
- FOV: 39,0 deg
- FocalLength35efl: 50,0 mm (35 mm equivalent: 50,0 mm)
- HyperfocalDistance: inf m
- LensID: AF-S Nikkor 50mm f/1.8G
- ScaleFactor35efl: 1,5
- ShutterSpeed: 1/200
- ExifIFD
- ApertureValue: 3,5
- CFAPattern: [Green,Blue][Red,Green]
- Contrast: Normal
- CreateDate: 2014:08:10 19:15:04
- CustomRendered: Normal
- DateTimeOriginal: 2014:08:10 19:15:04
- DigitalZoomRatio: 1
- ExposureCompensation: -4/3
- ExposureMode: Auto
- ExposureProgram: Aperture-priority AE
- ExposureTime: 1/200
- FNumber: 3,5
- Flash: On, Return detected
- FocalLength: 50,0 mm
- FocalLengthIn35mmFormat: 75 mm
- GainControl: None
- ISO: 200
- LensInfo: 50mm f/1.8
- LensModel: 50.0 mm f/1.8
- LightSource: Cloudy
- MaxApertureValue: 1,7
- MeteringMode: Spot
- Saturation: Normal
- SceneCaptureType: Standard
- SceneType: Directly photographed
- SensingMethod: One-chip color area
- SerialNumber: 8179701
- Sharpness: Normal
- ShutterSpeedValue: 1/200
- SubjectDistanceRange: Unknown
- WhiteBalance: Manual
- IFD0
- Make: NIKON CORPORATION
- Model: NIKON D90
- ModifyDate: 2014:08:19 09:03:11
- IFD1
- IPTC
- DateCreated: 2014:08:10
- System
- XMP-aux
- ApproximateFocusDistance: 3,35
- ImageNumber: 76728
- Lens: 50.0 mm f/1.8
- LensID: 176
- XMP-crs
- AlreadyApplied: True
- AutoLateralCA: 0
- Blacks2012: -25
- BlueHue: -5
- BlueSaturation: -27
- Clarity2012: +16
- ColorNoiseReduction: 0
- Contrast2012: -25
- ConvertToGrayscale: False
- DefringeGreenAmount: 0
- DefringeGreenHueHi: 60
- DefringeGreenHueLo: 40
- DefringePurpleAmount: 0
- DefringePurpleHueHi: 70
- DefringePurpleHueLo: 30
- Exposure2012: +0.34
- GrainAmount: 13
- GrainFrequency: 45
- GrainSize: 21
- GreenHue: +10
- GreenSaturation: +15
- HasCrop: False
- HasSettings: True
- Highlights2012: -30
- HueAdjustmentAqua: +32
- HueAdjustmentBlue: -6
- HueAdjustmentGreen: +5
- HueAdjustmentMagenta: 0
- HueAdjustmentOrange: 0
- HueAdjustmentPurple: 0
- HueAdjustmentRed: +32
- HueAdjustmentYellow: +23
- IncrementalTemperature: +2
- IncrementalTint: -6
- LensManualDistortionAmount: 0
- LensProfileEnable: 0
- LensProfileSetup: LensDefaults
- LuminanceAdjustmentAqua: 0
- LuminanceAdjustmentBlue: 0
- LuminanceAdjustmentGreen: +5
- LuminanceAdjustmentMagenta: 0
- LuminanceAdjustmentOrange: +15
- LuminanceAdjustmentPurple: 0
- LuminanceAdjustmentRed: -21
- LuminanceAdjustmentYellow: -28
- LuminanceNoiseReductionContrast: 0
- LuminanceNoiseReductionDetail: 50
- LuminanceSmoothing: 48
- ParametricDarks: 0
- ParametricHighlightSplit: 75
- ParametricHighlights: 0
- ParametricLights: 0
- ParametricMidtoneSplit: 50
- ParametricShadowSplit: 25
- ParametricShadows: 0
- PerspectiveAspect: 0
- PerspectiveHorizontal: 0
- PerspectiveRotate: 0.0
- PerspectiveScale: 100
- PerspectiveUpright: 0
- PerspectiveVertical: 0
- PostCropVignetteAmount: -41
- PostCropVignetteFeather: 100
- PostCropVignetteHighlightContrast: 76
- PostCropVignetteMidpoint: 31
- PostCropVignetteRoundness: +100
- PostCropVignetteStyle: 1
- ProcessVersion: 6.7
- RedHue: 0
- RedSaturation: -34
- Saturation: -20
- SaturationAdjustmentAqua: 0
- SaturationAdjustmentBlue: +2
- SaturationAdjustmentGreen: +4
- SaturationAdjustmentMagenta: 0
- SaturationAdjustmentOrange: -32
- SaturationAdjustmentPurple: 0
- SaturationAdjustmentRed: 0
- SaturationAdjustmentYellow: -47
- ShadowTint: +15
- Shadows2012: +86
- SharpenDetail: 25
- SharpenEdgeMasking: 0
- SharpenRadius: +0.5
- Sharpness: 106
- SplitToningBalance: -18
- SplitToningHighlightHue: 39
- SplitToningHighlightSaturation: 8
- SplitToningShadowHue: 168
- SplitToningShadowSaturation: 2
- ToneCurveName2012: Custom
- ToneCurvePV2012: 0, 39, 62, 58, 169, 176, 247, 239, 255, 244
- ToneCurvePV2012Blue: 7, 2, 23, 21, 48, 45, 255, 255
- ToneCurvePV2012Green: 0, 6, 24, 26, 255, 255
- ToneCurvePV2012Red: 0, 11, 17, 21, 62, 60, 187, 186, 255, 255
- Version: 8.1
- Vibrance: +15
- VignetteAmount: 0
- WhiteBalance: Custom
- Whites2012: -50
- XMP-dc
- XMP-xmp
- CreateDate: 2014:08:10 19:15:04.00
- ModifyDate: 2014:08:19 09:03:11+03:00
- XMP-xmpMM
- Просмотров: 1989
- Рейтинг: голосов еще нет
- Отзывов: 0