- Раздел: Юмор
- Дата съёмки: 10.08.2014 18:39
- Дата загрузки фото: 27.09.2014 09:49
- Оригинальная фотография: 1608 x 1068 (283 Кб)
- Технические характеристики:
- Фотоаппарат: Nikon D90
- Выдержка: 1/200
- Гиперфокальное расстояние: inf m
- Диафрагма: 4,0
- Светочувствительность: 200
- Фокусное расстояние: 50,0 mm (35 mm equivalent: 50,0 mm)
- Экспокоррекция: -1
- Полный EXIF
- Composite
- Aperture: 4,0
- CircleOfConfusion: 0,020 mm
- FOV: 39,0 deg
- FocalLength35efl: 50,0 mm (35 mm equivalent: 50,0 mm)
- HyperfocalDistance: inf m
- LensID: AF-S Nikkor 50mm f/1.8G
- ScaleFactor35efl: 1,5
- ShutterSpeed: 1/200
- ExifIFD
- ApertureValue: 4,0
- CFAPattern: [Green,Blue][Red,Green]
- Contrast: Normal
- CreateDate: 2014:08:10 18:39:45
- CustomRendered: Normal
- DateTimeOriginal: 2014:08:10 18:39:45
- DigitalZoomRatio: 1
- ExposureCompensation: -1
- ExposureMode: Auto
- ExposureProgram: Aperture-priority AE
- ExposureTime: 1/200
- FNumber: 4,0
- Flash: On, Return detected
- FocalLength: 50,0 mm
- FocalLengthIn35mmFormat: 75 mm
- GainControl: None
- ISO: 200
- LensInfo: 50mm f/1.8
- LensModel: 50.0 mm f/1.8
- LightSource: Cloudy
- MaxApertureValue: 1,7
- MeteringMode: Spot
- Saturation: Normal
- SceneCaptureType: Standard
- SceneType: Directly photographed
- SensingMethod: One-chip color area
- SerialNumber: 8179701
- Sharpness: Normal
- ShutterSpeedValue: 1/200
- SubjectDistanceRange: Unknown
- WhiteBalance: Manual
- IFD0
- Make: NIKON CORPORATION
- Model: NIKON D90
- ModifyDate: 2014:08:18 07:11:38
- IFD1
- IPTC
- DateCreated: 2014:08:10
- System
- XMP-aux
- ApproximateFocusDistance: 5,01
- ImageNumber: 76605
- Lens: 50.0 mm f/1.8
- LensID: 176
- XMP-crs
- AlreadyApplied: True
- AutoLateralCA: 1
- Blacks2012: -26
- BlueHue: -57
- BlueSaturation: +23
- CameraProfile: Camera Landscape
- Clarity2012: 0
- ColorNoiseReduction: 30
- ColorNoiseReductionDetail: 50
- Contrast2012: -20
- ConvertToGrayscale: False
- DefringeGreenAmount: 20
- DefringeGreenHueHi: 60
- DefringeGreenHueLo: 47
- DefringePurpleAmount: 8
- DefringePurpleHueHi: 70
- DefringePurpleHueLo: 30
- Exposure2012: -0.35
- GrainAmount: 0
- GreenHue: +21
- GreenSaturation: +100
- HasCrop: False
- HasSettings: True
- Highlights2012: -25
- HueAdjustmentAqua: 0
- HueAdjustmentBlue: 0
- HueAdjustmentGreen: 0
- HueAdjustmentMagenta: 0
- HueAdjustmentOrange: 0
- HueAdjustmentPurple: 0
- HueAdjustmentRed: +30
- HueAdjustmentYellow: 0
- IncrementalTemperature: 0
- IncrementalTint: 0
- LensManualDistortionAmount: 0
- LensProfileChromaticAberrationScale: 100
- LensProfileDistortionScale: 100
- LensProfileEnable: 1
- LensProfileFilename: NIKON D90 (Nikon AF-S NIKKOR 55-300mm f4.5-5.6G ED VR) - RAW.lcp
- LensProfileSetup: Custom
- LensProfileVignettingScale: 113
- LuminanceAdjustmentAqua: 0
- LuminanceAdjustmentBlue: +5
- LuminanceAdjustmentGreen: 0
- LuminanceAdjustmentMagenta: 0
- LuminanceAdjustmentOrange: +2
- LuminanceAdjustmentPurple: 0
- LuminanceAdjustmentRed: -2
- LuminanceAdjustmentYellow: 0
- LuminanceNoiseReductionContrast: 0
- LuminanceNoiseReductionDetail: 50
- LuminanceSmoothing: 25
- ParametricDarks: 0
- ParametricHighlightSplit: 75
- ParametricHighlights: 0
- ParametricLights: 0
- ParametricMidtoneSplit: 50
- ParametricShadowSplit: 25
- ParametricShadows: 0
- PerspectiveAspect: 0
- PerspectiveHorizontal: 0
- PerspectiveRotate: 0.0
- PerspectiveScale: 100
- PerspectiveUpright: 0
- PerspectiveVertical: 0
- PostCropVignetteAmount: -66
- PostCropVignetteFeather: 100
- PostCropVignetteHighlightContrast: 100
- PostCropVignetteMidpoint: 39
- PostCropVignetteRoundness: -30
- PostCropVignetteStyle: 2
- ProcessVersion: 6.7
- RedHue: +29
- RedSaturation: -23
- Saturation: -28
- SaturationAdjustmentAqua: -14
- SaturationAdjustmentBlue: -23
- SaturationAdjustmentGreen: 0
- SaturationAdjustmentMagenta: 0
- SaturationAdjustmentOrange: -11
- SaturationAdjustmentPurple: 0
- SaturationAdjustmentRed: -17
- SaturationAdjustmentYellow: 0
- ShadowTint: +27
- Shadows2012: +94
- SharpenDetail: 30
- SharpenEdgeMasking: 50
- SharpenRadius: +1.3
- Sharpness: 50
- SplitToningBalance: +100
- SplitToningHighlightHue: 34
- SplitToningHighlightSaturation: 10
- SplitToningShadowHue: 247
- SplitToningShadowSaturation: 71
- ToneCurveName2012: Custom
- ToneCurvePV2012: 0, 21, 44, 46, 89, 92, 144, 150, 213, 219, 247, 255
- ToneCurvePV2012Blue: 0, 0, 190, 186, 255, 242
- ToneCurvePV2012Green: 0, 0, 255, 255
- ToneCurvePV2012Red: 0, 0, 57, 60, 200, 193, 255, 255
- Version: 8.1
- Vibrance: +4
- VignetteAmount: 0
- WhiteBalance: As Shot
- Whites2012: +17
- XMP-dc
- XMP-xmp
- CreateDate: 2014:08:10 18:39:45.00
- ModifyDate: 2014:08:18 07:11:38+03:00
- XMP-xmpMM