- Раздел: Другое, разное
- Дата съёмки: 07.07.2007 14:08
- Дата загрузки фото: 07.07.2007 15:17
- Оригинальная фотография: 2198 x 2652 (4,9 Мб)
- Технические характеристики:
- Фотоаппарат: FujiFilm FinePix S6500fd
- Выдержка: 1/280
- Гиперфокальное расстояние: 2,54 m
- Диафрагма: 4,0
- Светочувствительность: 800
- Фокусное расстояние: 10,8mm (35mm эквивалент: 28,2mm)
- Полный EXIF
- ColorTransform: Unknown (RGB or CMYK)
- Composite
- Aperture: 4,0
- CircleOfConfusion: 0,011 mm
- EV: 9,1
- FocalLength35efl: 10,8mm (35mm equivalent: 28,2mm)
- HyperfocalDistance: 2,54 m
- ScaleFactor35efl: 2,6
- ShutterSpeed: 1/280
- ExifIFD
- ApertureValue: 4,0
- BrightnessValue: 4,44
- ColorSpace: Uncalibrated
- CreateDate: 2007:07:06 15:02:07
- CustomRendered: Normal
- DateTimeOriginal: 2007:07:06 15:02:07
- ExifImageLength: 2652
- ExifImageWidth: 2198
- ExposureCompensation: 0
- ExposureMode: Auto
- ExposureProgram: Aperture-priority AE
- ExposureTime: 1/280
- FNumber: 4,0
- Flash: Off
- FocalLength: 10,8mm
- ISO: 800
- LightSource: Unknown (0)
- MaxApertureValue: 2,8
- MeteringMode: Multi-segment
- SceneCaptureType: Standard
- SceneType: Directly photographed
- SensingMethod: One-chip color area
- Sharpness: Normal
- ShutterSpeedValue: 1/280
- WhiteBalance: Auto
- ICC-header
- IFD0
- Make: FUJIFILM
- Model: FinePix S6500fd
- ModifyDate: 2007:07:07 14:08:34
- Orientation: Horizontal (normal)
- TimeZoneOffset: 2 2
- IFD1
- IPTC
- XMP-crs
- AlreadyApplied: True
- BlueHue: 0
- BlueSaturation: 0
- Brightness: +59
- CameraProfile: ACR 3.6
- ChromaticAberrationB: 0
- ChromaticAberrationR: 0
- ColorNoiseReduction: 25
- Contrast: +50
- ConvertToGrayscale: False
- Exposure: +0.75
- FillLight: 0
- GreenHue: 0
- GreenSaturation: 0
- HasCrop: False
- HasSettings: True
- HighlightRecovery: 0
- HueAdjustmentAqua: +19
- HueAdjustmentBlue: -7
- HueAdjustmentGreen: -47
- HueAdjustmentMagenta: 0
- HueAdjustmentOrange: 0
- HueAdjustmentPurple: -7
- HueAdjustmentRed: 0
- HueAdjustmentYellow: +37
- LuminanceAdjustmentAqua: 0
- LuminanceAdjustmentBlue: +21
- LuminanceAdjustmentGreen: 0
- LuminanceAdjustmentMagenta: 0
- LuminanceAdjustmentOrange: 0
- LuminanceAdjustmentPurple: 0
- LuminanceAdjustmentRed: 0
- LuminanceAdjustmentYellow: -22
- LuminanceSmoothing: 0
- ParametricDarks: 0
- ParametricHighlightSplit: 75
- ParametricHighlights: 0
- ParametricLights: 0
- ParametricMidtoneSplit: 50
- ParametricShadowSplit: 25
- ParametricShadows: 0
- RawFileName: DSCF0239.RAF
- RedHue: 0
- RedSaturation: 0
- Saturation: 0
- SaturationAdjustmentAqua: 0
- SaturationAdjustmentBlue: -33
- SaturationAdjustmentGreen: 0
- SaturationAdjustmentMagenta: 0
- SaturationAdjustmentOrange: -41
- SaturationAdjustmentPurple: 0
- SaturationAdjustmentRed: -31
- SaturationAdjustmentYellow: -37
- ShadowTint: +1
- Shadows: 7
- Sharpness: 25
- SplitToningBalance: -92
- SplitToningHighlightHue: 0
- SplitToningHighlightSaturation: 13
- SplitToningShadowHue: 0
- SplitToningShadowSaturation: 0
- Temperature: 4000
- Tint: -16
- ToneCurve: 0, 0, 32, 22, 64, 56, 128, 128, 192, 196, 255, 255
- ToneCurveName: Medium Contrast
- Version: 4.0
- Vibrance: 0
- VignetteAmount: 0
- WhiteBalance: Custom
- XMP-dc
- XMP-exif
- ColorSpace: Unknown (-1)
- DateTimeDigitized: 2007:07:06 15:02:07+02:00
- DateTimeOriginal: 2007:07:06 15:02:07+02:00
- ExifImageHeight: 2652
- FlashFired: False
- FlashFunction: False
- FlashMode: Off
- FlashRedEyeMode: False
- FlashReturn: No return detection
- SubjectDistanceRange: Unknown
- XMP-tiff
- ImageHeight: 2848
- ImageWidth: 2136
- XMP-xmp
- CreateDate: 2007:07:07 14:08:34+02:00
- ModifyDate: 2007:07:07 14:08:34+02:00
- XMP-xmpMM