- Раздел: Путешествия
- Дата съёмки: 16.08.2014 19:10
- Дата загрузки фото: 26.02.2015 23:46
- Оригинальная фотография: 4000 x 3000 (1,5 Мб)
- Технические характеристики:
- Фотоаппарат: Samsung EX2F
- Выдержка: 1/1000
- Гиперфокальное расстояние: inf m
- Диафрагма: 4,2
- Светочувствительность: 80
- Фокусное расстояние: 17,0 mm (35 mm equivalent: 68,0 mm)
- Полный EXIF
- Adobe
- ColorTransform: YCbCr
- Composite
- Aperture: 4,2
- CircleOfConfusion: 0,006 mm
- FOV: 29,0 deg
- FocalLength35efl: 17,0 mm (35 mm equivalent: 68,0 mm)
- HyperfocalDistance: inf m
- ScaleFactor35efl: 4,7
- ShutterSpeed: 1/1000
- ExifIFD
- ApertureValue: 4,2
- ColorSpace: sRGB
- Contrast: Normal
- CreateDate: 2014:08:16 19:10:50
- DateTimeOriginal: 2014:08:16 19:10:50
- DigitalZoomRatio: 1
- ExposureCompensation: 0
- ExposureMode: Auto
- ExposureProgram: Program AE
- ExposureTime: 1/1000
- FNumber: 4,2
- Flash: No Flash
- FocalLength: 17,3 mm
- FocalLengthIn35mmFormat: 80 mm
- ISO: 80
- LightSource: Unknown
- MaxApertureValue: 2,8
- MeteringMode: Multi-segment
- Saturation: Normal
- SceneCaptureType: Standard
- SensingMethod: One-chip color area
- Sharpness: Normal
- ShutterSpeedValue: 1/1000
- WhiteBalance: Auto
- ICC-header
- ICC-meas
- ICC-view
- IFD0
- Make: SAMSUNG
- Model: EX2F
- ModifyDate: 2015:02:26 21:10:16
- IFD1
- IPTC
- DateCreated: 2014:08:16
- System
- XMP-crs
- AlreadyApplied: True
- AutoLateralCA: 0
- AutoWhiteVersion: 134348800
- Blacks2012: +9
- BlueHue: 0
- BlueSaturation: 0
- CameraProfile: Embedded
- Clarity2012: +15
- ColorNoiseReduction: 0
- Contrast2012: 0
- ConvertToGrayscale: False
- DefringeGreenAmount: 0
- DefringeGreenHueHi: 60
- DefringeGreenHueLo: 40
- DefringePurpleAmount: 0
- DefringePurpleHueHi: 70
- DefringePurpleHueLo: 30
- Exposure2012: 0.00
- GrainAmount: 0
- GreenHue: 0
- GreenSaturation: 0
- HasCrop: False
- HasSettings: True
- Highlights2012: 0
- HueAdjustmentAqua: 0
- HueAdjustmentBlue: 0
- HueAdjustmentGreen: 0
- HueAdjustmentMagenta: 0
- HueAdjustmentOrange: 0
- HueAdjustmentPurple: 0
- HueAdjustmentRed: 0
- HueAdjustmentYellow: 0
- IncrementalTemperature: 0
- IncrementalTint: 0
- LensManualDistortionAmount: 0
- LensProfileEnable: 0
- LensProfileSetup: LensDefaults
- LuminanceAdjustmentAqua: 0
- LuminanceAdjustmentBlue: 0
- LuminanceAdjustmentGreen: 0
- LuminanceAdjustmentMagenta: 0
- LuminanceAdjustmentOrange: 0
- LuminanceAdjustmentPurple: 0
- LuminanceAdjustmentRed: 0
- LuminanceAdjustmentYellow: 0
- LuminanceNoiseReductionContrast: 10
- LuminanceNoiseReductionDetail: 50
- LuminanceSmoothing: 11
- ParametricDarks: 0
- ParametricHighlightSplit: 75
- ParametricHighlights: 0
- ParametricLights: 0
- ParametricMidtoneSplit: 50
- ParametricShadowSplit: 25
- ParametricShadows: 0
- PerspectiveAspect: 0
- PerspectiveHorizontal: 0
- PerspectiveRotate: 0.0
- PerspectiveScale: 100
- PerspectiveUpright: 0
- PerspectiveVertical: 0
- PostCropVignetteAmount: 0
- ProcessVersion: 6.7
- RedHue: 0
- RedSaturation: 0
- Saturation: +15
- SaturationAdjustmentAqua: 0
- SaturationAdjustmentBlue: 0
- SaturationAdjustmentGreen: 0
- SaturationAdjustmentMagenta: 0
- SaturationAdjustmentOrange: 0
- SaturationAdjustmentPurple: 0
- SaturationAdjustmentRed: 0
- SaturationAdjustmentYellow: 0
- ShadowTint: 0
- Shadows2012: -79
- SharpenDetail: 25
- SharpenEdgeMasking: 9
- SharpenRadius: +1.0
- Sharpness: 48
- SplitToningBalance: 0
- SplitToningHighlightHue: 0
- SplitToningHighlightSaturation: 0
- SplitToningShadowHue: 0
- SplitToningShadowSaturation: 0
- ToneCurve: 0, 0, 255, 255
- ToneCurveBlue: 0, 0, 255, 255
- ToneCurveGreen: 0, 0, 255, 255
- ToneCurveName: Linear
- ToneCurveName2012: Linear
- ToneCurvePV2012: 0, 0, 255, 255
- ToneCurvePV2012Blue: 0, 0, 255, 255
- ToneCurvePV2012Green: 0, 0, 255, 255
- ToneCurvePV2012Red: 0, 0, 255, 255
- ToneCurveRed: 0, 0, 255, 255
- Version: 8.6
- Vibrance: 0
- VignetteAmount: 0
- WhiteBalance: As Shot
- Whites2012: -51
- XMP-dc
- XMP-xmp
- ModifyDate: 2015:02:26 21:10:16+03:00
- XMP-xmpMM
- Просмотров: 239
- Рейтинг: голосов еще нет
- Отзывов: отключены