- Раздел: Другое, разное
- Дата съёмки: 28.03.2015 10:04
- Дата загрузки фото: 29.04.2015 07:03
- Оригинальная фотография: 4000 x 2248 (3,8 Мб)
- Технические характеристики:
- Фотоаппарат: Panasonic DMC-LF1
- Выдержка: 1/1600
- Гиперфокальное расстояние: inf m
- Диафрагма: 3,2
- Светочувствительность: 80
- Фокусное расстояние: 6,0 mm (35 mm equivalent: 30,0 mm)
- Полный EXIF
- Composite
- AdvancedSceneMode: Sunset
- Aperture: 3,2
- BlueBalance: 1,680871
- CircleOfConfusion: 0,006 mm
- FOV: 61,0 deg
- FocalLength35efl: 6,0 mm (35 mm equivalent: 30,0 mm)
- HyperfocalDistance: inf m
- RedBalance: 2,020833
- ScaleFactor35efl: 5,2
- ShutterSpeed: 1/1600
- ExifIFD
- ApertureValue: 3,2
- ColorSpace: sRGB
- CompressedBitsPerPixel: 4
- Contrast: Normal
- CreateDate: 2015:03:28 10:04:23
- CustomRendered: Normal
- DateTimeOriginal: 2015:03:28 10:04:23
- DigitalZoomRatio: 0
- ExifImageHeight: 2248
- ExifImageWidth: 4000
- ExposureCompensation: 0
- ExposureMode: Auto bracket
- ExposureProgram: Program AE
- ExposureTime: 1/1600
- FNumber: 3,2
- Flash: Off, Did not fire
- FocalLength: 6,0 mm
- FocalLengthIn35mmFormat: 31 mm
- GainControl: None
- ISO: 80
- LightSource: Unknown
- MaxApertureValue: 2,0
- MeteringMode: Multi-segment
- Saturation: Normal
- SceneCaptureType: Standard
- SceneType: Directly photographed
- SensingMethod: One-chip color area
- SensitivityType: Standard Output Sensitivity
- Sharpness: Normal
- ShutterSpeedValue: 1/1600
- WhiteBalance: Auto
- IFD0
- Make: Panasonic
- Model: DMC-LF1
- ModifyDate: 2015:03:29 09:14:01
- Orientation: Horizontal (normal)
- IFD1
- IPTC
- DateCreated: 2015:03:28
- MPF0
- MPFVersion: 0100
- NumberOfImages: 2
- MPImage1
- DependentImage1EntryNumber: 2
- DependentImage2EntryNumber: 0
- MPImageFlags: Dependent parent image
- MPImageFormat: JPEG
- MPImageLength: 3077406
- MPImageStart: 0
- MPImageType: Baseline MP Primary Image
- MPImage2
- DependentImage1EntryNumber: 0
- MPImageFlags: Dependent child image
- MPImageLength: 855810
- MPImageStart: 3085200
- MPImageType: Large Thumbnail (full HD equivalent)
- Panasonic
- AFAreaMode: 1-area
- AFAssistLamp: Disabled and Not Required
- AFPointPosition: 0 0
- AdvancedSceneType: 1
- Audio: No
- BabyAge: (not set)
- BabyName:
- BurstMode: Off
- City:
- ColorEffect: Off
- ColorMode: Normal
- ContrastMode: Medium Low
- ConversionLens: Off
- Country:
- FacesDetected: 0
- FacesRecognized: 0
- FirmwareVersion: 0.1.2.0
- FlashBias: 0
- FlashFired: No
- FlashWarning: No
- FocusMode: Auto
- ImageQuality: High
- ImageStabilization: On, Mode 1
- IntelligentExposure: Off
- IntelligentResolution: Standard
- InternalSerialNumber: (F03) 2013:09:24 no. 0189
- Landmark:
- Location:
- MacroMode: Off
- MakerNoteVersion: 0144
- NoiseReduction: Standard
- NumFacePositions: 0
- OpticalZoomMode: Standard
- PanasonicExifVersion: 0404
- PanasonicImageHeight: 0
- PanasonicImageWidth: 0
- ProgramISO: n/a
- Rotation: Horizontal (normal)
- SceneMode: Sunset
- SelfTimer: Off
- SequenceNumber: 0
- ShootingMode: Sunset
- State:
- TextStamp: Off
- TimeSincePowerOn: 00:01:56.29
- Title:
- TravelDay: n/a
- WBBlueLevel: 1775
- WBGreenLevel: 1056
- WBRedLevel: 2134
- WhiteBalanceBias: 0
- WorldTimeLocation: Home
- PrintIM
- System
- XMP-crs
- AlreadyApplied: False
- AutoLateralCA: 0
- AutoWhiteVersion: 134348800
- Blacks2012: -15
- BlueHue: 0
- BlueSaturation: 0
- CameraProfile: Embedded
- Clarity2012: +30
- ColorNoiseReduction: 0
- Contrast2012: -1
- ConvertToGrayscale: False
- DefringeGreenAmount: 0
- DefringeGreenHueHi: 60
- DefringeGreenHueLo: 40
- DefringePurpleAmount: 0
- DefringePurpleHueHi: 70
- DefringePurpleHueLo: 30
- Exposure2012: +0.35
- GrainAmount: 0
- GreenHue: 0
- GreenSaturation: 0
- HasSettings: True
- Highlights2012: -29
- HueAdjustmentAqua: 0
- HueAdjustmentBlue: 0
- HueAdjustmentGreen: 0
- HueAdjustmentMagenta: 0
- HueAdjustmentOrange: 0
- HueAdjustmentPurple: 0
- HueAdjustmentRed: 0
- HueAdjustmentYellow: 0
- IncrementalTemperature: 0
- IncrementalTint: 0
- LensManualDistortionAmount: 0
- LensProfileEnable: 0
- LensProfileSetup: LensDefaults
- LuminanceAdjustmentAqua: 0
- LuminanceAdjustmentBlue: 0
- LuminanceAdjustmentGreen: 0
- LuminanceAdjustmentMagenta: 0
- LuminanceAdjustmentOrange: 0
- LuminanceAdjustmentPurple: 0
- LuminanceAdjustmentRed: 0
- LuminanceAdjustmentYellow: 0
- LuminanceSmoothing: 0
- ParametricDarks: 0
- ParametricHighlightSplit: 75
- ParametricHighlights: 0
- ParametricLights: 0
- ParametricMidtoneSplit: 50
- ParametricShadowSplit: 25
- ParametricShadows: 0
- PerspectiveAspect: 0
- PerspectiveHorizontal: 0
- PerspectiveRotate: 0.0
- PerspectiveScale: 100
- PerspectiveUpright: 0
- PerspectiveVertical: 0
- PostCropVignetteAmount: 0
- ProcessVersion: 6.7
- RawFileName: P1000196.jpg
- RedHue: 0
- RedSaturation: 0
- Saturation: 0
- SaturationAdjustmentAqua: 0
- SaturationAdjustmentBlue: 0
- SaturationAdjustmentGreen: 0
- SaturationAdjustmentMagenta: 0
- SaturationAdjustmentOrange: 0
- SaturationAdjustmentPurple: 0
- SaturationAdjustmentRed: 0
- SaturationAdjustmentYellow: 0
- ShadowTint: 0
- Shadows2012: +29
- SharpenDetail: 35
- SharpenEdgeMasking: 0
- SharpenRadius: +0.8
- Sharpness: 40
- SplitToningBalance: 0
- SplitToningHighlightHue: 0
- SplitToningHighlightSaturation: 0
- SplitToningShadowHue: 0
- SplitToningShadowSaturation: 0
- ToneCurve: 0, 0, 255, 255
- ToneCurveBlue: 0, 0, 255, 255
- ToneCurveGreen: 0, 0, 255, 255
- ToneCurveName: Linear
- ToneCurveName2012: Medium Contrast
- ToneCurvePV2012: 0, 0, 32, 22, 64, 56, 128, 128, 192, 196, 255, 255
- ToneCurvePV2012Blue: 0, 0, 255, 255
- ToneCurvePV2012Green: 0, 0, 255, 255
- ToneCurvePV2012Red: 0, 0, 255, 255
- ToneCurveRed: 0, 0, 255, 255
- Version: 8.7
- Vibrance: +25
- VignetteAmount: 0
- WhiteBalance: As Shot
- Whites2012: +10
- XMP-dc
- XMP-xmp
- ModifyDate: 2015:03:29 09:14:01.681+03:00
- XMP-xmpMM
- Просмотров: 229
- Рейтинг: голосов еще нет
- Отзывов: 0