- Раздел: Хобби
- Дата съёмки: 07.06.2015 12:10
- Дата загрузки фото: 07.06.2015 17:37
- Оригинальная фотография: 1500 x 1000 (652 Кб)
- Технические характеристики:
- Фотоаппарат: Canon EOS 100D
- Выдержка: 1/1600
- Гиперфокальное расстояние: inf m
- Диафрагма: 7,1
- Светочувствительность: 200
- Фокусное расстояние: 127,0 mm (35 mm equivalent: 635,0 mm)
- Полный EXIF
- Adobe
- ColorTransform: YCbCr
- Composite
- Aperture: 7,1
- CircleOfConfusion: 0,005 mm
- FOV: 3,0 deg
- FocalLength35efl: 127,0 mm (35 mm equivalent: 635,0 mm)
- HyperfocalDistance: inf m
- LensID: Canon EF-S55-250mm f/4-5.6 IS STM
- ScaleFactor35efl: 5,5
- ShutterSpeed: 1/1600
- ExifIFD
- ApertureValue: 7,1
- ColorSpace: sRGB
- CreateDate: 2015:06:07 12:10:35
- CustomRendered: Normal
- DateTimeOriginal: 2015:06:07 12:10:35
- ExifImageHeight: 1000
- ExifImageWidth: 1500
- ExposureCompensation: 0
- ExposureMode: Auto
- ExposureProgram: Aperture-priority AE
- ExposureTime: 1/1600
- FNumber: 7,1
- Flash: Off, Did not fire
- FocalLength: 127,0 mm
- ISO: 200
- LensInfo: 55-250mm f/?
- LensModel: EF-S55-250mm f/4-5.6 IS STM
- LensSerialNumber: 0000419059
- MaxApertureValue: 5,0
- MeteringMode: Multi-segment
- RecommendedExposureIndex: 200
- SceneCaptureType: Standard
- SensitivityType: Recommended Exposure Index
- SerialNumber: 023071142828
- ShutterSpeedValue: 1/1600
- WhiteBalance: Auto
- ICC-header
- ICC-meas
- ICC-view
- IFD0
- Artist: ROMAN SKOPINSKIY
- Make: Canon
- Model: Canon EOS 100D
- ModifyDate: 2015:06:07 16:58:17
- Orientation: Horizontal (normal)
- IFD1
- IPTC
- By-line: ROMAN SKOPINSKIY
- DateCreated: 2015:06:07
- System
- XMP-aux
- ApproximateFocusDistance: 4294967295
- Firmware: 1.0.0
- FlashCompensation: 0
- ImageNumber: 0
- LateralChromaticAberrationCorrectionAlreadyApplied: True
- Lens: EF-S55-250mm f/4-5.6 IS STM
- LensID: 4148
- VignetteCorrectionAlreadyApplied: True
- XMP-crs
- AlreadyApplied: True
- AutoLateralCA: 1
- AutoWhiteVersion: 134348800
- Blacks2012: -1
- BlueHue: 0
- BlueSaturation: 0
- CameraProfile: Canon EOS 100D S3
- Clarity2012: +12
- ColorNoiseReduction: 25
- ColorNoiseReductionDetail: 50
- ColorNoiseReductionSmoothness: 50
- ColorTemperature: 5850
- Contrast2012: 0
- ConvertToGrayscale: False
- CropAngle: 0
- CropBottom: 0.893519
- CropConstrainToWarp: 1
- CropHeight: 3
- CropLeft: 0.121914
- CropRight: 0.945988
- CropTop: 0.069444
- CropUnit: Unknown (3)
- CropWidth: 2
- DefringeGreenAmount: 0
- DefringeGreenHueHi: 60
- DefringeGreenHueLo: 40
- DefringePurpleAmount: 0
- DefringePurpleHueHi: 70
- DefringePurpleHueLo: 30
- Exposure2012: 0.00
- GrainAmount: 0
- GreenHue: 0
- GreenSaturation: 0
- HasCrop: True
- HasSettings: True
- Highlights2012: -33
- HueAdjustmentAqua: 0
- HueAdjustmentBlue: 0
- HueAdjustmentGreen: 0
- HueAdjustmentMagenta: 0
- HueAdjustmentOrange: 0
- HueAdjustmentPurple: 0
- HueAdjustmentRed: 0
- HueAdjustmentYellow: 0
- LensManualDistortionAmount: 0
- LensProfileChromaticAberrationScale: 100
- LensProfileDistortionScale: 0
- LensProfileEnable: 1
- LensProfileFilename: Canon (Canon EF-S 55-250mm f4-5.6 IS STM) - RAW.lcp
- LensProfileSetup: Custom
- LensProfileVignettingScale: 100
- LuminanceAdjustmentAqua: 0
- LuminanceAdjustmentBlue: 0
- LuminanceAdjustmentGreen: 0
- LuminanceAdjustmentMagenta: 0
- LuminanceAdjustmentOrange: 0
- LuminanceAdjustmentPurple: 0
- LuminanceAdjustmentRed: 0
- LuminanceAdjustmentYellow: 0
- LuminanceSmoothing: 0
- ParametricDarks: 0
- ParametricHighlightSplit: 75
- ParametricHighlights: 0
- ParametricLights: 0
- ParametricMidtoneSplit: 50
- ParametricShadowSplit: 25
- ParametricShadows: 0
- PerspectiveAspect: 0
- PerspectiveHorizontal: 0
- PerspectiveRotate: 0.0
- PerspectiveScale: 100
- PerspectiveUpright: 0
- PerspectiveVertical: 0
- PostCropVignetteAmount: 0
- ProcessVersion: 6.7
- RawFileName: IMG_4910.CR2
- RedHue: 0
- RedSaturation: 0
- Saturation: 0
- SaturationAdjustmentAqua: 0
- SaturationAdjustmentBlue: 0
- SaturationAdjustmentGreen: 0
- SaturationAdjustmentMagenta: 0
- SaturationAdjustmentOrange: 0
- SaturationAdjustmentPurple: 0
- SaturationAdjustmentRed: 0
- SaturationAdjustmentYellow: 0
- ShadowTint: 0
- Shadows2012: 0
- SharpenDetail: 20
- SharpenEdgeMasking: 30
- SharpenRadius: +1.0
- Sharpness: 59
- SplitToningBalance: 0
- SplitToningHighlightHue: 0
- SplitToningHighlightSaturation: 0
- SplitToningShadowHue: 0
- SplitToningShadowSaturation: 0
- Tint: +17
- ToneCurve: 0, 0, 32, 22, 64, 56, 128, 128, 192, 196, 255, 255
- ToneCurveBlue: 0, 0, 255, 255
- ToneCurveGreen: 0, 0, 255, 255
- ToneCurveName: Medium Contrast
- ToneCurveName2012: Linear
- ToneCurvePV2012: 0, 0, 255, 255
- ToneCurvePV2012Blue: 0, 0, 255, 255
- ToneCurvePV2012Green: 0, 0, 255, 255
- ToneCurvePV2012Red: 0, 0, 255, 255
- ToneCurveRed: 0, 0, 255, 255
- Version: 9.0
- Vibrance: 0
- VignetteAmount: 0
- WhiteBalance: As Shot
- Whites2012: 0
- XMP-dc
- Creator: ROMAN SKOPINSKIY
- Format: image/jpeg
- XMP-xmp
- ModifyDate: 2015:06:07 16:58:17+04:00
- Rating: 0
- XMP-xmpMM