- Раздел: Тесты фототехники
- Дата съёмки: 21.05.2015 06:56
- Дата загрузки фото: 21.06.2015 18:37
- Оригинальная фотография: 3602 x 2401 (4,1 Мб)
- Технические характеристики:
- Фотоаппарат: Sony DSC-RX100M3
- Выдержка: 1/400
- Гиперфокальное расстояние: inf m
- Диафрагма: 5,0
- Светочувствительность: 125
- Фокусное расстояние: 8,0 mm (35 mm equivalent: 24,0 mm)
- Экспокоррекция: -0,3
- Полный EXIF
- Adobe
- ColorTransform: YCbCr
- Composite
- Aperture: 5,0
- CircleOfConfusion: 0,010 mm
- FOV: 73,0 deg
- FocalLength35efl: 8,0 mm (35 mm equivalent: 24,0 mm)
- HyperfocalDistance: inf m
- ScaleFactor35efl: 3,0
- ShutterSpeed: 1/400
- ExifIFD
- ApertureValue: 5,0
- BrightnessValue: 8,59140625
- ColorSpace: sRGB
- Contrast: Low
- CreateDate: 2015:05:21 06:56:05
- CustomRendered: Normal
- DateTimeOriginal: 2015:05:21 06:56:05
- DigitalZoomRatio: 1
- ExifImageHeight: 2401
- ExifImageWidth: 3602
- ExposureCompensation: -0,3
- ExposureMode: Auto
- ExposureProgram: Aperture-priority AE
- ExposureTime: 1/400
- FNumber: 5,0
- Flash: Off, Did not fire
- FocalLength: 8,8 mm
- FocalLengthIn35mmFormat: 24 mm
- ISO: 125
- LensInfo: 8.8-25.7mm f/1.8-2.8
- LensModel: 24-70mm F1.8-2.8
- LightSource: Unknown
- MaxApertureValue: 1,8
- MeteringMode: Center-weighted average
- RecommendedExposureIndex: 125
- Saturation: Normal
- SceneCaptureType: Standard
- SceneType: Directly photographed
- SensitivityType: Recommended Exposure Index
- Sharpness: Soft
- ShutterSpeedValue: 1/400
- WhiteBalance: Auto
- ICC-header
- ICC-meas
- ICC-view
- IFD0
- Make: SONY
- Model: DSC-RX100M3
- ModifyDate: 2015:06:21 17:32:15
- Orientation: Horizontal (normal)
- IFD1
- IPTC
- DateCreated: 2015:05:21
- System
- XMP-aux
- Lens: 24-70mm F1.8-2.8
- LensDistortInfo: 35336/32768 -322647567/1073741824 175139330/1073741824 -49573325/1073741824
- XMP-crs
- AlreadyApplied: True
- AutoLateralCA: 1
- AutoWhiteVersion: 134348800
- Blacks2012: 0
- BlueHue: 0
- BlueSaturation: 0
- Clarity2012: -10
- ColorNoiseReduction: 25
- ColorNoiseReductionDetail: 50
- ColorNoiseReductionSmoothness: 50
- ColorTemperature: 5950
- Contrast2012: +10
- ConvertToGrayscale: False
- DefringeGreenAmount: 1
- DefringeGreenHueHi: 90
- DefringeGreenHueLo: 20
- DefringePurpleAmount: 3
- DefringePurpleHueHi: 84
- DefringePurpleHueLo: 30
- Exposure2012: 0.00
- GrainAmount: 0
- GreenHue: 0
- GreenSaturation: 0
- HasCrop: False
- HasSettings: True
- Highlights2012: -20
- HueAdjustmentAqua: 0
- HueAdjustmentBlue: 0
- HueAdjustmentGreen: 0
- HueAdjustmentMagenta: 0
- HueAdjustmentOrange: 0
- HueAdjustmentPurple: 0
- HueAdjustmentRed: 0
- HueAdjustmentYellow: 0
- LensManualDistortionAmount: 0
- LensProfileEnable: 0
- LensProfileSetup: LensDefaults
- LuminanceAdjustmentAqua: 0
- LuminanceAdjustmentBlue: 0
- LuminanceAdjustmentGreen: 0
- LuminanceAdjustmentMagenta: 0
- LuminanceAdjustmentOrange: 0
- LuminanceAdjustmentPurple: 0
- LuminanceAdjustmentRed: 0
- LuminanceAdjustmentYellow: 0
- LuminanceSmoothing: 0
- ParametricDarks: 0
- ParametricHighlightSplit: 75
- ParametricHighlights: 0
- ParametricLights: 0
- ParametricMidtoneSplit: 50
- ParametricShadowSplit: 25
- ParametricShadows: 0
- PerspectiveAspect: 0
- PerspectiveHorizontal: 0
- PerspectiveRotate: 0.0
- PerspectiveScale: 100
- PerspectiveUpright: 0
- PerspectiveVertical: 0
- PostCropVignetteAmount: 0
- ProcessVersion: 6.7
- RawFileName: DSC01465.ARW
- RedHue: 0
- RedSaturation: 0
- Saturation: +10
- SaturationAdjustmentAqua: 0
- SaturationAdjustmentBlue: 0
- SaturationAdjustmentGreen: 0
- SaturationAdjustmentMagenta: 0
- SaturationAdjustmentOrange: 0
- SaturationAdjustmentPurple: 0
- SaturationAdjustmentRed: 0
- SaturationAdjustmentYellow: 0
- ShadowTint: 0
- Shadows2012: +30
- SharpenDetail: 0
- SharpenEdgeMasking: 0
- SharpenRadius: +0.5
- Sharpness: 0
- SplitToningBalance: 0
- SplitToningHighlightHue: 0
- SplitToningHighlightSaturation: 0
- SplitToningShadowHue: 0
- SplitToningShadowSaturation: 0
- Tint: +14
- ToneCurve: 0, 0, 32, 22, 64, 56, 128, 128, 192, 196, 255, 255
- ToneCurveBlue: 0, 0, 255, 255
- ToneCurveGreen: 0, 0, 255, 255
- ToneCurveName: Medium Contrast
- ToneCurveName2012: Linear
- ToneCurvePV2012: 0, 0, 255, 255
- ToneCurvePV2012Blue: 0, 0, 255, 255
- ToneCurvePV2012Green: 0, 0, 255, 255
- ToneCurvePV2012Red: 0, 0, 255, 255
- ToneCurveRed: 0, 0, 255, 255
- Version: 8.8
- Vibrance: +10
- VignetteAmount: 0
- WhiteBalance: Custom
- Whites2012: -50
- XMP-dc
- XMP-xmp
- CreatorTool: DSC-RX100M3 v1.20
- ModifyDate: 2015:06:21 17:32:15+03:00
- Rating: 0
- XMP-xmpMM
- Просмотров: 420
- Рейтинг: голосов еще нет
- Отзывов: 0