- Раздел: Портрет
- Дата съёмки: 09.07.2015 22:49
- Дата загрузки фото: 17.07.2015 12:52
- Оригинальная фотография: 1200 x 800 (463 Кб)
- Технические характеристики:
- Фотоаппарат: Canon EOS 6D
- Выдержка: 1/100
- Гиперфокальное расстояние: inf m
- Диафрагма: 1,2
- Светочувствительность: 500
- Фокусное расстояние: 85,0 mm (35 mm equivalent: 340,0 mm)
- Полный EXIF
- Adobe
- ColorTransform: YCbCr
- Composite
- Aperture: 1,2
- CircleOfConfusion: 0,007 mm
- FOV: 6,0 deg
- FocalLength35efl: 85,0 mm (35 mm equivalent: 340,0 mm)
- HyperfocalDistance: inf m
- LensID: Canon EF 85mm f/1.2L II
- ScaleFactor35efl: 4,6
- ShutterSpeed: 1/100
- ExifIFD
- ApertureValue: 1,2
- ColorSpace: sRGB
- CreateDate: 2015:07:09 22:49:34
- CustomRendered: Normal
- DateTimeOriginal: 2015:07:09 22:49:34
- ExifImageHeight: 800
- ExifImageWidth: 1200
- ExposureCompensation: 0
- ExposureMode: Manual
- ExposureProgram: Manual
- ExposureTime: 1/100
- FNumber: 1,2
- Flash: Off, Did not fire
- FocalLength: 85,0 mm
- ISO: 500
- LensInfo: 85mm f/?
- LensModel: EF85mm f/1.2L II USM
- LensSerialNumber: 000002cc76
- MaxApertureValue: 1,2
- MeteringMode: Multi-segment
- RecommendedExposureIndex: 500
- SceneCaptureType: Standard
- SensitivityType: Recommended Exposure Index
- SerialNumber: 142128000049
- ShutterSpeedValue: 1/100
- WhiteBalance: Manual
- ICC-header
- ICC-meas
- ICC-view
- IFD0
- Artist: snake
- Make: Canon
- Model: Canon EOS 6D
- ModifyDate: 2015:07:13 23:16:08
- Orientation: Horizontal (normal)
- IFD1
- IPTC
- By-line: snake
- DateCreated: 2015:07:09
- System
- XMP-aux
- ApproximateFocusDistance: 1,3
- Firmware: 1.1.3
- FlashCompensation: 0
- ImageNumber: 0
- Lens: EF85mm f/1.2L II USM
- LensID: 239
- XMP-crs
- AlreadyApplied: True
- AutoLateralCA: 0
- Blacks2012: +100
- BlueHue: 0
- BlueSaturation: 0
- CameraProfile: Camera Standard
- Clarity2012: 0
- ColorNoiseReduction: 25
- ColorNoiseReductionDetail: 50
- ColorTemperature: 2800
- Contrast2012: -8
- ConvertToGrayscale: False
- DefringeGreenAmount: 0
- DefringeGreenHueHi: 60
- DefringeGreenHueLo: 40
- DefringePurpleAmount: 0
- DefringePurpleHueHi: 70
- DefringePurpleHueLo: 30
- Exposure2012: +0.30
- GrainAmount: 0
- GreenHue: 0
- GreenSaturation: 0
- HasCrop: False
- HasSettings: True
- Highlights2012: 0
- HueAdjustmentAqua: 0
- HueAdjustmentBlue: 0
- HueAdjustmentGreen: 0
- HueAdjustmentMagenta: 0
- HueAdjustmentOrange: 0
- HueAdjustmentPurple: 0
- HueAdjustmentRed: 0
- HueAdjustmentYellow: 0
- LensManualDistortionAmount: 0
- LensProfileEnable: 0
- LensProfileSetup: LensDefaults
- LuminanceAdjustmentAqua: 0
- LuminanceAdjustmentBlue: 0
- LuminanceAdjustmentGreen: 0
- LuminanceAdjustmentMagenta: 0
- LuminanceAdjustmentOrange: 0
- LuminanceAdjustmentPurple: 0
- LuminanceAdjustmentRed: 0
- LuminanceAdjustmentYellow: 0
- LuminanceSmoothing: 0
- ParametricDarks: 0
- ParametricHighlightSplit: 75
- ParametricHighlights: 0
- ParametricLights: 0
- ParametricMidtoneSplit: 50
- ParametricShadowSplit: 25
- ParametricShadows: 0
- PerspectiveAspect: 0
- PerspectiveHorizontal: 0
- PerspectiveRotate: 0.0
- PerspectiveScale: 100
- PerspectiveUpright: 0
- PerspectiveVertical: 0
- PostCropVignetteAmount: 0
- ProcessVersion: 6.7
- RawFileName: IMG_9298.CR2
- RedHue: 0
- RedSaturation: 0
- Saturation: 0
- SaturationAdjustmentAqua: 0
- SaturationAdjustmentBlue: 0
- SaturationAdjustmentGreen: 0
- SaturationAdjustmentMagenta: 0
- SaturationAdjustmentOrange: 0
- SaturationAdjustmentPurple: 0
- SaturationAdjustmentRed: 0
- SaturationAdjustmentYellow: 0
- ShadowTint: 0
- Shadows2012: 0
- SharpenDetail: 25
- SharpenEdgeMasking: 33
- SharpenRadius: +1.0
- Sharpness: 38
- SplitToningBalance: 0
- SplitToningHighlightHue: 0
- SplitToningHighlightSaturation: 0
- SplitToningShadowHue: 0
- SplitToningShadowSaturation: 0
- Tint: +3
- ToneCurveName2012: Linear
- ToneCurvePV2012: 0, 0, 255, 255
- ToneCurvePV2012Blue: 0, 0, 255, 255
- ToneCurvePV2012Green: 0, 0, 255, 255
- ToneCurvePV2012Red: 0, 0, 255, 255
- Version: 8.0
- Vibrance: 0
- VignetteAmount: 0
- WhiteBalance: Custom
- Whites2012: -100
- XMP-dc
- Creator: snake
- Format: image/jpeg
- XMP-xmp
- ModifyDate: 2015:07:13 23:16:08+04:00
- Rating: 2
- XMP-xmpMM
- Просмотров: 1019
- Рейтинг: голосов еще нет
- Отзывов: 3