- Раздел: Животные
- Дата съёмки: 26.07.2015 17:10
- Дата загрузки фото: 28.07.2015 13:17
- Оригинальная фотография: 3000 x 1865 (1,6 Мб)
- Технические характеристики:
- Фотоаппарат: Canon EOS 7D
- Выдержка: 1/400
- Гиперфокальное расстояние: inf m
- Диафрагма: 5,6
- Светочувствительность: 800
- Фокусное расстояние: 400,0 mm (35 mm equivalent: 800,0 mm)
- Экспокоррекция: +2/3
- Полный EXIF
- Adobe
- ColorTransform: YCbCr
- Composite
- Aperture: 5,6
- CircleOfConfusion: 0,011 mm
- DOF: inf (0,00 m - inf)
- FOV: 2,0 deg
- FocalLength35efl: 400,0 mm (35 mm equivalent: 800,0 mm)
- HyperfocalDistance: inf m
- LensID: Canon EF 100-400mm f/4.5-5.6L IS or Sigma Lens
- ScaleFactor35efl: 2,8
- ShutterSpeed: 1/400
- ExifIFD
- ApertureValue: 5,6
- ColorSpace: sRGB
- CreateDate: 2015:07:26 17:10:14
- CustomRendered: Normal
- DateTimeOriginal: 2015:07:26 17:10:14
- ExifImageHeight: 1865
- ExifImageWidth: 3000
- ExposureCompensation: +2/3
- ExposureMode: Auto
- ExposureProgram: Aperture-priority AE
- ExposureTime: 1/400
- FNumber: 5,6
- Flash: Off, Did not fire
- FocalLength: 400,0 mm
- ISO: 800
- LensInfo: 100-400mm f/?
- LensModel: EF100-400mm f/4.5-5.6L IS USM
- MaxApertureValue: 5,7
- MeteringMode: Multi-segment
- RecommendedExposureIndex: 800
- SceneCaptureType: Standard
- SensitivityType: Recommended Exposure Index
- SerialNumber: 2761201376
- ShutterSpeedValue: 1/400
- SubjectDistance: 10,8 m
- WhiteBalance: Auto
- ICC-header
- ICC-meas
- ICC-view
- IFD0
- Make: Canon
- Model: Canon EOS 7D
- ModifyDate: 2015:07:28 13:01:16
- Orientation: Horizontal (normal)
- IFD1
- IPTC
- DateCreated: 2015:07:26
- System
- XMP-aux
- ApproximateFocusDistance: 10,8
- Firmware: 2.0.3
- FlashCompensation: 0
- ImageNumber: 0
- Lens: EF100-400mm f/4.5-5.6L IS USM
- LensID: 183
- XMP-crs
- AlreadyApplied: True
- AutoLateralCA: 0
- Blacks2012: 0
- BlueHue: 0
- BlueSaturation: 0
- Brightness: +50
- Clarity: 0
- Clarity2012: 0
- ColorNoiseReduction: 25
- ColorNoiseReductionDetail: 50
- ColorTemperature: 5200
- Contrast: +25
- Contrast2012: 0
- ConvertToGrayscale: False
- Defringe: 0
- Exposure: +0.25
- Exposure2012: 0.00
- FillLight: 0
- GrainAmount: 0
- GreenHue: 0
- GreenSaturation: 0
- HasCrop: False
- HasSettings: True
- HighlightRecovery: 0
- Highlights2012: 0
- HueAdjustmentAqua: 0
- HueAdjustmentBlue: 0
- HueAdjustmentGreen: 0
- HueAdjustmentMagenta: 0
- HueAdjustmentOrange: 0
- HueAdjustmentPurple: 0
- HueAdjustmentRed: 0
- HueAdjustmentYellow: 0
- LensManualDistortionAmount: 0
- LensProfileEnable: 0
- LensProfileSetup: LensDefaults
- LuminanceAdjustmentAqua: 0
- LuminanceAdjustmentBlue: 0
- LuminanceAdjustmentGreen: 0
- LuminanceAdjustmentMagenta: 0
- LuminanceAdjustmentOrange: 0
- LuminanceAdjustmentPurple: 0
- LuminanceAdjustmentRed: 0
- LuminanceAdjustmentYellow: 0
- LuminanceSmoothing: 0
- ParametricDarks: 0
- ParametricHighlightSplit: 75
- ParametricHighlights: 0
- ParametricLights: 0
- ParametricMidtoneSplit: 50
- ParametricShadowSplit: 25
- ParametricShadows: 0
- PerspectiveHorizontal: 0
- PerspectiveRotate: 0.0
- PerspectiveScale: 100
- PerspectiveVertical: 0
- PostCropVignetteAmount: 0
- ProcessVersion: 5.7
- RawFileName: IMG_8720.CR2
- RedHue: 0
- RedSaturation: 0
- Saturation: 0
- SaturationAdjustmentAqua: 0
- SaturationAdjustmentBlue: 0
- SaturationAdjustmentGreen: 0
- SaturationAdjustmentMagenta: 0
- SaturationAdjustmentOrange: 0
- SaturationAdjustmentPurple: 0
- SaturationAdjustmentRed: 0
- SaturationAdjustmentYellow: 0
- ShadowTint: 0
- Shadows: 5
- Shadows2012: 0
- SharpenDetail: 25
- SharpenEdgeMasking: 0
- SharpenRadius: +1.0
- Sharpness: 25
- SplitToningBalance: 0
- SplitToningHighlightHue: 0
- SplitToningHighlightSaturation: 0
- SplitToningShadowHue: 0
- SplitToningShadowSaturation: 0
- Tint: +24
- ToneCurve: 0, 0, 32, 22, 64, 56, 128, 128, 192, 196, 255, 255
- ToneCurveBlue: 0, 0, 255, 255
- ToneCurveGreen: 0, 0, 255, 255
- ToneCurveName: Medium Contrast
- ToneCurveName2012: Linear
- ToneCurvePV2012: 0, 0, 255, 255
- ToneCurvePV2012Blue: 0, 0, 255, 255
- ToneCurvePV2012Green: 0, 0, 255, 255
- ToneCurvePV2012Red: 0, 0, 255, 255
- ToneCurveRed: 0, 0, 255, 255
- Version: 6.7
- Vibrance: -7
- VignetteAmount: 0
- WhiteBalance: Custom
- Whites2012: 0
- XMP-dc
- XMP-xmp
- CreateDate: 2015:07:26 17:10:14.66
- ModifyDate: 2015:07:28 13:01:16+03:00
- Rating: 0
- XMP-xmpMM