- Раздел: Портрет
- Дата съёмки: 05.08.2015 16:48
- Дата загрузки фото: 13.09.2015 06:44
- Оригинальная фотография: 3720 x 2471 (3,7 Мб)
- Технические характеристики:
- Фотоаппарат: Nikon D90
- Выдержка: 1/4000
- Гиперфокальное расстояние: inf m
- Диафрагма: 2,5
- Светочувствительность: 200
- Фокусное расстояние: 85,0 mm (35 mm equivalent: 85,0 mm)
- Полный EXIF
- Adobe
- ColorTransform: YCbCr
- Composite
- Aperture: 2,5
- CircleOfConfusion: 0,020 mm
- FOV: 23,0 deg
- FocalLength35efl: 85,0 mm (35 mm equivalent: 85,0 mm)
- HyperfocalDistance: inf m
- LensID: AF Nikkor 85mm f/1.8D
- ScaleFactor35efl: 1,5
- ShutterSpeed: 1/4000
- ExifIFD
- ApertureValue: 2,5
- CFAPattern: [Green,Blue][Red,Green]
- Contrast: Normal
- CreateDate: 2015:08:05 16:48:57
- CustomRendered: Normal
- DateTimeOriginal: 2015:08:05 16:48:57
- DigitalZoomRatio: 1
- ExposureCompensation: 0
- ExposureMode: Manual
- ExposureProgram: Manual
- ExposureTime: 1/4000
- FNumber: 2,5
- Flash: No Flash
- FocalLength: 85,0 mm
- FocalLengthIn35mmFormat: 127 mm
- GainControl: None
- ISO: 200
- LensInfo: 85mm f/1.8
- LensModel: 85.0 mm f/1.8
- LightSource: Unknown
- MaxApertureValue: 1,7
- MeteringMode: Multi-segment
- Saturation: Normal
- SceneCaptureType: Standard
- SceneType: Directly photographed
- SensingMethod: One-chip color area
- SerialNumber: 6022155
- Sharpness: Hard
- ShutterSpeedValue: 1/4000
- SubjectDistanceRange: Unknown
- UserComment: SKURAT DMITRIY
- WhiteBalance: Auto
- ICC-header
- ICC-meas
- ICC-view
- IFD0
- Make: NIKON CORPORATION
- Model: NIKON D90
- ModifyDate: 2015:08:17 01:44:08
- IFD1
- IPTC
- DateCreated: 2015:08:05
- System
- XMP-aux
- ApproximateFocusDistance: 4,73
- ImageNumber: 58193
- Lens: 85.0 mm f/1.8
- LensID: 56
- XMP-crs
- AlreadyApplied: True
- AutoLateralCA: 1
- AutoWhiteVersion: 134348800
- Blacks2012: +72
- BlueHue: -100
- BlueSaturation: -62
- Clarity2012: +37
- ColorNoiseReduction: 35
- ColorNoiseReductionDetail: 100
- ColorNoiseReductionSmoothness: 50
- ColorTemperature: 4277
- Contrast2012: +11
- ConvertToGrayscale: False
- CropAngle: 0
- CropBottom: 0.925547
- CropConstrainToWarp: 0
- CropLeft: 0.103896
- CropRight: 0.971665
- CropTop: 0.057778
- DefringeGreenAmount: 0
- DefringeGreenHueHi: 60
- DefringeGreenHueLo: 40
- DefringePurpleAmount: 0
- DefringePurpleHueHi: 70
- DefringePurpleHueLo: 30
- Exposure2012: +0.64
- GrainAmount: 0
- GreenHue: -100
- GreenSaturation: +100
- HasCrop: True
- HasSettings: True
- Highlights2012: -70
- HueAdjustmentAqua: +36
- HueAdjustmentBlue: -23
- HueAdjustmentGreen: -18
- HueAdjustmentMagenta: 0
- HueAdjustmentOrange: -1
- HueAdjustmentPurple: 0
- HueAdjustmentRed: 0
- HueAdjustmentYellow: -19
- LensManualDistortionAmount: +100
- LensProfileChromaticAberrationScale: 100
- LensProfileDistortionScale: 100
- LensProfileEnable: 0
- LensProfileFilename: Canon EOS 5D Mark II (Canon EF 28mm f1.8 USM) - RAW.lcp
- LensProfileSetup: Custom
- LensProfileVignettingScale: 89
- LuminanceAdjustmentAqua: +46
- LuminanceAdjustmentBlue: +25
- LuminanceAdjustmentGreen: +19
- LuminanceAdjustmentMagenta: 0
- LuminanceAdjustmentOrange: -8
- LuminanceAdjustmentPurple: 0
- LuminanceAdjustmentRed: +19
- LuminanceAdjustmentYellow: +100
- LuminanceNoiseReductionContrast: 0
- LuminanceNoiseReductionDetail: 50
- LuminanceSmoothing: 22
- ParametricDarks: -13
- ParametricHighlightSplit: 87
- ParametricHighlights: -9
- ParametricLights: 0
- ParametricMidtoneSplit: 50
- ParametricShadowSplit: 10
- ParametricShadows: -46
- PerspectiveAspect: +15
- PerspectiveHorizontal: 0
- PerspectiveRotate: 0.0
- PerspectiveScale: 133
- PerspectiveUpright: 0
- PerspectiveVertical: 0
- PostCropVignetteAmount: -31
- PostCropVignetteFeather: 100
- PostCropVignetteHighlightContrast: 100
- PostCropVignetteMidpoint: 24
- PostCropVignetteRoundness: +25
- PostCropVignetteStyle: 1
- ProcessVersion: 6.7
- RedHue: +84
- RedSaturation: -13
- Saturation: -46
- SaturationAdjustmentAqua: +16
- SaturationAdjustmentBlue: -31
- SaturationAdjustmentGreen: -100
- SaturationAdjustmentMagenta: -8
- SaturationAdjustmentOrange: -20
- SaturationAdjustmentPurple: -8
- SaturationAdjustmentRed: -12
- SaturationAdjustmentYellow: -53
- ShadowTint: +25
- Shadows2012: -17
- SharpenDetail: 25
- SharpenEdgeMasking: 0
- SharpenRadius: +2.8
- Sharpness: 101
- SplitToningBalance: +19
- SplitToningHighlightHue: 68
- SplitToningHighlightSaturation: 26
- SplitToningShadowHue: 0
- SplitToningShadowSaturation: 20
- Tint: -16
- ToneCurve: 0, 0, 255, 255
- ToneCurveBlue: 0, 0, 255, 255
- ToneCurveGreen: 0, 0, 255, 255
- ToneCurveName: Linear
- ToneCurveName2012: Custom
- ToneCurvePV2012: 0, 16, 36, 35, 128, 124, 158, 159, 255, 240
- ToneCurvePV2012Blue: 0, 10, 32, 45, 74, 74, 128, 129, 189, 190, 255, 251
- ToneCurvePV2012Green: 3, 0, 255, 255
- ToneCurvePV2012Red: 0, 0, 75, 78, 203, 199, 255, 255
- ToneCurveRed: 0, 0, 255, 255
- Version: 8.7
- Vibrance: +91
- VignetteAmount: -58
- VignetteMidpoint: 57
- WhiteBalance: Custom
- Whites2012: -21
- XMP-dc
- XMP-xmp
- CreateDate: 2015:08:05 16:48:57.00
- ModifyDate: 2015:08:17 01:44:08+04:00
- XMP-xmpMM
- Просмотров: 179
- Рейтинг: голосов еще нет
- Отзывов: 0