- Раздел: Портрет
- Дата съёмки: 05.08.2015 17:07
- Дата загрузки фото: 13.09.2015 06:50
- Оригинальная фотография: 3561 x 2365 (3,7 Мб)
- Технические характеристики:
- Фотоаппарат: Nikon D90
- Выдержка: 1/1250
- Гиперфокальное расстояние: inf m
- Диафрагма: 2,8
- Светочувствительность: 200
- Фокусное расстояние: 85,0 mm (35 mm equivalent: 85,0 mm)
- Полный EXIF
- Composite
- Aperture: 2,8
- CircleOfConfusion: 0,020 mm
- FOV: 23,0 deg
- FocalLength35efl: 85,0 mm (35 mm equivalent: 85,0 mm)
- HyperfocalDistance: inf m
- LensID: AF Nikkor 85mm f/1.8D
- ScaleFactor35efl: 1,5
- ShutterSpeed: 1/1250
- ExifIFD
- ApertureValue: 2,8
- CFAPattern: [Green,Blue][Red,Green]
- Contrast: Normal
- CreateDate: 2015:08:05 17:07:58
- CustomRendered: Normal
- DateTimeOriginal: 2015:08:05 17:07:58
- DigitalZoomRatio: 1
- ExifImageHeight: 2365
- ExifImageWidth: 3561
- ExposureCompensation: 0
- ExposureMode: Manual
- ExposureProgram: Manual
- ExposureTime: 1/1250
- FNumber: 2,8
- Flash: No Flash
- FocalLength: 85,0 mm
- FocalLengthIn35mmFormat: 127 mm
- GainControl: None
- ISO: 200
- LensInfo: 85mm f/1.8
- LensModel: 85.0 mm f/1.8
- LightSource: Unknown
- MaxApertureValue: 1,7
- MeteringMode: Multi-segment
- Saturation: Normal
- SceneCaptureType: Standard
- SceneType: Directly photographed
- SensingMethod: One-chip color area
- SerialNumber: 6022155
- Sharpness: Hard
- ShutterSpeedValue: 1/1250
- SubjectDistanceRange: Unknown
- UserComment: SKURAT DMITRIY
- WhiteBalance: Auto
- ICC-header
- ICC-meas
- ICC-view
- IFD0
- Make: NIKON CORPORATION
- Model: NIKON D90
- ModifyDate: 2015:08:25 02:10:03
- Orientation: Horizontal (normal)
- Software: ACDSee Pro 8
- IFD1
- IPTC
- DateCreated: 2015:08:05
- System
- XMP-aux
- ApproximateFocusDistance: 5,62
- ImageNumber: 58387
- Lens: 85.0 mm f/1.8
- LensID: 56
- XMP-crs
- AlreadyApplied: True
- AutoLateralCA: 1
- AutoWhiteVersion: 134348800
- Blacks2012: -35
- BlueHue: -17
- BlueSaturation: +25
- Clarity2012: +10
- ColorNoiseReduction: 25
- ColorNoiseReductionDetail: 50
- ColorNoiseReductionSmoothness: 50
- ColorTemperature: 4900
- Contrast2012: +33
- ConvertToGrayscale: False
- CropAngle: 0
- CropBottom: 0.830508
- CropConstrainToWarp: 0
- CropLeft: 0.118514
- CropRight: 0.949022
- CropTop: 0
- DefringeGreenAmount: 3
- DefringeGreenHueHi: 70
- DefringeGreenHueLo: 40
- DefringePurpleAmount: 3
- DefringePurpleHueHi: 70
- DefringePurpleHueLo: 30
- Exposure2012: +2.32
- GrainAmount: 0
- GreenHue: -10
- GreenSaturation: -10
- HasCrop: True
- HasSettings: True
- Highlights2012: -66
- HueAdjustmentAqua: -24
- HueAdjustmentBlue: -33
- HueAdjustmentGreen: -3
- HueAdjustmentMagenta: +15
- HueAdjustmentOrange: -2
- HueAdjustmentPurple: +77
- HueAdjustmentRed: +26
- HueAdjustmentYellow: -47
- LensManualDistortionAmount: 0
- LensProfileChromaticAberrationScale: 100
- LensProfileDistortionScale: 100
- LensProfileEnable: 1
- LensProfileFilename: NIKON D3X (Nikon AF NIKKOR 85mm f1.8D) - RAW.lcp
- LensProfileSetup: LensDefaults
- LensProfileVignettingScale: 100
- LuminanceAdjustmentAqua: 0
- LuminanceAdjustmentBlue: -24
- LuminanceAdjustmentGreen: -31
- LuminanceAdjustmentMagenta: -25
- LuminanceAdjustmentOrange: +7
- LuminanceAdjustmentPurple: -12
- LuminanceAdjustmentRed: -16
- LuminanceAdjustmentYellow: -22
- LuminanceSmoothing: 0
- ParametricDarks: 0
- ParametricHighlightSplit: 75
- ParametricHighlights: 0
- ParametricLights: 0
- ParametricMidtoneSplit: 60
- ParametricShadowSplit: 14
- ParametricShadows: 0
- PerspectiveAspect: 0
- PerspectiveHorizontal: 0
- PerspectiveRotate: 0.0
- PerspectiveScale: 100
- PerspectiveUpright: 0
- PerspectiveVertical: 0
- PostCropVignetteAmount: 0
- ProcessVersion: 6.7
- RedHue: +21
- RedSaturation: -26
- Saturation: +19
- SaturationAdjustmentAqua: -37
- SaturationAdjustmentBlue: -41
- SaturationAdjustmentGreen: -30
- SaturationAdjustmentMagenta: -68
- SaturationAdjustmentOrange: -33
- SaturationAdjustmentPurple: -71
- SaturationAdjustmentRed: -28
- SaturationAdjustmentYellow: -5
- ShadowTint: 0
- Shadows2012: +73
- SharpenDetail: 25
- SharpenEdgeMasking: 0
- SharpenRadius: +1.2
- Sharpness: 69
- SplitToningBalance: 0
- SplitToningHighlightHue: 57
- SplitToningHighlightSaturation: 16
- SplitToningShadowHue: 20
- SplitToningShadowSaturation: 16
- Tint: -5
- ToneCurve: 0, 0, 255, 255
- ToneCurveBlue: 0, 0, 255, 255
- ToneCurveGreen: 0, 0, 255, 255
- ToneCurveName: Linear
- ToneCurveName2012: Custom
- ToneCurvePV2012: 0, 39, 66, 67, 196, 197, 255, 242
- ToneCurvePV2012Blue: 0, 0, 40, 26, 119, 124, 181, 199, 255, 255
- ToneCurvePV2012Green: 0, 0, 41, 24, 120, 121, 183, 197, 255, 255
- ToneCurvePV2012Red: 0, 0, 42, 25, 119, 123, 185, 195, 255, 255
- ToneCurveRed: 0, 0, 255, 255
- Version: 8.7
- Vibrance: +55
- VignetteAmount: -69
- VignetteMidpoint: 15
- WhiteBalance: Custom
- Whites2012: 0
- XMP-dc
- XMP-x
- XMP-xmp
- CreateDate: 2015:08:05 17:07:58.00
- ModifyDate: 2015:08:24 22:42:12+04:00
- XMP-xmpMM
- Просмотров: 222
- Рейтинг: голосов еще нет
- Отзывов: 0