- Раздел: Портрет
- Дата съёмки: 21.08.2015 19:17
- Дата загрузки фото: 13.09.2015 06:51
- Оригинальная фотография: 4288 x 2848 (5,6 Мб)
- Технические характеристики:
- Фотоаппарат: Nikon D90
- Выдержка: 1/250
- Гиперфокальное расстояние: inf m
- Диафрагма: 4,0
- Светочувствительность: 200
- Фокусное расстояние: 85,0 mm (35 mm equivalent: 85,0 mm)
- Полный EXIF
- Adobe
- ColorTransform: YCbCr
- Composite
- Aperture: 4,0
- CircleOfConfusion: 0,020 mm
- FOV: 23,0 deg
- FocalLength35efl: 85,0 mm (35 mm equivalent: 85,0 mm)
- HyperfocalDistance: inf m
- LensID: AF Nikkor 85mm f/1.8D
- ScaleFactor35efl: 1,5
- ShutterSpeed: 1/250
- ExifIFD
- ApertureValue: 4,0
- CFAPattern: [Green,Blue][Red,Green]
- ColorSpace: sRGB
- Contrast: Normal
- CreateDate: 2015:08:21 19:17:06
- CustomRendered: Normal
- DateTimeOriginal: 2015:08:21 19:17:06
- DigitalZoomRatio: 1
- ExifImageHeight: 2848
- ExifImageWidth: 4288
- ExposureCompensation: 0
- ExposureMode: Manual
- ExposureProgram: Manual
- ExposureTime: 1/250
- FNumber: 4,0
- Flash: No Flash
- FocalLength: 85,0 mm
- FocalLengthIn35mmFormat: 127 mm
- GainControl: None
- ISO: 200
- LensInfo: 85mm f/1.8
- LensModel: 85.0 mm f/1.8
- LightSource: Unknown
- MaxApertureValue: 1,7
- MeteringMode: Multi-segment
- Saturation: Normal
- SceneCaptureType: Standard
- SceneType: Directly photographed
- SensingMethod: One-chip color area
- SerialNumber: 6022155
- Sharpness: Hard
- ShutterSpeedValue: 1/250
- SubjectDistanceRange: Unknown
- UserComment: SKURAT DMITRIY
- WhiteBalance: Auto
- ICC-header
- ICC-meas
- ICC-view
- IFD0
- BitsPerSample: 8 8 8
- ImageHeight: 2848
- ImageWidth: 4288
- Make: NIKON CORPORATION
- Model: NIKON D90
- ModifyDate: 2015:08:21 20:21:51
- Orientation: Horizontal (normal)
- PhotometricInterpretation: RGB
- SamplesPerPixel: 3
- IFD1
- IPTC
- DateCreated: 2015:08:21
- System
- XMP-aux
- ApproximateFocusDistance: 0,84
- ImageNumber: 58483
- Lens: 85.0 mm f/1.8
- LensID: 56
- XMP-crs
- AlreadyApplied: True
- AutoLateralCA: 0
- AutoWhiteVersion: 134348800
- Blacks2012: -55
- BlueHue: 0
- BlueSaturation: 0
- CameraProfile: Embedded
- Clarity2012: +26
- ColorNoiseReduction: 0
- ColorTemperature: 5169
- Contrast2012: +19
- ConvertToGrayscale: False
- DefringeGreenAmount: 0
- DefringeGreenHueHi: 60
- DefringeGreenHueLo: 40
- DefringePurpleAmount: 0
- DefringePurpleHueHi: 70
- DefringePurpleHueLo: 30
- Exposure2012: -0.12
- GrainAmount: 0
- GreenHue: +21
- GreenSaturation: +81
- HasCrop: False
- HasSettings: True
- Highlights2012: +100
- HueAdjustmentAqua: 0
- HueAdjustmentBlue: 0
- HueAdjustmentGreen: 0
- HueAdjustmentMagenta: -56
- HueAdjustmentOrange: 0
- HueAdjustmentPurple: +38
- HueAdjustmentRed: 0
- HueAdjustmentYellow: -34
- LensManualDistortionAmount: 0
- LensProfileEnable: 0
- LensProfileSetup: LensDefaults
- LuminanceAdjustmentAqua: 0
- LuminanceAdjustmentBlue: 0
- LuminanceAdjustmentGreen: 0
- LuminanceAdjustmentMagenta: 0
- LuminanceAdjustmentOrange: 0
- LuminanceAdjustmentPurple: 0
- LuminanceAdjustmentRed: 0
- LuminanceAdjustmentYellow: 0
- LuminanceSmoothing: 0
- ParametricDarks: 0
- ParametricHighlightSplit: 75
- ParametricHighlights: 0
- ParametricLights: 0
- ParametricMidtoneSplit: 50
- ParametricShadowSplit: 25
- ParametricShadows: 0
- PerspectiveAspect: 0
- PerspectiveHorizontal: 0
- PerspectiveRotate: 0.0
- PerspectiveScale: 100
- PerspectiveUpright: 0
- PerspectiveVertical: 0
- PostCropVignetteAmount: -31
- PostCropVignetteFeather: 44
- PostCropVignetteHighlightContrast: 13
- PostCropVignetteMidpoint: 50
- PostCropVignetteRoundness: +15
- PostCropVignetteStyle: 1
- ProcessVersion: 6.7
- RedHue: 0
- RedSaturation: 0
- Saturation: +7
- SaturationAdjustmentAqua: 0
- SaturationAdjustmentBlue: 0
- SaturationAdjustmentGreen: 0
- SaturationAdjustmentMagenta: 0
- SaturationAdjustmentOrange: 0
- SaturationAdjustmentPurple: 0
- SaturationAdjustmentRed: -22
- SaturationAdjustmentYellow: -34
- ShadowTint: 0
- Shadows2012: +55
- SharpenDetail: 25
- SharpenEdgeMasking: 0
- SharpenRadius: +1.0
- Sharpness: 34
- SplitToningBalance: 0
- SplitToningHighlightHue: 0
- SplitToningHighlightSaturation: 0
- SplitToningShadowHue: 339
- SplitToningShadowSaturation: 9
- Tint: -37
- ToneCurve: 0, 0, 255, 255
- ToneCurveBlue: 0, 0, 255, 255
- ToneCurveGreen: 0, 0, 255, 255
- ToneCurveName: Linear
- ToneCurveName2012: Linear
- ToneCurvePV2012: 0, 0, 255, 255
- ToneCurvePV2012Blue: 0, 0, 255, 255
- ToneCurvePV2012Green: 0, 0, 255, 255
- ToneCurvePV2012Red: 0, 0, 255, 255
- ToneCurveRed: 0, 0, 255, 255
- Version: 8.7
- Vibrance: +7
- VignetteAmount: 0
- WhiteBalance: Custom
- Whites2012: +33
- XMP-dc
- XMP-xmp
- ModifyDate: 2015:08:21 20:21:51+04:00
- XMP-xmpMM
- Просмотров: 181
- Рейтинг: голосов еще нет
- Отзывов: 0