Тот же исходник DNG, но сконверченый вручную в ACR/Лайтрум
НИКАКИХ локальных коррекций, слоёв и масок. Только подвижки неск. ползунков в одном конвертере и не более 1 мин. на всё редактирование.
- Раздел: Другое, разное
- Дата съёмки: 14.06.2015 11:58
- Дата загрузки фото: 02.10.2015 23:39
- Оригинальная фотография: 5303 x 2988 (6,1 Мб)
- Технические характеристики:
- Фотоаппарат: LG Mobile LG-H818
- Выдержка: 1/1000
- Диафрагма: 1,8
- Светочувствительность: 50
- Фокусное расстояние: 4,0 mm
- Полный EXIF
- Adobe
- ColorTransform: YCbCr
- Composite
- Aperture: 1,8
- FocalLength35efl: 4,0 mm
- ShutterSpeed: 1/1000
- ExifIFD
- ApertureValue: 1,8
- ColorSpace: sRGB
- DateTimeOriginal: 2015:06:14 11:58:10
- ExifImageHeight: 2988
- ExifImageWidth: 5303
- ExposureProgram: Not Defined
- ExposureTime: 1/1000
- FNumber: 1,8
- Flash: No Flash
- FocalLength: 4,4 mm
- ISO: 50
- MeteringMode: Center-weighted average
- ShutterSpeedValue: 1/1000
- ICC-header
- ICC-meas
- ICC-view
- IFD0
- ImageDescription: LG-H818
- Make: LG Mobile
- Model: LG-H818
- ModifyDate: 2015:09:30 22:35:17
- Orientation: Horizontal (normal)
- IFD1
- IPTC
- Caption-Abstract: LG-H818
- DateCreated: 2015:06:14
- System
- XMP-aux
- LateralChromaticAberrationCorrectionAlreadyApplied: True
- VignetteCorrectionAlreadyApplied: True
- XMP-crs
- AlreadyApplied: True
- AutoLateralCA: 1
- AutoWhiteVersion: 134348800
- Blacks2012: -11
- BlueHue: 0
- BlueSaturation: 0
- CameraProfile: Embedded
- Clarity2012: +10
- ColorNoiseReduction: 40
- ColorNoiseReductionDetail: 60
- ColorNoiseReductionSmoothness: 50
- ColorTemperature: 5400
- Contrast2012: +24
- ConvertToGrayscale: False
- CropAngle: 0
- CropBottom: 1
- CropConstrainToWarp: 1
- CropLeft: 0
- CropRight: 0.998274
- CropTop: 0
- DefringeGreenAmount: 0
- DefringeGreenHueHi: 60
- DefringeGreenHueLo: 40
- DefringePurpleAmount: 0
- DefringePurpleHueHi: 70
- DefringePurpleHueLo: 30
- Dehaze: 0
- Exposure2012: -0.50
- GrainAmount: 0
- GreenHue: 0
- GreenSaturation: 0
- HasCrop: True
- HasSettings: True
- Highlights2012: -80
- HueAdjustmentAqua: 0
- HueAdjustmentBlue: 0
- HueAdjustmentGreen: 0
- HueAdjustmentMagenta: 0
- HueAdjustmentOrange: 0
- HueAdjustmentPurple: 0
- HueAdjustmentRed: 0
- HueAdjustmentYellow: 0
- LensManualDistortionAmount: 0
- LensProfileEnable: 0
- LensProfileSetup: LensDefaults
- LuminanceAdjustmentAqua: 0
- LuminanceAdjustmentBlue: -30
- LuminanceAdjustmentGreen: 0
- LuminanceAdjustmentMagenta: 0
- LuminanceAdjustmentOrange: 0
- LuminanceAdjustmentPurple: 0
- LuminanceAdjustmentRed: 0
- LuminanceAdjustmentYellow: 0
- LuminanceSmoothing: 0
- ParametricDarks: 0
- ParametricHighlightSplit: 75
- ParametricHighlights: 0
- ParametricLights: 0
- ParametricMidtoneSplit: 50
- ParametricShadowSplit: 25
- ParametricShadows: 0
- PerspectiveAspect: 0
- PerspectiveHorizontal: 0
- PerspectiveRotate: 0.0
- PerspectiveScale: 100
- PerspectiveUpright: 0
- PerspectiveVertical: 0
- PostCropVignetteAmount: 0
- ProcessVersion: 6.7
- RawFileName: 10-raw-lgg4.dng
- RedHue: 0
- RedSaturation: 0
- Saturation: 0
- SaturationAdjustmentAqua: 0
- SaturationAdjustmentBlue: 0
- SaturationAdjustmentGreen: 0
- SaturationAdjustmentMagenta: 0
- SaturationAdjustmentOrange: 0
- SaturationAdjustmentPurple: 0
- SaturationAdjustmentRed: 0
- SaturationAdjustmentYellow: 0
- ShadowTint: 0
- Shadows2012: +30
- SharpenDetail: 0
- SharpenEdgeMasking: 0
- SharpenRadius: +0.8
- Sharpness: 80
- SplitToningBalance: 0
- SplitToningHighlightHue: 0
- SplitToningHighlightSaturation: 0
- SplitToningShadowHue: 40
- SplitToningShadowSaturation: 20
- Tint: +10
- ToneCurve: 0, 0, 32, 22, 64, 56, 128, 128, 192, 196, 255, 255
- ToneCurveBlue: 0, 0, 255, 255
- ToneCurveGreen: 0, 0, 255, 255
- ToneCurveName: Medium Contrast
- ToneCurveName2012: Linear
- ToneCurvePV2012: 0, 0, 255, 255
- ToneCurvePV2012Blue: 0, 0, 255, 255
- ToneCurvePV2012Green: 0, 0, 255, 255
- ToneCurvePV2012Red: 0, 0, 255, 255
- ToneCurveRed: 0, 0, 255, 255
- ToneMapStrength: 0
- Version: 9.1.1
- Vibrance: 0
- VignetteAmount: +50
- VignetteMidpoint: 20
- WhiteBalance: Custom
- Whites2012: -50
- XMP-dc
- Description: LG-H818
- Format: image/jpeg
- XMP-exifEX
- PhotographicSensitivity: 50
- XMP-xmp
- CreateDate: 2015:06:14 11:58:10
- CreatorTool: LG CIC-AIT DNG v01.00
- ModifyDate: 2015:09:30 22:35:17+03:00
- Rating: 0
- XMP-xmpMM
- Просмотров: 348
- Рейтинг: голосов еще нет
- Отзывов: 0
Получить код для блога
Вставка фотографии в текущем разрешении |
Вставка миниатюры |
HTML (для вставки в блог):
BBCode (для вставки в форум):
Ссылка на фото:
Ссылка на миниатюру:
- Послать ссылку другу
Комментарии к фотографии |
![](img/title-line.gif) |
![](img/title-shadow.gif) | |