IMG_4282.jpg |
IMG_4282.jpg
- Раздел: Отдых, развлечения
- Дата съёмки: 12.09.2015 14:27
- Дата загрузки фото: 18.10.2015 08:52
- Оригинальная фотография: 2848 x 4272 (3,6 Мб)
- Технические характеристики:
- Фотоаппарат: Canon EOS 450D
- Выдержка: 1/640
- Гиперфокальное расстояние: inf m
- Диафрагма: 4,0
- Светочувствительность: 100
- Фокусное расстояние: 17,0 mm (35 mm equivalent: 17,0 mm)
- Полный EXIF
- Composite
- Aperture: 4,0
- CircleOfConfusion: 0,019 mm
- DOF: inf (0,00 m - inf)
- FOV: 93,0 deg
- FocalLength35efl: 17,0 mm (35 mm equivalent: 17,0 mm)
- HyperfocalDistance: inf m
- LensID: Canon EF 85mm f/1.2L or Sigma or Tamron Lens
- ScaleFactor35efl: 1,6
- ShutterSpeed: 1/640
- ExifIFD
- ApertureValue: 4,0
- CreateDate: 2015:09:12 14:27:20
- CustomRendered: Normal
- DateTimeOriginal: 2015:09:12 14:27:20
- ExifImageHeight: 4272
- ExifImageWidth: 2848
- ExposureCompensation: 0
- ExposureMode: Auto
- ExposureProgram: Aperture-priority AE
- ExposureTime: 1/640
- FNumber: 4,0
- Flash: Off, Did not fire
- FocalLength: 17,0 mm
- ISO: 100
- LensInfo: 17-50mm f/?
- LensModel: 17-50mm
- MaxApertureValue: 2,8
- MeteringMode: Spot
- SceneCaptureType: Standard
- SerialNumber: 1530304971
- ShutterSpeedValue: 1/640
- SubjectDistance: 4294967295 m
- WhiteBalance: Auto
- IFD0
- Artist: Picasa
- Make: Canon
- Model: Canon EOS 450D
- ModifyDate: 2015:10:18 08:43:19
- IFD1
- IPTC
- By-line: Picasa
- DateCreated: 2015:09:12
- RelatedImageHeight: 4272
- RelatedImageWidth: 2848
- System
- XMP-aux
- ApproximateFocusDistance: 4294967295
- Firmware: 1.0.9
- FlashCompensation: 0
- ImageNumber: 0
- Lens: 17-50mm
- LensID: 137
- XMP-crs
- AlreadyApplied: True
- BlueHue: 0
- BlueSaturation: 0
- Brightness: 0
- ChromaticAberrationB: 0
- ChromaticAberrationR: 0
- Clarity: 0
- ColorNoiseReduction: 25
- ColorNoiseReductionDetail: 50
- ColorTemperature: 4550
- Contrast: +40
- ConvertToGrayscale: False
- Defringe: 0
- Exposure: -0.10
- FillLight: 0
- GrainAmount: 0
- GreenHue: 0
- GreenSaturation: 0
- HasCrop: False
- HasSettings: True
- HighlightRecovery: 23
- HueAdjustmentAqua: 0
- HueAdjustmentBlue: 0
- HueAdjustmentGreen: 0
- HueAdjustmentMagenta: 0
- HueAdjustmentOrange: 0
- HueAdjustmentPurple: 0
- HueAdjustmentRed: 0
- HueAdjustmentYellow: 0
- LensManualDistortionAmount: 0
- LensProfileEnable: 0
- LensProfileSetup: LensDefaults
- LuminanceAdjustmentAqua: 0
- LuminanceAdjustmentBlue: 0
- LuminanceAdjustmentGreen: 0
- LuminanceAdjustmentMagenta: 0
- LuminanceAdjustmentOrange: 0
- LuminanceAdjustmentPurple: 0
- LuminanceAdjustmentRed: 0
- LuminanceAdjustmentYellow: 0
- LuminanceSmoothing: 0
- ParametricDarks: 0
- ParametricHighlightSplit: 75
- ParametricHighlights: 0
- ParametricLights: 0
- ParametricMidtoneSplit: 50
- ParametricShadowSplit: 25
- ParametricShadows: 0
- PerspectiveHorizontal: 0
- PerspectiveRotate: 0.0
- PerspectiveScale: 100
- PerspectiveVertical: 0
- PostCropVignetteAmount: 0
- ProcessVersion: 5.7
- RedHue: 0
- RedSaturation: 0
- Saturation: 0
- SaturationAdjustmentAqua: 0
- SaturationAdjustmentBlue: 0
- SaturationAdjustmentGreen: 0
- SaturationAdjustmentMagenta: 0
- SaturationAdjustmentOrange: 0
- SaturationAdjustmentPurple: 0
- SaturationAdjustmentRed: 0
- SaturationAdjustmentYellow: 0
- ShadowTint: 0
- Shadows: 4
- SharpenDetail: 25
- SharpenEdgeMasking: 0
- SharpenRadius: +1.0
- Sharpness: 25
- SplitToningBalance: 0
- SplitToningHighlightHue: 0
- SplitToningHighlightSaturation: 0
- SplitToningShadowHue: 0
- SplitToningShadowSaturation: 0
- Tint: -1
- ToneCurve: 0, 0, 32, 22, 64, 56, 128, 128, 192, 196, 255, 255
- ToneCurveName: Medium Contrast
- Version: 6.4
- Vibrance: 0
- VignetteAmount: 0
- WhiteBalance: As Shot
- XMP-dc
- XMP-x
- XMP-xmp
- CreateDate: 2015:09:12 14:27:20.37
- ModifyDate: 2015:10:18 08:43:19+03:00
- Просмотров: 155
- Рейтинг: голосов еще нет
- Отзывов: 0
Получить код для блога
Вставка фотографии в текущем разрешении |
Вставка миниатюры |
HTML (для вставки в блог):
BBCode (для вставки в форум):
Ссылка на фото:
Ссылка на миниатюру:
- Послать ссылку другу
Комментарии к фотографии |