- Раздел: Тесты фототехники
- Дата съёмки: 25.09.2015 20:29
- Дата загрузки фото: 25.02.2016 02:52
- Оригинальная фотография: 5400 x 3600 (3,5 Мб)
- Технические характеристики:
- Фотоаппарат: Canon EOS 5D Mark III
- Выдержка: 0,4
- Гиперфокальное расстояние: inf m
- Диафрагма: 2,0
- Светочувствительность: 100
- Фокусное расстояние: 35,0 mm (35 mm equivalent: 35,0 mm)
- Полный EXIF
- Adobe
- ColorTransform: YCbCr
- Composite
- Aperture: 2,0
- CircleOfConfusion: 0,028 mm
- FOV: 54,0 deg
- FocalLength35efl: 35,0 mm (35 mm equivalent: 35,0 mm)
- HyperfocalDistance: inf m
- LensID: Canon EF35mm f/2 IS USM
- ScaleFactor35efl: 1,1
- ShutterSpeed: 0,4
- ExifIFD
- ApertureValue: 2,0
- ColorSpace: sRGB
- CreateDate: 2015:09:25 20:29:19
- CustomRendered: Normal
- DateTimeOriginal: 2015:09:25 20:29:19
- ExifImageHeight: 3600
- ExifImageWidth: 5400
- ExposureCompensation: 0
- ExposureMode: Manual
- ExposureProgram: Manual
- ExposureTime: 0,4
- FNumber: 2,0
- Flash: On, Fired
- FocalLength: 35,0 mm
- ISO: 100
- LensInfo: 35mm f/?
- LensModel: EF35mm f/2 IS USM
- LensSerialNumber: 0000002fd4
- MaxApertureValue: 2,0
- MeteringMode: Multi-segment
- RecommendedExposureIndex: 100
- SceneCaptureType: Standard
- SensitivityType: Recommended Exposure Index
- SerialNumber: 193029005760
- ShutterSpeedValue: 0,4
- WhiteBalance: Auto
- ICC-header
- ICC-meas
- ICC-view
- IFD0
- BitsPerSample: 8 8 8
- ImageHeight: 3600
- ImageWidth: 5400
- Make: Canon
- Model: Canon EOS 5D Mark III
- ModifyDate: 2016:02:25 02:50:28
- Orientation: Horizontal (normal)
- PhotometricInterpretation: RGB
- SamplesPerPixel: 3
- IFD1
- IPTC
- DateCreated: 2015:09:25
- System
- XMP-aux
- ApproximateFocusDistance: 1,87
- Firmware: 1.2.1
- FlashCompensation: 0
- ImageNumber: 0
- Lens: EF35mm f/2 IS USM
- LensID: 505
- XMP-crs
- AlreadyApplied: True
- AutoLateralCA: 1
- AutoWhiteVersion: 134348800
- Blacks2012: +37
- BlueHue: 0
- BlueSaturation: 0
- Clarity2012: +88
- ColorNoiseReduction: 27
- ColorNoiseReductionDetail: 50
- ColorNoiseReductionSmoothness: 50
- ColorTemperature: 5550
- Contrast2012: +55
- ConvertToGrayscale: True
- Exposure2012: -1.01
- GrainAmount: 0
- GrayMixerAqua: 0
- GrayMixerBlue: 0
- GrayMixerGreen: 0
- GrayMixerMagenta: 0
- GrayMixerOrange: 0
- GrayMixerPurple: 0
- GrayMixerRed: 0
- GrayMixerYellow: 0
- GreenHue: 0
- GreenSaturation: 0
- HasCrop: False
- HasSettings: True
- Highlights2012: -16
- LensManualDistortionAmount: 0
- LensProfileEnable: 0
- LensProfileSetup: LensDefaults
- LuminanceNoiseReductionContrast: 0
- LuminanceNoiseReductionDetail: 50
- LuminanceSmoothing: 15
- ParametricDarks: 0
- ParametricHighlightSplit: 75
- ParametricHighlights: 0
- ParametricLights: 0
- ParametricMidtoneSplit: 50
- ParametricShadowSplit: 25
- ParametricShadows: 0
- PerspectiveAspect: 0
- PerspectiveHorizontal: 0
- PerspectiveRotate: 0.0
- PerspectiveScale: 100
- PerspectiveUpright: 0
- PerspectiveVertical: 0
- PostCropVignetteAmount: -16
- PostCropVignetteFeather: 77
- PostCropVignetteHighlightContrast: 95
- PostCropVignetteMidpoint: 32
- PostCropVignetteRoundness: +52
- PostCropVignetteStyle: 1
- ProcessVersion: 6.7
- RedHue: 0
- RedSaturation: 0
- ShadowTint: 0
- Shadows2012: +12
- SharpenDetail: 25
- SharpenEdgeMasking: 16
- SharpenRadius: +1.0
- Sharpness: 75
- SplitToningBalance: 0
- SplitToningHighlightHue: 0
- SplitToningHighlightSaturation: 0
- SplitToningShadowHue: 0
- SplitToningShadowSaturation: 0
- Tint: -4
- ToneCurve: 0, 0, 255, 255
- ToneCurveBlue: 0, 0, 255, 255
- ToneCurveGreen: 0, 0, 255, 255
- ToneCurveName: Linear
- ToneCurveName2012: Custom
- ToneCurvePV2012: 1, 18, 79, 92, 201, 178, 255, 214
- ToneCurvePV2012Blue: 8, 6, 220, 220
- ToneCurvePV2012Green: 0, 0, 255, 255
- ToneCurvePV2012Red: 0, 0, 255, 255
- ToneCurveRed: 0, 0, 255, 255
- Version: 8.7.1
- VignetteAmount: +2
- VignetteMidpoint: 23
- WhiteBalance: Custom
- Whites2012: +52
- XMP-dc
- XMP-xmp
- CreateDate: 2015:09:25 20:29:19.52
- Label: Red
- ModifyDate: 2016:02:25 02:50:28+03:00
- Rating: 1
- XMP-xmpMM
- Просмотров: 301
- Рейтинг: голосов еще нет
- Отзывов: 0