- Раздел: Другое, разное
- Дата съёмки: неизвестно
- Дата загрузки фото: 05.03.2016 21:54
- Оригинальная фотография: 4278 x 2795 (9,4 Мб)
- Технические характеристики:
- Фотоаппарат: Pentax K-r
- Выдержка: 1/500
- Светочувствительность: 200
- Фокусное расстояние: 37,0 mm (35 mm equivalent: 37,0 mm)
- Полный EXIF
- Adobe
- ColorTransform: YCbCr
- Composite
- CircleOfConfusion: 0,020 mm
- FOV: 51,0 deg
- FocalLength35efl: 37,0 mm (35 mm equivalent: 37,0 mm)
- LensID: smc PENTAX-FA 28-105mm F4-5.6 [IF]
- ScaleFactor35efl: 1,5
- ShutterSpeed: 1/500
- ExifIFD
- CFAPattern: [Blue,Green][Green,Red]
- Contrast: Normal
- CreateDate: 2016:03:05 12:53:25
- CustomRendered: Normal
- DateTimeOriginal: 2016:03:05 12:53:25
- ExposureCompensation: 0
- ExposureMode: Manual
- ExposureProgram: Manual
- ExposureTime: 1/500
- Flash: Off, Did not fire
- FocalLength: 37,0 mm
- FocalLengthIn35mmFormat: 55 mm
- ISO: 200
- LensInfo: 28-105mm f/4-5.6
- LensModel: smc PENTAX-FA 28-105mm F4-5.6 [IF]
- MeteringMode: Center-weighted average
- Saturation: High
- SceneCaptureType: Standard
- SensingMethod: One-chip color area
- Sharpness: Hard
- ShutterSpeedValue: 1/500
- SubjectDistanceRange: Distant
- WhiteBalance: Auto
- ICC-header
- ICC-meas
- ICC-view
- IFD0
- Artist: BIKOV_VALERY
- Make: PENTAX
- Model: PENTAX K-r
- ModifyDate: 2016:03:05 20:47:36
- IFD1
- IPTC
- By-line: BIKOV_VALERY
- DateCreated: 2016:03:05
- System
- XMP-aux
- Lens: smc PENTAX-FA 28-105mm F4-5.6 [IF]
- LensID: 4 15
- VignetteCorrectionAlreadyApplied: True
- XMP-crs
- AlreadyApplied: True
- AutoLateralCA: 0
- AutoWhiteVersion: 134348800
- Blacks2012: 0
- BlueHue: 0
- BlueSaturation: 0
- Clarity2012: 0
- ColorNoiseReduction: 25
- ColorNoiseReductionDetail: 50
- ColorNoiseReductionSmoothness: 50
- ColorTemperature: 4800
- Contrast2012: 0
- ConvertToGrayscale: False
- CropAngle: 0
- CropBottom: 0.992129
- CropConstrainToWarp: 1
- CropLeft: 0.001131
- CropRight: 0.998862
- CropTop: 0.010746
- DefringeGreenAmount: 0
- DefringeGreenHueHi: 60
- DefringeGreenHueLo: 40
- DefringePurpleAmount: 0
- DefringePurpleHueHi: 70
- DefringePurpleHueLo: 30
- Dehaze: 0
- Exposure2012: +0.25
- GradientBasedCorrActive: true
- GradientBasedCorrAmount: 1.000000
- GradientBasedCorrBrightness: 0.000000
- GradientBasedCorrClarity: 0.000000
- GradientBasedCorrContrast: 0.000000
- GradientBasedCorrExposure: 0.000000
- GradientBasedCorrHue: 0.000000
- GradientBasedCorrMaskFullX: 0.507024
- GradientBasedCorrMaskFullY: 0.000000
- GradientBasedCorrMaskValue: 1.000000
- GradientBasedCorrMaskWhat: Mask/Gradient
- GradientBasedCorrMaskZeroX: 0.505747
- GradientBasedCorrMaskZeroY: 0.472115
- GradientBasedCorrSaturation: 0.000000
- GradientBasedCorrSharpness: 0.000000
- GradientBasedCorrWhat: Correction
- GradientBasedCorrectionsLocalBlacks2012: 0.000000
- GradientBasedCorrectionsLocalClarity2012: 0.200000
- GradientBasedCorrectionsLocalContrast2012: -0.210000
- GradientBasedCorrectionsLocalDefringe: 0.060000
- GradientBasedCorrectionsLocalExposure2012: -0.425000
- GradientBasedCorrectionsLocalHighlights2012: 0.000000
- GradientBasedCorrectionsLocalLuminanceNoise: 0.000000
- GradientBasedCorrectionsLocalMoire: 0.000000
- GradientBasedCorrectionsLocalShadows2012: 0.560000
- GradientBasedCorrectionsLocalTemperature: -0.270000
- GradientBasedCorrectionsLocalTint: 0.000000
- GradientBasedCorrectionsLocalWhites2012: 0.000000
- GrainAmount: 0
- GreenHue: 0
- GreenSaturation: 0
- HasCrop: True
- HasSettings: True
- Highlights2012: -100
- HueAdjustmentAqua: 0
- HueAdjustmentBlue: 0
- HueAdjustmentGreen: 0
- HueAdjustmentMagenta: 0
- HueAdjustmentOrange: 0
- HueAdjustmentPurple: 0
- HueAdjustmentRed: 0
- HueAdjustmentYellow: 0
- LensManualDistortionAmount: 0
- LensProfileEnable: 0
- LensProfileSetup: LensDefaults
- LuminanceAdjustmentAqua: 0
- LuminanceAdjustmentBlue: 0
- LuminanceAdjustmentGreen: 0
- LuminanceAdjustmentMagenta: 0
- LuminanceAdjustmentOrange: 0
- LuminanceAdjustmentPurple: 0
- LuminanceAdjustmentRed: 0
- LuminanceAdjustmentYellow: 0
- LuminanceSmoothing: 0
- ParametricDarks: 0
- ParametricHighlightSplit: 75
- ParametricHighlights: 0
- ParametricLights: 0
- ParametricMidtoneSplit: 50
- ParametricShadowSplit: 25
- ParametricShadows: 0
- PerspectiveAspect: 0
- PerspectiveHorizontal: 0
- PerspectiveRotate: +0.2
- PerspectiveScale: 100
- PerspectiveUpright: 0
- PerspectiveVertical: 0
- PostCropVignetteAmount: 0
- ProcessVersion: 6.7
- RawFileName: IMGP7485.PEF
- RedHue: 0
- RedSaturation: 0
- Saturation: 0
- SaturationAdjustmentAqua: 0
- SaturationAdjustmentBlue: 0
- SaturationAdjustmentGreen: 0
- SaturationAdjustmentMagenta: 0
- SaturationAdjustmentOrange: 0
- SaturationAdjustmentPurple: 0
- SaturationAdjustmentRed: 0
- SaturationAdjustmentYellow: 0
- ShadowTint: 0
- Shadows2012: +66
- SharpenDetail: 31
- SharpenEdgeMasking: 37
- SharpenRadius: +1.5
- Sharpness: 42
- SplitToningBalance: 0
- SplitToningHighlightHue: 0
- SplitToningHighlightSaturation: 0
- SplitToningShadowHue: 0
- SplitToningShadowSaturation: 0
- Tint: +15
- ToneCurve: 0, 0, 32, 22, 64, 56, 128, 128, 192, 196, 255, 255
- ToneCurveBlue: 0, 0, 255, 255
- ToneCurveGreen: 0, 0, 255, 255
- ToneCurveName: Medium Contrast
- ToneCurveName2012: Linear
- ToneCurvePV2012: 0, 0, 255, 255
- ToneCurvePV2012Blue: 0, 0, 255, 255
- ToneCurvePV2012Green: 0, 0, 255, 255
- ToneCurvePV2012Red: 0, 0, 255, 255
- ToneCurveRed: 0, 0, 255, 255
- ToneMapStrength: 0
- Version: 9.1.1
- Vibrance: 0
- VignetteAmount: +31
- VignetteMidpoint: 50
- WhiteBalance: As Shot
- Whites2012: +21
- XMP-dc
- Creator: BIKOV_VALERY
- Format: image/jpeg
- XMP-xmp
- ModifyDate: 2016:03:05 20:47:36+02:00
- XMP-xmpMM
- Просмотров: 415
- Рейтинг: голосов еще нет
- Отзывов: 0