- Раздел: Другое, разное
- Дата съёмки: неизвестно
- Дата загрузки фото: 16.03.2016 22:34
- Оригинальная фотография: 797 x 900 (275 Кб)
- Технические характеристики:
- Фотоаппарат: Olympus E-M1
- Выдержка: 1/50
- Гиперфокальное расстояние: inf m
- Диафрагма: 5,6
- Светочувствительность: 3200
- Фокусное расстояние: 20,0 mm (35 mm equivalent: 40,0 mm)
- Полный EXIF
- Adobe
- ColorTransform: YCbCr
- Composite
- Aperture: 5,6
- CircleOfConfusion: 0,015 mm
- FOV: 48,0 deg
- FocalLength35efl: 20,0 mm (35 mm equivalent: 40,0 mm)
- HyperfocalDistance: inf m
- ScaleFactor35efl: 2,0
- ShutterSpeed: 1/50
- ExifIFD
- ApertureValue: 5,6
- CFAPattern: [Blue,Green][Green,Red]
- ColorSpace: Uncalibrated
- Contrast: Normal
- CreateDate: 2016:03:14 12:52:25
- CustomRendered: Normal
- DateTimeOriginal: 2016:03:14 12:52:25
- DigitalZoomRatio: 1
- ExifImageHeight: 900
- ExifImageWidth: 797
- ExposureCompensation: 0
- ExposureMode: Auto
- ExposureProgram: Aperture-priority AE
- ExposureTime: 1/50
- FNumber: 5,6
- Flash: Auto, Did not fire
- FocalLength: 20,0 mm
- FocalLengthIn35mmFormat: 40 mm
- GainControl: High gain up
- ISO: 3200
- LensInfo: 14-150mm f/4-5.6
- LensModel: OLYMPUS M.14-150mm F4.0-5.6
- LensSerialNumber: AAK233455
- LightSource: Unknown
- MaxApertureValue: 4,0
- MeteringMode: Center-weighted average
- Saturation: Normal
- SceneCaptureType: Standard
- SensitivityType: Standard Output Sensitivity
- SerialNumber: BHP206666
- Sharpness: Normal
- ShutterSpeedValue: 1/50
- WhiteBalance: Auto
- ICC-header
- IFD0
- ImageDescription: OLYMPUS DIGITAL CAMERA
- Make: OLYMPUS IMAGING CORP.
- Model: E-M1
- ModifyDate: 2016:03:16 22:19:36
- Orientation: Horizontal (normal)
- IFD1
- IPTC
- Caption-Abstract: OLYMPUS DIGITAL CAMERA
- DateCreated: 2016:03:14
- System
- XMP-aux
- ApproximateFocusDistance: 1,22
- FlashCompensation: 0
- Lens: OLYMPUS M.14-150mm F4.0-5.6
- XMP-crs
- AlreadyApplied: True
- AutoLateralCA: 0
- AutoWhiteVersion: 134348800
- Blacks2012: -14
- BlueHue: 0
- BlueSaturation: 0
- CameraProfile: Camera Natural
- Clarity2012: 0
- ColorNoiseReduction: 25
- ColorNoiseReductionDetail: 50
- ColorNoiseReductionSmoothness: 50
- ColorTemperature: 4650
- Contrast2012: 0
- ConvertToGrayscale: False
- DefringeGreenAmount: 0
- DefringeGreenHueHi: 60
- DefringeGreenHueLo: 40
- DefringePurpleAmount: 0
- DefringePurpleHueHi: 70
- DefringePurpleHueLo: 30
- Exposure2012: 0.00
- GrainAmount: 0
- GreenHue: 0
- GreenSaturation: 0
- HasCrop: False
- HasSettings: True
- Highlights2012: -1
- HueAdjustmentAqua: 0
- HueAdjustmentBlue: 0
- HueAdjustmentGreen: 0
- HueAdjustmentMagenta: 0
- HueAdjustmentOrange: 0
- HueAdjustmentPurple: 0
- HueAdjustmentRed: 0
- HueAdjustmentYellow: 0
- LensManualDistortionAmount: 0
- LensProfileEnable: 0
- LensProfileSetup: LensDefaults
- LuminanceAdjustmentAqua: 0
- LuminanceAdjustmentBlue: 0
- LuminanceAdjustmentGreen: 0
- LuminanceAdjustmentMagenta: 0
- LuminanceAdjustmentOrange: 0
- LuminanceAdjustmentPurple: 0
- LuminanceAdjustmentRed: 0
- LuminanceAdjustmentYellow: 0
- LuminanceNoiseReductionContrast: 0
- LuminanceNoiseReductionDetail: 50
- LuminanceSmoothing: 30
- ParametricDarks: 0
- ParametricHighlightSplit: 75
- ParametricHighlights: 0
- ParametricLights: 0
- ParametricMidtoneSplit: 50
- ParametricShadowSplit: 25
- ParametricShadows: 0
- PerspectiveAspect: 0
- PerspectiveHorizontal: 0
- PerspectiveRotate: 0.0
- PerspectiveScale: 100
- PerspectiveUpright: 0
- PerspectiveVertical: 0
- PostCropVignetteAmount: 0
- ProcessVersion: 6.7
- RawFileName: P3140198.ORF
- RedHue: 0
- RedSaturation: 0
- Saturation: 0
- SaturationAdjustmentAqua: 0
- SaturationAdjustmentBlue: 0
- SaturationAdjustmentGreen: 0
- SaturationAdjustmentMagenta: 0
- SaturationAdjustmentOrange: 0
- SaturationAdjustmentPurple: 0
- SaturationAdjustmentRed: 0
- SaturationAdjustmentYellow: 0
- ShadowTint: 0
- Shadows2012: +41
- SharpenDetail: 25
- SharpenEdgeMasking: 25
- SharpenRadius: +0.5
- Sharpness: 35
- SplitToningBalance: 0
- SplitToningHighlightHue: 0
- SplitToningHighlightSaturation: 0
- SplitToningShadowHue: 0
- SplitToningShadowSaturation: 0
- Tint: -4
- ToneCurveName2012: Linear
- ToneCurvePV2012: 0, 0, 255, 255
- ToneCurvePV2012Blue: 0, 0, 255, 255
- ToneCurvePV2012Green: 0, 0, 255, 255
- ToneCurvePV2012Red: 0, 0, 255, 255
- Version: 8.3
- Vibrance: 0
- VignetteAmount: 0
- WhiteBalance: As Shot
- Whites2012: 0
- XMP-dc
- Description: OLYMPUS DIGITAL CAMERA
- Format: image/jpeg
- XMP-xmp
- CreatorTool: Version 3.0
- ModifyDate: 2016:03:16 22:19:36+03:00
- Rating: 0
- XMP-xmpMM
- Просмотров: 805
- Рейтинг: голосов еще нет
- Отзывов: 0